PDS_VERSION_ID = PDS3
/* FILE DATA ELEMENTS */
RECORD_TYPE = STREAM
/* POINTERS TO DATA OBJECTS */
^COMPRESSED_FILE = "HF581_0006_BL3.JP2"
/* IDENTIFICATION DATA ELEMENTS */
DATA_SET_ID = "MEX-M-HRSC-5-REFDR-MAPPROJECTED-V3.0"
DATA_SET_NAME = "MARS EXPRESS HRSC MAP PROJECTED REFDR V3.0"
DETECTOR_ID = MEX_HRSC_BLUE
EVENT_TYPE = "MARS-CLOUD-VARIABLE-Gl-At"
INSTRUMENT_HOST_ID = MEX
INSTRUMENT_HOST_NAME = "MARS EXPRESS"
INSTRUMENT_ID = HRSC
INSTRUMENT_NAME = "HIGH RESOLUTION STEREO CAMERA"
MISSION_NAME = "MARS EXPRESS"
MISSION_PHASE_NAME = ME_Phase_34
PROCESSING_LEVEL_ID = 3
PRODUCT_CREATION_TIME = 2016-11-08T12:40:53.000Z
PRODUCT_ID = "HF581_0006_BL3.JP2"
RELEASE_ID = 0133
REVISION_ID = 0000
/* QUALITY DATA ELEMENTS */
DATA_QUALITY_ID = 1
DATA_QUALITY_DESC = "Data calculated based on original SPICE kernels"
/* TIME DATA ELEMENTS */
SPACECRAFT_CLOCK_START_COUNT = "1/0408944400.08246"
SPACECRAFT_CLOCK_STOP_COUNT = "1/0408945315.30444"
START_TIME = 2016-04-17T03:45:59.709Z
STOP_TIME = 2016-04-17T03:55:20.712Z
/* ORBITAL DATA ELEMENTS */
ASCENDING_NODE_LONGITUDE = 281.2
MAXIMUM_RESOLUTION = 134.1
FOOTPRINT_POINT_LATITUDE = (76.9388,76.9703,76.9633,76.918,76.8351 ,76.7153,76.5597,76.3695,76.1459, 75.8902,75.6034,75.2869,75.0646,75.5813 ,76.0915,76.5952,77.0915,77.5796, 78.0589,78.5284,78.9873,79.4338,79.8668 ,80.2849,80.686,81.0681,81.4287,81.7652 ,82.3543,82.81,83.1065,83.2238,83.1534, 82.9011,82.4853,81.9314,81.2652,80.5105 ,79.6862,78.807,77.6499,76.9306,76.4401 ,75.9451,75.4439,74.6824,74.1696, 73.6521,73.9529,74.299,74.4919,74.6919, 74.7902,75.648,76.2158,76.7825,77.6325, 78.1982,79.0458,79.6104,80.1744,80.7384 ,81.3013,82.146,82.9889,83.8309,84.6708 ,85.2298,85.7872,86.3428,86.8958, 87.4443,88.2497,88.7572,89.1874,89.3582 ,89.1058,88.6492,88.1316,87.5933, 87.0439,86.4886,85.9299,85.3684,84.8052 ,84.2403,83.674,83.1064,82.5367,81.6821 ,80.8236,80.2495,79.6746,79.0994, 78.5227,77.9449,77.3661,76.7859, 76.9388)
FOOTPRINT_POINT_LONGITUDE = (62.6644,65.7339,68.7991,71.8458, 74.8563,77.8178,80.7148,83.5354,86.2726 ,88.9203,91.4754,93.9329,96.8644,97.858 ,98.9269,100.079,101.322,102.665, 104.119,105.696,107.407,109.267,111.29, 113.493,115.891,118.501,121.339,124.42, 131.343,139.282,148.093,157.442,166.848 ,175.812,183.959,191.108,197.239, 202.437,206.824,210.529,214.384,216.356 ,217.546,218.654,219.682,221.093, 221.955,222.761,225.852,230.036,233.121 ,237.769,242.96,244.305,244.43,244.566, 244.786,244.949,245.221,245.424,245.65, 245.895,246.176,246.651,247.243,247.976 ,248.948,249.762,250.807,252.162, 253.981,256.602,263.531,273.055,293.952 ,337.672,16.5948,33.9821,42.2055, 46.8467,49.7717,51.7799,53.247,54.3619, 55.2416,55.9526,56.5392,57.0321,57.448, 57.9798,58.4119,58.6586,58.8814,59.085, 59.2686,59.4367,59.5913,59.7333, 62.6644)
ORBIT_NUMBER = 15581
ORBITAL_ECCENTRICITY = 0.578
ORBITAL_INCLINATION = 86.91
ORBITAL_SEMIMAJOR_AXIS = 8871.98
PERIAPSIS_ALTITUDE = 347.33
PERIAPSIS_ARGUMENT_ANGLE = 173.88
PERIAPSIS_TIME = 2016-04-17T04:18:21.000Z
SPACECRAFT_ORIENTATION = (0.0,-1.0,0.0)
^MEX_ORIENTATION_DESC = "MEX_ORIENTATION_DESC.TXT"
SPACECRAFT_POINTING_MODE = INERT
^MEX_POINTING_DESC = "MEX_POINTING_DESC.TXT"
RIGHT_ASCENSION = 332.392
DECLINATION = -42.347
OFFSET_ANGLE = -1e+32
SPACECRAFT_SOLAR_DISTANCE = 2.34336e+08
TARGET_NAME = MARS
/* CAMERA DATA ELEMENTS */
DETECTOR_TEMPERATURE = 20.2056
FOCAL_PLANE_TEMPERATURE = 8.1755
INST_CMPRS_NAME = "DISCRETE COSINE TRANSFORMATION (DCT)"
INST_CMPRS_RATIO = 28.3936
INST_CMPRS_QUALITY = 0
INST_CMPRS_QUANTZ_TBL_ID = 0
INSTRUMENT_TEMPERATURE = 14.2925
LENS_TEMPERATURE = 9.195
MACROPIXEL_SIZE = 2
MISSING_FRAMES = 0
PIXEL_SUBSAMPLING_FLAG = N
SIGNAL_CHAIN_ID = 2
/* RADIOMETRIC DATA ELEMENTS */
BANDWIDTH = 76.0
CENTER_FILTER_WAVELENGTH = 444.0
RADIANCE_OFFSET = 0.179615
RADIANCE_SCALING_FACTOR = 0.010096
REFLECTANCE_SCALING_FACTOR = 0.000569644
MEX:REFLECTANCE_OFFSET = 0.0101344
/* IMAGE OBJECT DEFINITIONS */
OBJECT = IMAGE
  INTERCHANGE_FORMAT = BINARY
  LINES = 11026
  LINE_SAMPLES = 17031
  SAMPLE_TYPE = UNSIGNED_INTEGER
  SAMPLE_BITS = 8
  BANDS = 1
  BAND_STORAGE_TYPE = BAND_SEQUENTIAL
  MAXIMUM = 255
  MEAN = 87.4685
  MINIMUM = 1
  STANDARD_DEVIATION = 51.2133
END_OBJECT = IMAGE
/* MAP OBJECT DEFINITIONS */
OBJECT = IMAGE_MAP_PROJECTION
  ^DATA_SET_MAP_PROJECTION_CATALOG= "DSMAP.CAT"
  A_AXIS_RADIUS = 3396.0
  B_AXIS_RADIUS = 3396.0
  C_AXIS_RADIUS = 3396.0
  CENTER_LATITUDE = 90.0
  CENTER_LONGITUDE = 0.0
  COORDINATE_SYSTEM_NAME = PLANETOGRAPHIC
  COORDINATE_SYSTEM_TYPE = "BODY-FIXED ROTATING"
  EASTERNMOST_LONGITUDE = 360.0
  FIRST_STANDARD_PARALLEL = "N/A"
  LINE_FIRST_PIXEL = 1
  LINE_LAST_PIXEL = 11026
  LINE_PROJECTION_OFFSET = 7117.0
  MAP_PROJECTION_ROTATION = 0
  MAP_PROJECTION_TYPE = STEREOGRAPHIC
  MAP_RESOLUTION = 592.713803866667
  MAP_SCALE = 0.1
  MAXIMUM_LATITUDE = 90.0
  MINIMUM_LATITUDE = 73.6521
  POSITIVE_LONGITUDE_DIRECTION = EAST
  REFERENCE_LATITUDE = "N/A"
  REFERENCE_LONGITUDE = "N/A"
  SAMPLE_FIRST_PIXEL = 1
  SAMPLE_LAST_PIXEL = 17031
  SAMPLE_PROJECTION_OFFSET = 8100.0
  SECOND_STANDARD_PARALLEL = "N/A"
  WESTERNMOST_LONGITUDE = 0.0
END_OBJECT = IMAGE_MAP_PROJECTION
/* The JPEG2000 image data file associated with this label. */
OBJECT = COMPRESSED_FILE
  FILE_NAME = "HF581_0006_BL3.JP2"
  RECORD_TYPE = UNDEFINED
  FILE_RECORDS = UNK
  ENCODING_TYPE = "JP2"
  INTERCHANGE_FORMAT = BINARY
  UNCOMPRESSED_FILE_NAME = "HF581_0006_BL3.IMG"
  REQUIRED_STORAGE_BYTES = "187834899"
  ^DESCRIPTION = "JP2INFO.TXT"
END_OBJECT = COMPRESSED_FILE
END
