PDS_VERSION_ID = PDS3
/* FILE DATA ELEMENTS */
RECORD_TYPE = STREAM
/* POINTERS TO DATA OBJECTS */
^COMPRESSED_FILE = "HF597_0000_P23.JP2"
/* IDENTIFICATION DATA ELEMENTS */
DATA_SET_ID = "MEX-M-HRSC-5-REFDR-MAPPROJECTED-V3.0"
DATA_SET_NAME = "MARS EXPRESS HRSC MAP PROJECTED REFDR V3.0"
DETECTOR_ID = MEX_HRSC_P2
EVENT_TYPE = "MARS-REGIONAL-MAPPING-Te-Fl-Pf"
INSTRUMENT_HOST_ID = MEX
INSTRUMENT_HOST_NAME = "MARS EXPRESS"
INSTRUMENT_ID = HRSC
INSTRUMENT_NAME = "HIGH RESOLUTION STEREO CAMERA"
MISSION_NAME = "MARS EXPRESS"
MISSION_PHASE_NAME = ME_Phase_34
PROCESSING_LEVEL_ID = 3
PRODUCT_CREATION_TIME = 2016-11-08T12:40:53.000Z
PRODUCT_ID = "HF597_0000_P23.JP2"
RELEASE_ID = 0133
REVISION_ID = 0000
/* QUALITY DATA ELEMENTS */
DATA_QUALITY_ID = 1
DATA_QUALITY_DESC = "Data calculated based on original SPICE kernels"
/* TIME DATA ELEMENTS */
SPACECRAFT_CLOCK_START_COUNT = "1/0409348886.09048"
SPACECRAFT_CLOCK_STOP_COUNT = "1/0409349239.50191"
START_TIME = 2016-04-21T20:04:09.343Z
STOP_TIME = 2016-04-21T20:07:07.006Z
/* ORBITAL DATA ELEMENTS */
ASCENDING_NODE_LONGITUDE = 280.9
MAXIMUM_RESOLUTION = 46.1
FOOTPRINT_POINT_LATITUDE = (52.1086,52.1003,52.0952,52.0894,52.083 ,52.0759,52.0681,52.0596,52.0504, 52.0404,52.0912,51.8447,51.5976,51.242, 51.0212,50.7992,50.5775,50.2438,50.0211 ,49.7979,49.5744,49.2393,49.0185,48.687 ,48.4685,48.1411,47.8174,47.6015, 47.3882,47.0682,46.8575,46.6459,46.4368 ,46.2288,46.0203,45.8108,45.6042, 45.3925,45.1845,44.9919,44.7917,44.5922 ,44.2901,44.0878,43.7858,43.5884, 43.2936,43.1011,42.9086,42.523,42.1411, 41.7636,41.5322,41.5346,41.5377,41.5388 ,41.5383,41.5364,41.7254,42.1058, 42.5846,42.8759,43.1704,43.3693,43.5715 ,43.7712,44.0659,44.2662,44.5636, 44.7646,44.9712,45.2794,45.4869,45.7973 ,46.0057,46.3183,46.5277,46.7409, 46.9547,47.2759,47.491,47.8169,48.0346, 48.2518,48.4729,48.8036,49.1373,49.3611 ,49.6997,49.9256,50.2639,50.4888, 50.7135,50.9376,51.1619,51.3855,51.6271 ,51.8768,52.1261,52.1086)
FOOTPRINT_POINT_LONGITUDE = (40.4941,39.8681,39.5539,39.2383, 38.9218,38.6045,38.2863,37.9669,37.6462 ,37.324,36.764,36.8135,36.8624,36.9313, 36.9725,37.0144,37.0547,37.1149,37.1541 ,37.1929,37.2311,37.2877,37.3238,37.378 ,37.4128,37.4639,37.5131,37.5451, 37.5768,37.6229,37.653,37.6839,37.7115, 37.7403,37.7688,37.7995,37.8283,37.8635 ,37.8945,37.9067,37.9285,37.9497, 37.9894,38.0162,38.0577,38.0808,38.1137 ,38.1332,38.1522,38.1925,38.2316, 38.2674,38.5044,38.9794,39.3948,40.0387 ,40.4968,40.8002,40.9613,40.963,40.965, 40.9661,40.9672,40.968,40.9687,40.9694, 40.9704,40.971,40.9718,40.9724,40.973, 40.9738,40.9743,40.975,40.9755,40.976, 40.9763,40.9767,40.977,40.9774,40.9776, 40.9779,40.978,40.978,40.978,40.9779, 40.9777,40.9776,40.9771,40.9768,40.9763 ,40.9758,40.9753,40.9747,40.9741, 40.9734,40.9726,40.9716,40.9706, 40.4941)
ORBIT_NUMBER = 15597
ORBITAL_ECCENTRICITY = 0.577
ORBITAL_INCLINATION = 86.91
ORBITAL_SEMIMAJOR_AXIS = 8862.98
PERIAPSIS_ALTITUDE = 349.11
PERIAPSIS_ARGUMENT_ANGLE = 171.15
PERIAPSIS_TIME = 2016-04-21T20:15:15.000Z
SPACECRAFT_ORIENTATION = (0.0,-1.0,0.0)
^MEX_ORIENTATION_DESC = "MEX_ORIENTATION_DESC.TXT"
SPACECRAFT_POINTING_MODE = ACROSSTRACK
^MEX_POINTING_DESC = "MEX_POINTING_DESC.TXT"
RIGHT_ASCENSION = -1e+32
DECLINATION = -1e+32
OFFSET_ANGLE = -0.95
SPACECRAFT_SOLAR_DISTANCE = 2.33487e+08
TARGET_NAME = MARS
/* CAMERA DATA ELEMENTS */
DETECTOR_TEMPERATURE = 18.3705
FOCAL_PLANE_TEMPERATURE = 7.3599
INST_CMPRS_NAME = "DISCRETE COSINE TRANSFORMATION (DCT)"
INST_CMPRS_RATIO = 5.63386
INST_CMPRS_QUALITY = 0
INST_CMPRS_QUANTZ_TBL_ID = 0
INSTRUMENT_TEMPERATURE = 11.234
LENS_TEMPERATURE = 8.1755
MACROPIXEL_SIZE = 2
MISSING_FRAMES = 0
PIXEL_SUBSAMPLING_FLAG = N
SIGNAL_CHAIN_ID = 3
/* RADIOMETRIC DATA ELEMENTS */
BANDWIDTH = 177.0
CENTER_FILTER_WAVELENGTH = 676.5
RADIANCE_OFFSET = 1.03432
RADIANCE_SCALING_FACTOR = 0.0165851
REFLECTANCE_SCALING_FACTOR = 0.000479409
MEX:REFLECTANCE_OFFSET = 0.0298979
/* IMAGE OBJECT DEFINITIONS */
OBJECT = IMAGE
  INTERCHANGE_FORMAT = BINARY
  LINES = 12702
  LINE_SAMPLES = 3541
  SAMPLE_TYPE = UNSIGNED_INTEGER
  SAMPLE_BITS = 8
  BANDS = 1
  BAND_STORAGE_TYPE = BAND_SEQUENTIAL
  MAXIMUM = 255
  MEAN = 62.548
  MINIMUM = 1
  STANDARD_DEVIATION = 19.0053
END_OBJECT = IMAGE
/* MAP OBJECT DEFINITIONS */
OBJECT = IMAGE_MAP_PROJECTION
  ^DATA_SET_MAP_PROJECTION_CATALOG= "DSMAP.CAT"
  A_AXIS_RADIUS = 3396.0
  B_AXIS_RADIUS = 3396.0
  C_AXIS_RADIUS = 3396.0
  CENTER_LATITUDE = 0.0
  CENTER_LONGITUDE = 39.0
  COORDINATE_SYSTEM_NAME = PLANETOGRAPHIC
  COORDINATE_SYSTEM_TYPE = "BODY-FIXED ROTATING"
  EASTERNMOST_LONGITUDE = 40.978
  FIRST_STANDARD_PARALLEL = "N/A"
  LINE_FIRST_PIXEL = 1
  LINE_LAST_PIXEL = 12702
  LINE_PROJECTION_OFFSET = 61885.75
  MAP_PROJECTION_ROTATION = 0.0
  MAP_PROJECTION_TYPE = SINUSOIDAL
  MAP_RESOLUTION = 1185.42760773333
  MAP_SCALE = 0.05
  MAXIMUM_LATITUDE = 52.1261
  MINIMUM_LATITUDE = 41.5322
  POSITIVE_LONGITUDE_DIRECTION = EAST
  REFERENCE_LATITUDE = "N/A"
  REFERENCE_LONGITUDE = "N/A"
  SAMPLE_FIRST_PIXEL = 1
  SAMPLE_LAST_PIXEL = 3541
  SAMPLE_PROJECTION_OFFSET = 1742.25
  SECOND_STANDARD_PARALLEL = "N/A"
  WESTERNMOST_LONGITUDE = 36.764
END_OBJECT = IMAGE_MAP_PROJECTION
/* The JPEG2000 image data file associated with this label. */
OBJECT = COMPRESSED_FILE
  FILE_NAME = "HF597_0000_P23.JP2"
  RECORD_TYPE = UNDEFINED
  FILE_RECORDS = UNK
  ENCODING_TYPE = "JP2"
  INTERCHANGE_FORMAT = BINARY
  UNCOMPRESSED_FILE_NAME = "HF597_0000_P23.IMG"
  REQUIRED_STORAGE_BYTES = "44999028"
  ^DESCRIPTION = "JP2INFO.TXT"
END_OBJECT = COMPRESSED_FILE
END
