PDS_VERSION_ID = PDS3
/* FILE DATA ELEMENTS */
RECORD_TYPE = STREAM
/* POINTERS TO DATA OBJECTS */
^COMPRESSED_FILE = "HF599_0000_RE3.JP2"
/* IDENTIFICATION DATA ELEMENTS */
DATA_SET_ID = "MEX-M-HRSC-5-REFDR-MAPPROJECTED-V3.0"
DATA_SET_NAME = "MARS EXPRESS HRSC MAP PROJECTED REFDR V3.0"
DETECTOR_ID = MEX_HRSC_RED
EVENT_TYPE = "MARS-REGIONAL-MAPPING-Im-Fl-Pf"
INSTRUMENT_HOST_ID = MEX
INSTRUMENT_HOST_NAME = "MARS EXPRESS"
INSTRUMENT_ID = HRSC
INSTRUMENT_NAME = "HIGH RESOLUTION STEREO CAMERA"
MISSION_NAME = "MARS EXPRESS"
MISSION_PHASE_NAME = ME_Phase_34
PROCESSING_LEVEL_ID = 3
PRODUCT_CREATION_TIME = 2016-11-08T12:40:53.000Z
PRODUCT_ID = "HF599_0000_RE3.JP2"
RELEASE_ID = 0133
REVISION_ID = 0000
/* QUALITY DATA ELEMENTS */
DATA_QUALITY_ID = 1
DATA_QUALITY_DESC = "Data calculated based on original SPICE kernels"
/* TIME DATA ELEMENTS */
SPACECRAFT_CLOCK_START_COUNT = "1/0409399002.09054"
SPACECRAFT_CLOCK_STOP_COUNT = "1/0409399434.11504"
START_TIME = 2016-04-22T10:01:02.707Z
STOP_TIME = 2016-04-22T10:03:47.217Z
/* ORBITAL DATA ELEMENTS */
ASCENDING_NODE_LONGITUDE = 280.86
MAXIMUM_RESOLUTION = 121.7
FOOTPRINT_POINT_LATITUDE = (62.4641,62.4562,62.4468,62.436,62.4187 ,62.3987,62.3825,62.3602,62.3408, 62.3199,62.2974,62.2735,62.3712,62.1694 ,61.9695,61.7694,61.571,61.3725,61.1758 ,60.9787,60.783,60.5877,60.3941,60.2002 ,59.9124,59.7206,59.5295,59.3391, 59.1499,58.9611,58.7735,58.5861,58.4004 ,58.2145,58.0299,57.8458,57.6621, 57.4795,57.2968,56.8449,56.4866,56.0421 ,55.6018,55.2529,54.9921,54.6476, 54.3025,53.9566,53.6098,53.2621,53.038, 53.0513,53.0652,53.0743,53.0827,53.0929 ,53.1002,53.1077,53.1159,53.1207, 53.1261,53.1311,53.3096,53.6602,54.011, 54.3604,54.709,54.9702,55.2321,55.5834, 55.9383,56.2959,56.6558,57.0185,57.3841 ,57.6613,57.8462,58.0327,58.2192,58.501 ,58.6895,58.9741,59.164,59.3558,59.5474 ,59.7408,59.9344,60.1292,60.3242, 60.5206,60.7175,60.9157,61.1142,61.314, 61.5143,61.817,62.1212,62.325,62.5301, 62.4641)
FOOTPRINT_POINT_LONGITUDE = (197.713,197.208,196.705,196.202, 195.511,194.821,194.32,193.695,193.195, 192.695,192.195,191.695,191.309,191.382 ,191.453,191.523,191.591,191.658, 191.723,191.787,191.85,191.911,191.971, 192.03,192.116,192.172,192.227,192.281, 192.334,192.386,192.437,192.487,192.536 ,192.584,192.631,192.677,192.722, 192.767,192.811,192.917,192.998,193.096 ,193.189,193.261,193.314,193.381, 193.447,193.512,193.575,193.636,193.675 ,194.069,194.505,194.822,195.138, 195.533,195.85,196.206,196.643,196.959, 197.356,197.793,197.931,197.942,197.953 ,197.964,197.974,197.983,197.991, 198.002,198.014,198.025,198.037,198.049 ,198.06,198.07,198.076,198.082,198.089, 198.098,198.105,198.115,198.121,198.128 ,198.134,198.141,198.148,198.154, 198.161,198.168,198.175,198.182,198.189 ,198.196,198.203,198.215,198.226, 198.233,198.241,197.713)
ORBIT_NUMBER = 15599
ORBITAL_ECCENTRICITY = 0.577
ORBITAL_INCLINATION = 86.91
ORBITAL_SEMIMAJOR_AXIS = 8854.42
PERIAPSIS_ALTITUDE = 349.69
PERIAPSIS_ARGUMENT_ANGLE = 170.77
PERIAPSIS_TIME = 2016-04-22T10:14:49.000Z
SPACECRAFT_ORIENTATION = (0.0,-1.0,0.0)
^MEX_ORIENTATION_DESC = "MEX_ORIENTATION_DESC.TXT"
SPACECRAFT_POINTING_MODE = NADIR
^MEX_POINTING_DESC = "MEX_POINTING_DESC.TXT"
RIGHT_ASCENSION = -1e+32
DECLINATION = -1e+32
OFFSET_ANGLE = -1e+32
SPACECRAFT_SOLAR_DISTANCE = 2.33379e+08
TARGET_NAME = MARS
/* CAMERA DATA ELEMENTS */
DETECTOR_TEMPERATURE = 18.3705
FOCAL_PLANE_TEMPERATURE = 8.1755
INST_CMPRS_NAME = "DISCRETE COSINE TRANSFORMATION (DCT)"
INST_CMPRS_RATIO = 17.3004
INST_CMPRS_QUALITY = 0
INST_CMPRS_QUANTZ_TBL_ID = 0
INSTRUMENT_TEMPERATURE = 10.8262
LENS_TEMPERATURE = 8.1755
MACROPIXEL_SIZE = 4
MISSING_FRAMES = 0
PIXEL_SUBSAMPLING_FLAG = N
SIGNAL_CHAIN_ID = 2
/* RADIOMETRIC DATA ELEMENTS */
BANDWIDTH = 48.0
CENTER_FILTER_WAVELENGTH = 748.0
RADIANCE_OFFSET = 0.296142
RADIANCE_SCALING_FACTOR = 0.00247157
REFLECTANCE_SCALING_FACTOR = 0.000307209
MEX:REFLECTANCE_OFFSET = 0.0368096
/* IMAGE OBJECT DEFINITIONS */
OBJECT = IMAGE
  INTERCHANGE_FORMAT = BINARY
  LINES = 5685
  LINE_SAMPLES = 2217
  SAMPLE_TYPE = UNSIGNED_INTEGER
  SAMPLE_BITS = 8
  BANDS = 1
  BAND_STORAGE_TYPE = BAND_SEQUENTIAL
  MAXIMUM = 255
  MEAN = 95.0375
  MINIMUM = 1
  STANDARD_DEVIATION = 21.9701
END_OBJECT = IMAGE
/* MAP OBJECT DEFINITIONS */
OBJECT = IMAGE_MAP_PROJECTION
  ^DATA_SET_MAP_PROJECTION_CATALOG= "DSMAP.CAT"
  A_AXIS_RADIUS = 3396.0
  B_AXIS_RADIUS = 3396.0
  C_AXIS_RADIUS = 3396.0
  CENTER_LATITUDE = 0.0
  CENTER_LONGITUDE = 195.0
  COORDINATE_SYSTEM_NAME = PLANETOGRAPHIC
  COORDINATE_SYSTEM_TYPE = "BODY-FIXED ROTATING"
  EASTERNMOST_LONGITUDE = 198.241
  FIRST_STANDARD_PARALLEL = "N/A"
  LINE_FIRST_PIXEL = 1
  LINE_LAST_PIXEL = 5685
  LINE_PROJECTION_OFFSET = 37101.125
  MAP_PROJECTION_ROTATION = 0.0
  MAP_PROJECTION_TYPE = SINUSOIDAL
  MAP_RESOLUTION = 592.713803866667
  MAP_SCALE = 0.1
  MAXIMUM_LATITUDE = 62.5301
  MINIMUM_LATITUDE = 53.038
  POSITIVE_LONGITUDE_DIRECTION = EAST
  REFERENCE_LATITUDE = "N/A"
  REFERENCE_LONGITUDE = "N/A"
  SAMPLE_FIRST_PIXEL = 1
  SAMPLE_LAST_PIXEL = 2217
  SAMPLE_PROJECTION_OFFSET = 1112.625
  SECOND_STANDARD_PARALLEL = "N/A"
  WESTERNMOST_LONGITUDE = 191.309
END_OBJECT = IMAGE_MAP_PROJECTION
/* The JPEG2000 image data file associated with this label. */
OBJECT = COMPRESSED_FILE
  FILE_NAME = "HF599_0000_RE3.JP2"
  RECORD_TYPE = UNDEFINED
  FILE_RECORDS = UNK
  ENCODING_TYPE = "JP2"
  INTERCHANGE_FORMAT = BINARY
  UNCOMPRESSED_FILE_NAME = "HF599_0000_RE3.IMG"
  REQUIRED_STORAGE_BYTES = "12625815"
  ^DESCRIPTION = "JP2INFO.TXT"
END_OBJECT = COMPRESSED_FILE
END
