PDS_VERSION_ID = PDS3
/* FILE DATA ELEMENTS */
RECORD_TYPE = STREAM
/* POINTERS TO DATA OBJECTS */
^COMPRESSED_FILE = "HF599_0000_S13.JP2"
/* IDENTIFICATION DATA ELEMENTS */
DATA_SET_ID = "MEX-M-HRSC-5-REFDR-MAPPROJECTED-V3.0"
DATA_SET_NAME = "MARS EXPRESS HRSC MAP PROJECTED REFDR V3.0"
DETECTOR_ID = MEX_HRSC_S1
EVENT_TYPE = "MARS-REGIONAL-MAPPING-Im-Fl-Pf"
INSTRUMENT_HOST_ID = MEX
INSTRUMENT_HOST_NAME = "MARS EXPRESS"
INSTRUMENT_ID = HRSC
INSTRUMENT_NAME = "HIGH RESOLUTION STEREO CAMERA"
MISSION_NAME = "MARS EXPRESS"
MISSION_PHASE_NAME = ME_Phase_34
PROCESSING_LEVEL_ID = 3
PRODUCT_CREATION_TIME = 2016-11-08T12:40:53.000Z
PRODUCT_ID = "HF599_0000_S13.JP2"
RELEASE_ID = 0133
REVISION_ID = 0000
/* QUALITY DATA ELEMENTS */
DATA_QUALITY_ID = 1
DATA_QUALITY_DESC = "Data calculated based on original SPICE kernels"
/* TIME DATA ELEMENTS */
SPACECRAFT_CLOCK_START_COUNT = "1/0409399002.09054"
SPACECRAFT_CLOCK_STOP_COUNT = "1/0409399434.11504"
START_TIME = 2016-04-22T09:56:49.426Z
STOP_TIME = 2016-04-22T10:00:55.748Z
/* ORBITAL DATA ELEMENTS */
ASCENDING_NODE_LONGITUDE = 280.86
MAXIMUM_RESOLUTION = 78.2
FOOTPRINT_POINT_LATITUDE = (62.7548,62.7492,62.739,62.7243,62.7049 ,62.6707,62.6403,62.6054,62.5659, 62.5218,62.473,62.4197,62.3617,62.1022, 61.9046,61.7084,61.5115,61.3156,61.1205 ,60.8285,60.5379,60.3443,60.1514, 59.8646,59.6732,59.4825,59.2923,59.1023 ,58.9132,58.7248,58.5373,58.2561, 58.0697,57.8843,57.6993,57.5142,57.1458 ,56.7802,56.3261,55.9647,55.6063, 55.2495,54.8951,54.543,54.2805,54.019, 53.7585,53.4134,53.1559,52.95,52.9743, 53.0023,53.0224,53.0406,53.0552,53.0695 ,53.0822,53.0918,53.1033,53.1105, 53.1159,53.206,53.6423,53.9056,54.1701, 54.5248,54.9717,55.2418,55.513,55.877, 56.2434,56.7053,57.1709,57.4523,57.6403 ,57.9245,58.1138,58.3043,58.4958, 58.6876,58.8802,59.0733,59.2672,59.4616 ,59.6568,59.8525,60.0496,60.2472, 60.5448,60.7427,60.9423,61.1424,61.3435 ,61.5451,61.7473,61.95,62.1538,62.3579, 62.5631,62.7548)
FOOTPRINT_POINT_LONGITUDE = (199.157,198.428,197.701,196.975,196.25 ,195.256,194.535,193.816,193.1,192.384, 191.67,190.958,190.247,190.221,190.311, 190.4,190.487,190.572,190.655,190.777, 190.895,190.972,191.047,191.158,191.23, 191.3,191.369,191.437,191.503,191.568, 191.632,191.726,191.787,191.847,191.906 ,191.964,192.076,192.184,192.314, 192.414,192.511,192.604,192.694,192.781 ,192.844,192.906,192.966,193.044, 193.101,193.145,193.559,194.078,194.494 ,194.91,195.273,195.689,196.106,196.471 ,196.992,197.462,197.932,198.533, 198.569,198.591,198.614,198.645,198.685 ,198.71,198.735,198.77,198.807,198.853, 198.902,198.933,198.953,198.985,199.007 ,199.029,199.051,199.074,199.098, 199.121,199.145,199.17,199.195,199.221, 199.247,199.273,199.314,199.342,199.371 ,199.4,199.43,199.46,199.492,199.523, 199.556,199.589,199.623,199.157)
ORBIT_NUMBER = 15599
ORBITAL_ECCENTRICITY = 0.577
ORBITAL_INCLINATION = 86.91
ORBITAL_SEMIMAJOR_AXIS = 8854.42
PERIAPSIS_ALTITUDE = 349.69
PERIAPSIS_ARGUMENT_ANGLE = 170.77
PERIAPSIS_TIME = 2016-04-22T10:14:49.000Z
SPACECRAFT_ORIENTATION = (0.0,-1.0,0.0)
^MEX_ORIENTATION_DESC = "MEX_ORIENTATION_DESC.TXT"
SPACECRAFT_POINTING_MODE = NADIR
^MEX_POINTING_DESC = "MEX_POINTING_DESC.TXT"
RIGHT_ASCENSION = -1e+32
DECLINATION = -1e+32
OFFSET_ANGLE = -1e+32
SPACECRAFT_SOLAR_DISTANCE = 2.33379e+08
TARGET_NAME = MARS
/* CAMERA DATA ELEMENTS */
DETECTOR_TEMPERATURE = 17.351
FOCAL_PLANE_TEMPERATURE = 8.1755
INST_CMPRS_NAME = "DISCRETE COSINE TRANSFORMATION (DCT)"
INST_CMPRS_RATIO = 9.00911
INST_CMPRS_QUALITY = 0
INST_CMPRS_QUANTZ_TBL_ID = 0
INSTRUMENT_TEMPERATURE = 10.8262
LENS_TEMPERATURE = 8.1755
MACROPIXEL_SIZE = 2
MISSING_FRAMES = 0
PIXEL_SUBSAMPLING_FLAG = N
SIGNAL_CHAIN_ID = 1
/* RADIOMETRIC DATA ELEMENTS */
BANDWIDTH = 180.0
CENTER_FILTER_WAVELENGTH = 677.0
RADIANCE_OFFSET = 1.25611
RADIANCE_SCALING_FACTOR = 0.0093387
REFLECTANCE_SCALING_FACTOR = 0.000265377
MEX:REFLECTANCE_OFFSET = 0.0356946
/* IMAGE OBJECT DEFINITIONS */
OBJECT = IMAGE
  INTERCHANGE_FORMAT = BINARY
  LINES = 11369
  LINE_SAMPLES = 4434
  SAMPLE_TYPE = UNSIGNED_INTEGER
  SAMPLE_BITS = 8
  BANDS = 1
  BAND_STORAGE_TYPE = BAND_SEQUENTIAL
  MAXIMUM = 255
  MEAN = 103.54
  MINIMUM = 1
  STANDARD_DEVIATION = 22.7937
END_OBJECT = IMAGE
/* MAP OBJECT DEFINITIONS */
OBJECT = IMAGE_MAP_PROJECTION
  ^DATA_SET_MAP_PROJECTION_CATALOG= "DSMAP.CAT"
  A_AXIS_RADIUS = 3396.0
  B_AXIS_RADIUS = 3396.0
  C_AXIS_RADIUS = 3396.0
  CENTER_LATITUDE = 0.0
  CENTER_LONGITUDE = 195.0
  COORDINATE_SYSTEM_NAME = PLANETOGRAPHIC
  COORDINATE_SYSTEM_TYPE = "BODY-FIXED ROTATING"
  EASTERNMOST_LONGITUDE = 199.623
  FIRST_STANDARD_PARALLEL = "N/A"
  LINE_FIRST_PIXEL = 1
  LINE_LAST_PIXEL = 11369
  LINE_PROJECTION_OFFSET = 74202.75
  MAP_PROJECTION_ROTATION = 0.0
  MAP_PROJECTION_TYPE = SINUSOIDAL
  MAP_RESOLUTION = 1185.42760773333
  MAP_SCALE = 0.05
  MAXIMUM_LATITUDE = 62.7548
  MINIMUM_LATITUDE = 52.95
  POSITIVE_LONGITUDE_DIRECTION = EAST
  REFERENCE_LATITUDE = "N/A"
  REFERENCE_LONGITUDE = "N/A"
  SAMPLE_FIRST_PIXEL = 1
  SAMPLE_LAST_PIXEL = 4434
  SAMPLE_PROJECTION_OFFSET = 2225.75
  SECOND_STANDARD_PARALLEL = "N/A"
  WESTERNMOST_LONGITUDE = 190.221
END_OBJECT = IMAGE_MAP_PROJECTION
/* The JPEG2000 image data file associated with this label. */
OBJECT = COMPRESSED_FILE
  FILE_NAME = "HF599_0000_S13.JP2"
  RECORD_TYPE = UNDEFINED
  FILE_RECORDS = UNK
  ENCODING_TYPE = "JP2"
  INTERCHANGE_FORMAT = BINARY
  UNCOMPRESSED_FILE_NAME = "HF599_0000_S13.IMG"
  REQUIRED_STORAGE_BYTES = "50436750"
  ^DESCRIPTION = "JP2INFO.TXT"
END_OBJECT = COMPRESSED_FILE
END
