PDS_VERSION_ID = PDS3
/* FILE DATA ELEMENTS */
RECORD_TYPE = STREAM
/* POINTERS TO DATA OBJECTS */
^COMPRESSED_FILE = "HF600_0000_S23.JP2"
/* IDENTIFICATION DATA ELEMENTS */
DATA_SET_ID = "MEX-M-HRSC-5-REFDR-MAPPROJECTED-V3.0"
DATA_SET_NAME = "MARS EXPRESS HRSC MAP PROJECTED REFDR V3.0"
DETECTOR_ID = MEX_HRSC_S2
EVENT_TYPE = "MARS-REGIONAL-MAPPING-Im-Fl-Pf"
INSTRUMENT_HOST_ID = MEX
INSTRUMENT_HOST_NAME = "MARS EXPRESS"
INSTRUMENT_ID = HRSC
INSTRUMENT_NAME = "HIGH RESOLUTION STEREO CAMERA"
MISSION_NAME = "MARS EXPRESS"
MISSION_PHASE_NAME = ME_Phase_34
PROCESSING_LEVEL_ID = 3
PRODUCT_CREATION_TIME = 2016-11-08T12:40:53.000Z
PRODUCT_ID = "HF600_0000_S23.JP2"
RELEASE_ID = 0133
REVISION_ID = 0000
/* QUALITY DATA ELEMENTS */
DATA_QUALITY_ID = 1
DATA_QUALITY_DESC = "Data calculated based on original SPICE kernels"
/* TIME DATA ELEMENTS */
SPACECRAFT_CLOCK_START_COUNT = "1/0409424164.08238"
SPACECRAFT_CLOCK_STOP_COUNT = "1/0409424684.35329"
START_TIME = 2016-04-22T17:00:52.148Z
STOP_TIME = 2016-04-22T17:04:49.826Z
/* ORBITAL DATA ELEMENTS */
ASCENDING_NODE_LONGITUDE = 280.84
MAXIMUM_RESOLUTION = 55.8
FOOTPRINT_POINT_LATITUDE = (63.4946,63.4714,63.4418,63.4059, 63.3636,63.3145,63.093,62.7757,62.46, 62.1463,61.8354,61.5257,61.2174,60.9104 ,60.6068,60.154,59.8559,59.5582,59.2626 ,58.9689,58.6759,58.3848,58.0967, 57.8098,57.5251,57.1008,56.8198,56.5404 ,56.2633,55.987,55.7135,55.3019,54.8893 ,54.6138,54.3376,54.0608,53.7838, 53.3807,53.1329,52.8845,52.6356,52.3864 ,52.0117,51.7617,51.5112,51.1384, 50.7677,50.1577,49.675,49.4969,49.5091, 49.5162,49.5223,49.5285,49.5326,49.5353 ,50.0197,50.5097,50.7559,51.1289, 51.3782,51.6301,51.8824,52.2612,52.5131 ,52.7646,53.0157,53.2665,53.517,53.9302 ,54.2099,54.4895,54.7687,55.0473, 55.3254,55.7419,56.0191,56.2981,56.7197 ,57.0027,57.288,57.5743,57.8632,58.1538 ,58.5929,59.0364,59.4843,59.9364, 60.2398,60.5462,60.8544,61.1648,61.634, 61.9489,62.2663,62.5865,62.9088,63.2327 ,63.5589,63.4946)
FOOTPRINT_POINT_LONGITUDE = (93.7534,92.6674,91.5806,90.4937, 89.4058,88.3147,87.6522,87.7845,87.9125 ,88.0364,88.1557,88.2717,88.3843, 88.4939,88.5987,88.7506,88.8466,88.9409 ,89.0322,89.1209,89.2079,89.2922, 89.3733,89.4518,89.5283,89.6394,89.711, 89.7805,89.848,89.9138,89.9778,90.0716, 90.1629,90.2221,90.2804,90.3377,90.3938 ,90.4736,90.5212,90.5682,90.6145,90.66, 90.727,90.7705,90.8135,90.876,90.9365, 91.0327,91.1059,91.4814,92.1422,92.5917 ,93.0399,93.6247,94.1732,94.6982, 94.7032,94.7084,94.7108,94.7146,94.7169 ,94.7193,94.7216,94.7253,94.7275, 94.7298,94.732,94.7341,94.7362,94.7395, 94.7416,94.7438,94.7458,94.7478,94.7497 ,94.7524,94.7542,94.7558,94.7581, 94.7595,94.7609,94.7622,94.7633,94.7643 ,94.7657,94.7669,94.7677,94.7681, 94.7683,94.7683,94.7681,94.7678,94.7669 ,94.766,94.7649,94.7637,94.7622,94.7603 ,94.7582,93.7534)
ORBIT_NUMBER = 15600
ORBITAL_ECCENTRICITY = 0.577
ORBITAL_INCLINATION = 86.91
ORBITAL_SEMIMAJOR_AXIS = 8862.94
PERIAPSIS_ALTITUDE = 349.11
PERIAPSIS_ARGUMENT_ANGLE = 170.6
PERIAPSIS_TIME = 2016-04-22T17:14:38.000Z
SPACECRAFT_ORIENTATION = (0.0,-1.0,0.0)
^MEX_ORIENTATION_DESC = "MEX_ORIENTATION_DESC.TXT"
SPACECRAFT_POINTING_MODE = ACROSSTRACK
^MEX_POINTING_DESC = "MEX_POINTING_DESC.TXT"
RIGHT_ASCENSION = -1e+32
DECLINATION = -1e+32
OFFSET_ANGLE = -0.47
SPACECRAFT_SOLAR_DISTANCE = 2.33326e+08
TARGET_NAME = MARS
/* CAMERA DATA ELEMENTS */
DETECTOR_TEMPERATURE = 19.1861
FOCAL_PLANE_TEMPERATURE = 7.9716
INST_CMPRS_NAME = "DISCRETE COSINE TRANSFORMATION (DCT)"
INST_CMPRS_RATIO = 15.5446
INST_CMPRS_QUALITY = 0
INST_CMPRS_QUANTZ_TBL_ID = 0
INSTRUMENT_TEMPERATURE = 11.4379
LENS_TEMPERATURE = 8.7872
MACROPIXEL_SIZE = 2
MISSING_FRAMES = 0
PIXEL_SUBSAMPLING_FLAG = N
SIGNAL_CHAIN_ID = 1
/* RADIOMETRIC DATA ELEMENTS */
BANDWIDTH = 178.0
CENTER_FILTER_WAVELENGTH = 679.0
RADIANCE_OFFSET = 1.27341
RADIANCE_SCALING_FACTOR = 0.0110067
REFLECTANCE_SCALING_FACTOR = 0.000317337
MEX:REFLECTANCE_OFFSET = 0.0367142
/* IMAGE OBJECT DEFINITIONS */
OBJECT = IMAGE
  INTERCHANGE_FORMAT = BINARY
  LINES = 16901
  LINE_SAMPLES = 4787
  SAMPLE_TYPE = UNSIGNED_INTEGER
  SAMPLE_BITS = 8
  BANDS = 1
  BAND_STORAGE_TYPE = BAND_SEQUENTIAL
  MAXIMUM = 255
  MEAN = 63.8757
  MINIMUM = 1
  STANDARD_DEVIATION = 21.6476
END_OBJECT = IMAGE
/* MAP OBJECT DEFINITIONS */
OBJECT = IMAGE_MAP_PROJECTION
  ^DATA_SET_MAP_PROJECTION_CATALOG= "DSMAP.CAT"
  A_AXIS_RADIUS = 3396.0
  B_AXIS_RADIUS = 3396.0
  C_AXIS_RADIUS = 3396.0
  CENTER_LATITUDE = 0.0
  CENTER_LONGITUDE = 92.0
  COORDINATE_SYSTEM_NAME = PLANETOGRAPHIC
  COORDINATE_SYSTEM_TYPE = "BODY-FIXED ROTATING"
  EASTERNMOST_LONGITUDE = 94.7683
  FIRST_STANDARD_PARALLEL = "N/A"
  LINE_FIRST_PIXEL = 1
  LINE_LAST_PIXEL = 16901
  LINE_PROJECTION_OFFSET = 75491.75
  MAP_PROJECTION_ROTATION = 0.0
  MAP_PROJECTION_TYPE = SINUSOIDAL
  MAP_RESOLUTION = 1185.42760773333
  MAP_SCALE = 0.05
  MAXIMUM_LATITUDE = 63.5589
  MINIMUM_LATITUDE = 49.4969
  POSITIVE_LONGITUDE_DIRECTION = EAST
  REFERENCE_LATITUDE = "N/A"
  REFERENCE_LONGITUDE = "N/A"
  SAMPLE_FIRST_PIXEL = 1
  SAMPLE_LAST_PIXEL = 4787
  SAMPLE_PROJECTION_OFFSET = 2596.75
  SECOND_STANDARD_PARALLEL = "N/A"
  WESTERNMOST_LONGITUDE = 87.65219999999999
END_OBJECT = IMAGE_MAP_PROJECTION
/* The JPEG2000 image data file associated with this label. */
OBJECT = COMPRESSED_FILE
  FILE_NAME = "HF600_0000_S23.JP2"
  RECORD_TYPE = UNDEFINED
  FILE_RECORDS = UNK
  ENCODING_TYPE = "JP2"
  INTERCHANGE_FORMAT = BINARY
  UNCOMPRESSED_FILE_NAME = "HF600_0000_S23.IMG"
  REQUIRED_STORAGE_BYTES = "80929022"
  ^DESCRIPTION = "JP2INFO.TXT"
END_OBJECT = COMPRESSED_FILE
END
