PDS_VERSION_ID = PDS3
/* FILE DATA ELEMENTS */
RECORD_TYPE = STREAM
/* POINTERS TO DATA OBJECTS */
^COMPRESSED_FILE = "HF602_0000_S23.JP2"
/* IDENTIFICATION DATA ELEMENTS */
DATA_SET_ID = "MEX-M-HRSC-5-REFDR-MAPPROJECTED-V3.0"
DATA_SET_NAME = "MARS EXPRESS HRSC MAP PROJECTED REFDR V3.0"
DETECTOR_ID = MEX_HRSC_S2
EVENT_TYPE = "MARS-REGIONAL-MAPPING-Vo-Te-Pf"
INSTRUMENT_HOST_ID = MEX
INSTRUMENT_HOST_NAME = "MARS EXPRESS"
INSTRUMENT_ID = HRSC
INSTRUMENT_NAME = "HIGH RESOLUTION STEREO CAMERA"
MISSION_NAME = "MARS EXPRESS"
MISSION_PHASE_NAME = ME_Phase_34
PROCESSING_LEVEL_ID = 3
PRODUCT_CREATION_TIME = 2016-11-08T12:40:53.000Z
PRODUCT_ID = "HF602_0000_S23.JP2"
RELEASE_ID = 0133
REVISION_ID = 0000
/* QUALITY DATA ELEMENTS */
DATA_QUALITY_ID = 1
DATA_QUALITY_DESC = "Data calculated based on original SPICE kernels"
/* TIME DATA ELEMENTS */
SPACECRAFT_CLOCK_START_COUNT = "1/0409474564.08251"
SPACECRAFT_CLOCK_STOP_COUNT = "1/0409474991.01288"
START_TIME = 2016-04-23T07:00:42.114Z
STOP_TIME = 2016-04-23T07:03:16.326Z
/* ORBITAL DATA ELEMENTS */
ASCENDING_NODE_LONGITUDE = 280.8
MAXIMUM_RESOLUTION = 61.7
FOOTPRINT_POINT_LATITUDE = (63.175,63.1632,63.1534,63.1421,63.1293 ,63.1149,63.0991,63.0819,63.0533, 63.0324,63.0099,62.989,62.9637,62.7067, 62.5139,62.3225,62.1315,61.9416,61.7516 ,61.5636,61.2815,61.0949,60.9083, 60.7232,60.4458,60.2622,59.9874,59.8055 ,59.6232,59.4429,59.1726,58.9941, 58.8154,58.638,58.461,58.284,58.0213, 57.8461,57.6727,57.4991,57.3262,57.0686 ,56.8969,56.5568,56.0501,55.7127, 55.3748,55.0359,54.6114,54.1119,54.1258 ,54.1454,54.1561,54.17,54.1789,54.187, 54.1947,54.2016,54.2088,54.2156,54.308, 54.6514,54.9941,55.3359,55.6776,55.9334 ,56.1886,56.5286,56.8718,57.1306, 57.3044,57.478,57.6528,57.8283,58.0036, 58.1809,58.3581,58.626,58.8049,58.9848, 59.1656,59.3462,59.6197,59.8942,60.0781 ,60.2632,60.4498,60.6357,60.9172, 61.1052,61.2945,61.4839,61.7704,61.9615 ,62.1544,62.3472,62.5418,62.7364, 62.9322,63.175)
FOOTPRINT_POINT_LONGITUDE = (251.647,250.846,250.313,249.782, 249.251,248.722,248.193,247.666,246.877 ,246.352,245.828,245.369,244.845, 244.853,244.92,244.985,245.049,245.111, 245.173,245.233,245.32,245.377,245.433, 245.488,245.569,245.621,245.698,245.748 ,245.797,245.845,245.915,245.961, 246.006,246.05,246.094,246.136,246.199, 246.239,246.279,246.319,246.357,246.414 ,246.451,246.523,246.627,246.694, 246.759,246.822,246.9,246.988,247.364, 247.952,248.287,248.792,249.128,249.466 ,249.804,250.142,250.523,250.948, 251.349,251.362,251.376,251.389,251.403 ,251.414,251.424,251.438,251.452, 251.463,251.47,251.478,251.485,251.493, 251.5,251.508,251.516,251.528,251.535, 251.544,251.552,251.56,251.572,251.584, 251.592,251.601,251.61,251.619,251.632, 251.641,251.65,251.659,251.673,251.682, 251.692,251.701,251.711,251.721,251.73, 251.647)
ORBIT_NUMBER = 15602
ORBITAL_ECCENTRICITY = 0.578
ORBITAL_INCLINATION = 86.9
ORBITAL_SEMIMAJOR_AXIS = 8872.46
PERIAPSIS_ALTITUDE = 349.46
PERIAPSIS_ARGUMENT_ANGLE = 170.26
PERIAPSIS_TIME = 2016-04-23T07:14:16.000Z
SPACECRAFT_ORIENTATION = (0.0,-1.0,0.0)
^MEX_ORIENTATION_DESC = "MEX_ORIENTATION_DESC.TXT"
SPACECRAFT_POINTING_MODE = ACROSSTRACK
^MEX_POINTING_DESC = "MEX_POINTING_DESC.TXT"
RIGHT_ASCENSION = -1e+32
DECLINATION = -1e+32
OFFSET_ANGLE = 0.25
SPACECRAFT_SOLAR_DISTANCE = 2.33218e+08
TARGET_NAME = MARS
/* CAMERA DATA ELEMENTS */
DETECTOR_TEMPERATURE = 18.1666
FOCAL_PLANE_TEMPERATURE = 7.3599
INST_CMPRS_NAME = "DISCRETE COSINE TRANSFORMATION (DCT)"
INST_CMPRS_RATIO = 12.2352
INST_CMPRS_QUALITY = 0
INST_CMPRS_QUANTZ_TBL_ID = 0
INSTRUMENT_TEMPERATURE = 11.0301
LENS_TEMPERATURE = 7.9716
MACROPIXEL_SIZE = 2
MISSING_FRAMES = 0
PIXEL_SUBSAMPLING_FLAG = N
SIGNAL_CHAIN_ID = 1
/* RADIOMETRIC DATA ELEMENTS */
BANDWIDTH = 178.0
CENTER_FILTER_WAVELENGTH = 679.0
RADIANCE_OFFSET = 0.958957
RADIANCE_SCALING_FACTOR = 0.0139979
REFLECTANCE_SCALING_FACTOR = 0.000403205
MEX:REFLECTANCE_OFFSET = 0.0276225
/* IMAGE OBJECT DEFINITIONS */
OBJECT = IMAGE
  INTERCHANGE_FORMAT = BINARY
  LINES = 10911
  LINE_SAMPLES = 4352
  SAMPLE_TYPE = UNSIGNED_INTEGER
  SAMPLE_BITS = 8
  BANDS = 1
  BAND_STORAGE_TYPE = BAND_SEQUENTIAL
  MAXIMUM = 255
  MEAN = 97.6406
  MINIMUM = 1
  STANDARD_DEVIATION = 15.2756
END_OBJECT = IMAGE
/* MAP OBJECT DEFINITIONS */
OBJECT = IMAGE_MAP_PROJECTION
  ^DATA_SET_MAP_PROJECTION_CATALOG= "DSMAP.CAT"
  A_AXIS_RADIUS = 3396.0
  B_AXIS_RADIUS = 3396.0
  C_AXIS_RADIUS = 3396.0
  CENTER_LATITUDE = 0.0
  CENTER_LONGITUDE = 249.0
  COORDINATE_SYSTEM_NAME = PLANETOGRAPHIC
  COORDINATE_SYSTEM_TYPE = "BODY-FIXED ROTATING"
  EASTERNMOST_LONGITUDE = 251.73
  FIRST_STANDARD_PARALLEL = "N/A"
  LINE_FIRST_PIXEL = 1
  LINE_LAST_PIXEL = 10911
  LINE_PROJECTION_OFFSET = 75033.75
  MAP_PROJECTION_ROTATION = 0.0
  MAP_PROJECTION_TYPE = SINUSOIDAL
  MAP_RESOLUTION = 1185.42760773333
  MAP_SCALE = 0.05
  MAXIMUM_LATITUDE = 63.175
  MINIMUM_LATITUDE = 54.1119
  POSITIVE_LONGITUDE_DIRECTION = EAST
  REFERENCE_LATITUDE = "N/A"
  REFERENCE_LONGITUDE = "N/A"
  SAMPLE_FIRST_PIXEL = 1
  SAMPLE_LAST_PIXEL = 4352
  SAMPLE_PROJECTION_OFFSET = 2574.75
  SECOND_STANDARD_PARALLEL = "N/A"
  WESTERNMOST_LONGITUDE = 244.845
END_OBJECT = IMAGE_MAP_PROJECTION
/* The JPEG2000 image data file associated with this label. */
OBJECT = COMPRESSED_FILE
  FILE_NAME = "HF602_0000_S23.JP2"
  RECORD_TYPE = UNDEFINED
  FILE_RECORDS = UNK
  ENCODING_TYPE = "JP2"
  INTERCHANGE_FORMAT = BINARY
  UNCOMPRESSED_FILE_NAME = "HF602_0000_S23.IMG"
  REQUIRED_STORAGE_BYTES = "47510784"
  ^DESCRIPTION = "JP2INFO.TXT"
END_OBJECT = COMPRESSED_FILE
END
