PDS_VERSION_ID = PDS3
/* FILE DATA ELEMENTS */
RECORD_TYPE = STREAM
/* POINTERS TO DATA OBJECTS */
^COMPRESSED_FILE = "HF606_0000_GR3.JP2"
/* IDENTIFICATION DATA ELEMENTS */
DATA_SET_ID = "MEX-M-HRSC-5-REFDR-MAPPROJECTED-V3.0"
DATA_SET_NAME = "MARS EXPRESS HRSC MAP PROJECTED REFDR V3.0"
DETECTOR_ID = MEX_HRSC_GREEN
EVENT_TYPE = "MARS-REGIONAL-MAPPING-Vo-Fl-Pf"
INSTRUMENT_HOST_ID = MEX
INSTRUMENT_HOST_NAME = "MARS EXPRESS"
INSTRUMENT_ID = HRSC
INSTRUMENT_NAME = "HIGH RESOLUTION STEREO CAMERA"
MISSION_NAME = "MARS EXPRESS"
MISSION_PHASE_NAME = ME_Phase_34
PROCESSING_LEVEL_ID = 3
PRODUCT_CREATION_TIME = 2016-11-08T12:40:53.000Z
PRODUCT_ID = "HF606_0000_GR3.JP2"
RELEASE_ID = 0133
REVISION_ID = 0000
/* QUALITY DATA ELEMENTS */
DATA_QUALITY_ID = 1
DATA_QUALITY_DESC = "Data calculated based on original SPICE kernels"
/* TIME DATA ELEMENTS */
SPACECRAFT_CLOCK_START_COUNT = "1/0409575566.09047"
SPACECRAFT_CLOCK_STOP_COUNT = "1/0409575866.40494"
START_TIME = 2016-04-24T11:01:03.231Z
STOP_TIME = 2016-04-24T11:03:17.887Z
/* ORBITAL DATA ELEMENTS */
ASCENDING_NODE_LONGITUDE = 280.73
MAXIMUM_RESOLUTION = 107.4
FOOTPRINT_POINT_LATITUDE = (54.3649,54.3605,54.3559,54.3496, 54.3421,54.3302,54.3203,54.3093,54.2957 ,54.2824,54.2681,54.2445,54.0677, 53.9197,53.6992,53.5525,53.4063,53.261, 53.043,52.899,52.7546,52.5396,52.3965, 52.2533,52.1117,51.9699,51.828,51.547, 51.2651,51.1239,50.9824,50.8408,50.6989 ,50.5568,50.4145,50.2719,50.1292, 49.9862,49.8431,49.6295,49.373,49.1158, 48.858,48.5994,48.3402,47.9501,47.6901, 47.4325,47.2393,47.1936,47.2047,47.2145 ,47.2202,47.2289,47.2339,47.2394,47.243 ,47.2461,47.2483,47.2503,47.317,47.5116 ,47.771,48.033,48.4258,48.6869,48.9474, 49.2073,49.4665,49.7251,49.9413,50.0857 ,50.2299,50.3738,50.5176,50.6612, 50.8046,50.9477,51.0907,51.2334,51.376, 51.5183,51.6605,51.9442,52.0876,52.2308 ,52.3739,52.5186,52.6632,52.8806, 53.0265,53.172,53.3924,53.5394,53.6875, 53.8359,53.9842,54.1339,54.2835, 54.3649)
FOOTPRINT_POINT_LONGITUDE = (201.374,201.02,200.712,200.359,200.006 ,199.522,199.17,198.819,198.423,198.072 ,197.72,197.192,197.023,197.053,197.097 ,197.126,197.154,197.182,197.223,197.25 ,197.277,197.316,197.342,197.367, 197.392,197.417,197.441,197.489,197.535 ,197.559,197.582,197.604,197.627, 197.649,197.671,197.693,197.715,197.736 ,197.758,197.789,197.826,197.862, 197.898,197.934,197.968,198.019,198.052 ,198.085,198.109,198.466,198.819, 199.171,199.396,199.78,200.037,200.358, 200.614,200.871,201.096,201.353,201.559 ,201.565,201.574,201.584,201.598, 201.607,201.616,201.626,201.635,201.645 ,201.653,201.658,201.664,201.669, 201.674,201.68,201.685,201.691,201.697, 201.702,201.708,201.713,201.719,201.73, 201.736,201.742,201.748,201.754,201.76, 201.769,201.775,201.781,201.791,201.797 ,201.803,201.809,201.816,201.822, 201.829,201.374)
ORBIT_NUMBER = 15606
ORBITAL_ECCENTRICITY = 0.577
ORBITAL_INCLINATION = 86.92
ORBITAL_SEMIMAJOR_AXIS = 8854.54
PERIAPSIS_ALTITUDE = 350.31
PERIAPSIS_ARGUMENT_ANGLE = 169.56
PERIAPSIS_TIME = 2016-04-24T11:13:28.000Z
SPACECRAFT_ORIENTATION = (0.0,-1.0,0.0)
^MEX_ORIENTATION_DESC = "MEX_ORIENTATION_DESC.TXT"
SPACECRAFT_POINTING_MODE = NADIR
^MEX_POINTING_DESC = "MEX_POINTING_DESC.TXT"
RIGHT_ASCENSION = -1e+32
DECLINATION = -1e+32
OFFSET_ANGLE = -1e+32
SPACECRAFT_SOLAR_DISTANCE = 2.33003e+08
TARGET_NAME = MARS
/* CAMERA DATA ELEMENTS */
DETECTOR_TEMPERATURE = 18.5744
FOCAL_PLANE_TEMPERATURE = 8.5833
INST_CMPRS_NAME = "DISCRETE COSINE TRANSFORMATION (DCT)"
INST_CMPRS_RATIO = 10.4463
INST_CMPRS_QUALITY = 0
INST_CMPRS_QUANTZ_TBL_ID = 0
INSTRUMENT_TEMPERATURE = 11.234
LENS_TEMPERATURE = 9.195
MACROPIXEL_SIZE = 4
MISSING_FRAMES = 0
PIXEL_SUBSAMPLING_FLAG = N
SIGNAL_CHAIN_ID = 2
/* RADIOMETRIC DATA ELEMENTS */
BANDWIDTH = 88.0
CENTER_FILTER_WAVELENGTH = 538.0
RADIANCE_OFFSET = 0.421837
RADIANCE_SCALING_FACTOR = 0.00282198
REFLECTANCE_SCALING_FACTOR = 0.000131908
MEX:REFLECTANCE_OFFSET = 0.019718
/* IMAGE OBJECT DEFINITIONS */
OBJECT = IMAGE
  INTERCHANGE_FORMAT = BINARY
  LINES = 4241
  LINE_SAMPLES = 1656
  SAMPLE_TYPE = UNSIGNED_INTEGER
  SAMPLE_BITS = 8
  BANDS = 1
  BAND_STORAGE_TYPE = BAND_SEQUENTIAL
  MAXIMUM = 255
  MEAN = 108.737
  MINIMUM = 1
  STANDARD_DEVIATION = 18.7158
END_OBJECT = IMAGE
/* MAP OBJECT DEFINITIONS */
OBJECT = IMAGE_MAP_PROJECTION
  ^DATA_SET_MAP_PROJECTION_CATALOG= "DSMAP.CAT"
  A_AXIS_RADIUS = 3396.0
  B_AXIS_RADIUS = 3396.0
  C_AXIS_RADIUS = 3396.0
  CENTER_LATITUDE = 0.0
  CENTER_LONGITUDE = 200.0
  COORDINATE_SYSTEM_NAME = PLANETOGRAPHIC
  COORDINATE_SYSTEM_TYPE = "BODY-FIXED ROTATING"
  EASTERNMOST_LONGITUDE = 201.829
  FIRST_STANDARD_PARALLEL = "N/A"
  LINE_FIRST_PIXEL = 1
  LINE_LAST_PIXEL = 4241
  LINE_PROJECTION_OFFSET = 32212.625
  MAP_PROJECTION_ROTATION = 0.0
  MAP_PROJECTION_TYPE = SINUSOIDAL
  MAP_RESOLUTION = 592.713803866667
  MAP_SCALE = 0.1
  MAXIMUM_LATITUDE = 54.3649
  MINIMUM_LATITUDE = 47.1936
  POSITIVE_LONGITUDE_DIRECTION = EAST
  REFERENCE_LATITUDE = "N/A"
  REFERENCE_LONGITUDE = "N/A"
  SAMPLE_FIRST_PIXEL = 1
  SAMPLE_LAST_PIXEL = 1656
  SAMPLE_PROJECTION_OFFSET = 1029.375
  SECOND_STANDARD_PARALLEL = "N/A"
  WESTERNMOST_LONGITUDE = 197.023
END_OBJECT = IMAGE_MAP_PROJECTION
/* The JPEG2000 image data file associated with this label. */
OBJECT = COMPRESSED_FILE
  FILE_NAME = "HF606_0000_GR3.JP2"
  RECORD_TYPE = UNDEFINED
  FILE_RECORDS = UNK
  ENCODING_TYPE = "JP2"
  INTERCHANGE_FORMAT = BINARY
  UNCOMPRESSED_FILE_NAME = "HF606_0000_GR3.IMG"
  REQUIRED_STORAGE_BYTES = "7042968"
  ^DESCRIPTION = "JP2INFO.TXT"
END_OBJECT = COMPRESSED_FILE
END
