PDS_VERSION_ID = PDS3
/* FILE DATA ELEMENTS */
RECORD_TYPE = STREAM
/* POINTERS TO DATA OBJECTS */
^COMPRESSED_FILE = "HF606_0000_S23.JP2"
/* IDENTIFICATION DATA ELEMENTS */
DATA_SET_ID = "MEX-M-HRSC-5-REFDR-MAPPROJECTED-V3.0"
DATA_SET_NAME = "MARS EXPRESS HRSC MAP PROJECTED REFDR V3.0"
DETECTOR_ID = MEX_HRSC_S2
EVENT_TYPE = "MARS-REGIONAL-MAPPING-Vo-Fl-Pf"
INSTRUMENT_HOST_ID = MEX
INSTRUMENT_HOST_NAME = "MARS EXPRESS"
INSTRUMENT_ID = HRSC
INSTRUMENT_NAME = "HIGH RESOLUTION STEREO CAMERA"
MISSION_NAME = "MARS EXPRESS"
MISSION_PHASE_NAME = ME_Phase_34
PROCESSING_LEVEL_ID = 3
PRODUCT_CREATION_TIME = 2016-11-08T12:40:53.000Z
PRODUCT_ID = "HF606_0000_S23.JP2"
RELEASE_ID = 0133
REVISION_ID = 0000
/* QUALITY DATA ELEMENTS */
DATA_QUALITY_ID = 1
DATA_QUALITY_DESC = "Data calculated based on original SPICE kernels"
/* TIME DATA ELEMENTS */
SPACECRAFT_CLOCK_START_COUNT = "1/0409575566.09047"
SPACECRAFT_CLOCK_STOP_COUNT = "1/0409575866.40494"
START_TIME = 2016-04-24T11:02:36.879Z
STOP_TIME = 2016-04-24T11:04:31.908Z
/* ORBITAL DATA ELEMENTS */
ASCENDING_NODE_LONGITUDE = 280.73
MAXIMUM_RESOLUTION = 51.8
FOOTPRINT_POINT_LATITUDE = (54.2595,54.2547,54.2464,54.2405, 54.2349,54.2279,54.2203,54.2122,54.2035 ,54.1941,54.1841,54.1749,54.1637, 53.9876,53.7688,53.6229,53.4765,53.331, 53.1117,52.8921,52.7454,52.5991,52.3796 ,52.2347,52.0173,51.8727,51.7293,51.586 ,51.4434,51.3002,51.1589,51.0178, 50.8765,50.6648,50.4557,50.3162,50.1766 ,50.0378,49.9002,49.7622,49.6245, 49.4877,49.2161,48.8768,48.542,48.2077, 47.9438,47.6138,47.3534,47.245,47.2532, 47.2586,47.2635,47.2682,47.2716,47.2759 ,47.2796,47.2846,47.288,47.2921,47.4259 ,47.6874,47.9532,48.1524,48.4189, 48.6892,48.9583,49.1631,49.2998,49.4362 ,49.5728,49.7108,49.849,49.9879,50.1263 ,50.3365,50.4769,50.617,50.7575,50.8998 ,51.042,51.1843,51.3977,51.5421,51.6862 ,51.8304,51.9743,52.1205,52.2662,52.485 ,52.6326,52.7804,53.0022,53.2235, 53.4449,53.5918,53.7391,53.8862,54.0331 ,54.2595)
FOOTPRINT_POINT_LONGITUDE = (201.407,201.04,200.509,200.183,199.897 ,199.571,199.246,198.92,198.595,198.269 ,197.943,197.658,197.332,197.297, 197.337,197.362,197.388,197.413,197.45, 197.487,197.511,197.535,197.57,197.593, 197.628,197.65,197.672,197.694,197.715, 197.736,197.757,197.778,197.798,197.828 ,197.857,197.877,197.896,197.915, 197.933,197.951,197.97,197.987,198.022, 198.065,198.106,198.146,198.177,198.214 ,198.244,198.408,198.744,198.989, 199.233,199.477,199.691,199.935,200.179 ,200.515,200.79,201.188,201.416,201.422 ,201.429,201.433,201.439,201.446, 201.453,201.458,201.461,201.464,201.467 ,201.471,201.474,201.478,201.481, 201.486,201.49,201.493,201.496,201.5, 201.503,201.507,201.512,201.516,201.52, 201.523,201.527,201.53,201.534,201.539, 201.543,201.547,201.553,201.558,201.564 ,201.568,201.571,201.575,201.579, 201.407)
ORBIT_NUMBER = 15606
ORBITAL_ECCENTRICITY = 0.577
ORBITAL_INCLINATION = 86.92
ORBITAL_SEMIMAJOR_AXIS = 8854.54
PERIAPSIS_ALTITUDE = 350.31
PERIAPSIS_ARGUMENT_ANGLE = 169.56
PERIAPSIS_TIME = 2016-04-24T11:13:28.000Z
SPACECRAFT_ORIENTATION = (0.0,-1.0,0.0)
^MEX_ORIENTATION_DESC = "MEX_ORIENTATION_DESC.TXT"
SPACECRAFT_POINTING_MODE = NADIR
^MEX_POINTING_DESC = "MEX_POINTING_DESC.TXT"
RIGHT_ASCENSION = -1e+32
DECLINATION = -1e+32
OFFSET_ANGLE = -1e+32
SPACECRAFT_SOLAR_DISTANCE = 2.33003e+08
TARGET_NAME = MARS
/* CAMERA DATA ELEMENTS */
DETECTOR_TEMPERATURE = 19.1861
FOCAL_PLANE_TEMPERATURE = 8.5833
INST_CMPRS_NAME = "DISCRETE COSINE TRANSFORMATION (DCT)"
INST_CMPRS_RATIO = 11.1451
INST_CMPRS_QUALITY = 0
INST_CMPRS_QUANTZ_TBL_ID = 0
INSTRUMENT_TEMPERATURE = 11.234
LENS_TEMPERATURE = 9.195
MACROPIXEL_SIZE = 2
MISSING_FRAMES = 0
PIXEL_SUBSAMPLING_FLAG = N
SIGNAL_CHAIN_ID = 1
/* RADIOMETRIC DATA ELEMENTS */
BANDWIDTH = 178.0
CENTER_FILTER_WAVELENGTH = 679.0
RADIANCE_OFFSET = 1.29151
RADIANCE_SCALING_FACTOR = 0.0105094
REFLECTANCE_SCALING_FACTOR = 0.000302159
MEX:REFLECTANCE_OFFSET = 0.0371328
/* IMAGE OBJECT DEFINITIONS */
OBJECT = IMAGE
  INTERCHANGE_FORMAT = BINARY
  LINES = 8481
  LINE_SAMPLES = 3311
  SAMPLE_TYPE = UNSIGNED_INTEGER
  SAMPLE_BITS = 8
  BANDS = 1
  BAND_STORAGE_TYPE = BAND_SEQUENTIAL
  MAXIMUM = 255
  MEAN = 102.269
  MINIMUM = 1
  STANDARD_DEVIATION = 17.9407
END_OBJECT = IMAGE
/* MAP OBJECT DEFINITIONS */
OBJECT = IMAGE_MAP_PROJECTION
  ^DATA_SET_MAP_PROJECTION_CATALOG= "DSMAP.CAT"
  A_AXIS_RADIUS = 3396.0
  B_AXIS_RADIUS = 3396.0
  C_AXIS_RADIUS = 3396.0
  CENTER_LATITUDE = 0.0
  CENTER_LONGITUDE = 200.0
  COORDINATE_SYSTEM_NAME = PLANETOGRAPHIC
  COORDINATE_SYSTEM_TYPE = "BODY-FIXED ROTATING"
  EASTERNMOST_LONGITUDE = 201.579
  FIRST_STANDARD_PARALLEL = "N/A"
  LINE_FIRST_PIXEL = 1
  LINE_LAST_PIXEL = 8481
  LINE_PROJECTION_OFFSET = 64425.75
  MAP_PROJECTION_ROTATION = 0.0
  MAP_PROJECTION_TYPE = SINUSOIDAL
  MAP_RESOLUTION = 1185.42760773333
  MAP_SCALE = 0.05
  MAXIMUM_LATITUDE = 54.2595
  MINIMUM_LATITUDE = 47.245
  POSITIVE_LONGITUDE_DIRECTION = EAST
  REFERENCE_LATITUDE = "N/A"
  REFERENCE_LONGITUDE = "N/A"
  SAMPLE_FIRST_PIXEL = 1
  SAMPLE_LAST_PIXEL = 3311
  SAMPLE_PROJECTION_OFFSET = 2059.25
  SECOND_STANDARD_PARALLEL = "N/A"
  WESTERNMOST_LONGITUDE = 197.297
END_OBJECT = IMAGE_MAP_PROJECTION
/* The JPEG2000 image data file associated with this label. */
OBJECT = COMPRESSED_FILE
  FILE_NAME = "HF606_0000_S23.JP2"
  RECORD_TYPE = UNDEFINED
  FILE_RECORDS = UNK
  ENCODING_TYPE = "JP2"
  INTERCHANGE_FORMAT = BINARY
  UNCOMPRESSED_FILE_NAME = "HF606_0000_S23.IMG"
  REQUIRED_STORAGE_BYTES = "28103768"
  ^DESCRIPTION = "JP2INFO.TXT"
END_OBJECT = COMPRESSED_FILE
END
