PDS_VERSION_ID = PDS3
/* FILE DATA ELEMENTS */
RECORD_TYPE = STREAM
/* POINTERS TO DATA OBJECTS */
^COMPRESSED_FILE = "HF619_0000_GR3.JP2"
/* IDENTIFICATION DATA ELEMENTS */
DATA_SET_ID = "MEX-M-HRSC-5-REFDR-MAPPROJECTED-V3.0"
DATA_SET_NAME = "MARS EXPRESS HRSC MAP PROJECTED REFDR V3.0"
DETECTOR_ID = MEX_HRSC_GREEN
EVENT_TYPE = "MARS-REGIONAL-MAPPING-Vo-Te"
INSTRUMENT_HOST_ID = MEX
INSTRUMENT_HOST_NAME = "MARS EXPRESS"
INSTRUMENT_ID = HRSC
INSTRUMENT_NAME = "HIGH RESOLUTION STEREO CAMERA"
MISSION_NAME = "MARS EXPRESS"
MISSION_PHASE_NAME = ME_Phase_34
PROCESSING_LEVEL_ID = 3
PRODUCT_CREATION_TIME = 2016-11-08T12:40:53.000Z
PRODUCT_ID = "HF619_0000_GR3.JP2"
RELEASE_ID = 0133
REVISION_ID = 0000
/* QUALITY DATA ELEMENTS */
DATA_QUALITY_ID = 1
DATA_QUALITY_DESC = "Data calculated based on original SPICE kernels"
/* TIME DATA ELEMENTS */
SPACECRAFT_CLOCK_START_COUNT = "1/0409903162.09045"
SPACECRAFT_CLOCK_STOP_COUNT = "1/0409903447.37914"
START_TIME = 2016-04-28T06:00:37.465Z
STOP_TIME = 2016-04-28T06:03:15.415Z
/* ORBITAL DATA ELEMENTS */
ASCENDING_NODE_LONGITUDE = 280.48
MAXIMUM_RESOLUTION = 86.2
FOOTPRINT_POINT_LATITUDE = (49.6989,49.6906,49.6852,49.6792, 49.6672,49.6595,49.6512,49.6422,49.6325 ,49.6222,49.5874,49.3955,49.2039, 49.0144,48.8246,48.6357,48.4481,48.1666 ,47.9812,47.7954,47.6101,47.4268, 47.2431,47.06,46.8786,46.6969,46.5163, 46.3373,46.158,45.9787,45.8018,45.6247, 45.3593,45.1846,45.0096,44.7478,44.5753 ,44.4025,44.1439,43.9736,43.803,43.5471 ,43.3789,43.2105,42.8744,42.5433, 42.2115,41.8839,41.556,41.2332,40.7506, 40.7318,40.7405,40.7484,40.7528,40.7602 ,40.7648,40.8493,41.2537,41.5778, 41.9889,42.3176,42.6517,42.9851,43.1545 ,43.4083,43.5773,43.7483,43.92,44.0914, 44.2626,44.4366,44.6973,44.8708,45.047, 45.2231,45.399,45.6656,45.844,46.022, 46.202,46.3825,46.5628,46.7447,46.9275, 47.11,47.294,47.4791,47.6638,47.8499, 48.0371,48.2239,48.4125,48.6018,48.8864 ,49.0778,49.2689,49.4618,49.6552, 49.6989)
FOOTPRINT_POINT_LONGITUDE = (310.526,310.032,309.768,309.503, 309.041,308.777,308.512,308.247,307.982 ,307.717,307.289,307.317,307.345, 307.372,307.399,307.426,307.452,307.49, 307.515,307.539,307.563,307.587,307.61, 307.633,307.655,307.677,307.7,307.721, 307.743,307.763,307.784,307.804,307.834 ,307.853,307.872,307.9,307.918,307.936, 307.962,307.98,307.996,308.022,308.038, 308.053,308.085,308.117,308.146,308.174 ,308.201,308.227,308.266,308.568, 308.916,309.286,309.517,309.978,310.347 ,310.747,310.755,310.761,310.769, 310.775,310.781,310.788,310.791,310.796 ,310.799,310.803,310.806,310.81,310.813 ,310.817,310.822,310.825,310.829, 310.833,310.836,310.842,310.845,310.849 ,310.853,310.857,310.86,310.864,310.868 ,310.872,310.876,310.88,310.884,310.888 ,310.892,310.896,310.9,310.904,310.91, 310.915,310.919,310.923,310.928, 310.526)
ORBIT_NUMBER = 15619
ORBITAL_ECCENTRICITY = 0.577
ORBITAL_INCLINATION = 86.92
ORBITAL_SEMIMAJOR_AXIS = 8853.16
PERIAPSIS_ALTITUDE = 351.61
PERIAPSIS_ARGUMENT_ANGLE = 167.36
PERIAPSIS_TIME = 2016-04-28T06:10:51.000Z
SPACECRAFT_ORIENTATION = (0.0,-1.0,0.0)
^MEX_ORIENTATION_DESC = "MEX_ORIENTATION_DESC.TXT"
SPACECRAFT_POINTING_MODE = ACROSSTRACK
^MEX_POINTING_DESC = "MEX_POINTING_DESC.TXT"
RIGHT_ASCENSION = -1e+32
DECLINATION = -1e+32
OFFSET_ANGLE = -0.229
SPACECRAFT_SOLAR_DISTANCE = 2.32298e+08
TARGET_NAME = MARS
/* CAMERA DATA ELEMENTS */
DETECTOR_TEMPERATURE = 18.5744
FOCAL_PLANE_TEMPERATURE = 8.3794
INST_CMPRS_NAME = "DISCRETE COSINE TRANSFORMATION (DCT)"
INST_CMPRS_RATIO = 8.22609
INST_CMPRS_QUALITY = 0
INST_CMPRS_QUANTZ_TBL_ID = 0
INSTRUMENT_TEMPERATURE = 12.0496
LENS_TEMPERATURE = 8.7872
MACROPIXEL_SIZE = 4
MISSING_FRAMES = 0
PIXEL_SUBSAMPLING_FLAG = N
SIGNAL_CHAIN_ID = 2
/* RADIOMETRIC DATA ELEMENTS */
BANDWIDTH = 88.0
CENTER_FILTER_WAVELENGTH = 538.0
RADIANCE_OFFSET = 0.416049
RADIANCE_SCALING_FACTOR = 0.00254753
REFLECTANCE_SCALING_FACTOR = 0.00011836
MEX:REFLECTANCE_OFFSET = 0.0193299
/* IMAGE OBJECT DEFINITIONS */
OBJECT = IMAGE
  INTERCHANGE_FORMAT = BINARY
  LINES = 5310
  LINE_SAMPLES = 1446
  SAMPLE_TYPE = UNSIGNED_INTEGER
  SAMPLE_BITS = 8
  BANDS = 1
  BAND_STORAGE_TYPE = BAND_SEQUENTIAL
  MAXIMUM = 255
  MEAN = 98.9817
  MINIMUM = 1
  STANDARD_DEVIATION = 23.585
END_OBJECT = IMAGE
/* MAP OBJECT DEFINITIONS */
OBJECT = IMAGE_MAP_PROJECTION
  ^DATA_SET_MAP_PROJECTION_CATALOG= "DSMAP.CAT"
  A_AXIS_RADIUS = 3396.0
  B_AXIS_RADIUS = 3396.0
  C_AXIS_RADIUS = 3396.0
  CENTER_LATITUDE = 0.0
  CENTER_LONGITUDE = 309.0
  COORDINATE_SYSTEM_NAME = PLANETOGRAPHIC
  COORDINATE_SYSTEM_TYPE = "BODY-FIXED ROTATING"
  EASTERNMOST_LONGITUDE = 310.928
  FIRST_STANDARD_PARALLEL = "N/A"
  LINE_FIRST_PIXEL = 1
  LINE_LAST_PIXEL = 5310
  LINE_PROJECTION_OFFSET = 29457.125
  MAP_PROJECTION_ROTATION = 0.0
  MAP_PROJECTION_TYPE = SINUSOIDAL
  MAP_RESOLUTION = 592.713803866667
  MAP_SCALE = 0.1
  MAXIMUM_LATITUDE = 49.6989
  MINIMUM_LATITUDE = 40.7318
  POSITIVE_LONGITUDE_DIRECTION = EAST
  REFERENCE_LATITUDE = "N/A"
  REFERENCE_LONGITUDE = "N/A"
  SAMPLE_FIRST_PIXEL = 1
  SAMPLE_LAST_PIXEL = 1446
  SAMPLE_PROJECTION_OFFSET = 659.625
  SECOND_STANDARD_PARALLEL = "N/A"
  WESTERNMOST_LONGITUDE = 307.289
END_OBJECT = IMAGE_MAP_PROJECTION
/* The JPEG2000 image data file associated with this label. */
OBJECT = COMPRESSED_FILE
  FILE_NAME = "HF619_0000_GR3.JP2"
  RECORD_TYPE = UNDEFINED
  FILE_RECORDS = UNK
  ENCODING_TYPE = "JP2"
  INTERCHANGE_FORMAT = BINARY
  UNCOMPRESSED_FILE_NAME = "HF619_0000_GR3.IMG"
  REQUIRED_STORAGE_BYTES = "7697058"
  ^DESCRIPTION = "JP2INFO.TXT"
END_OBJECT = COMPRESSED_FILE
END
