PDS_VERSION_ID = PDS3
/* FILE DATA ELEMENTS */
RECORD_TYPE = STREAM
/* POINTERS TO DATA OBJECTS */
^COMPRESSED_FILE = "HF622_0000_BL3.JP2"
/* IDENTIFICATION DATA ELEMENTS */
DATA_SET_ID = "MEX-M-HRSC-5-REFDR-MAPPROJECTED-V3.0"
DATA_SET_NAME = "MARS EXPRESS HRSC MAP PROJECTED REFDR V3.0"
DETECTOR_ID = MEX_HRSC_BLUE
EVENT_TYPE = "MARS-REGIONAL-MAPPING-Vo-Im-Pf"
INSTRUMENT_HOST_ID = MEX
INSTRUMENT_HOST_NAME = "MARS EXPRESS"
INSTRUMENT_ID = HRSC
INSTRUMENT_NAME = "HIGH RESOLUTION STEREO CAMERA"
MISSION_NAME = "MARS EXPRESS"
MISSION_PHASE_NAME = ME_Phase_34
PROCESSING_LEVEL_ID = 3
PRODUCT_CREATION_TIME = 2016-11-08T12:40:53.000Z
PRODUCT_ID = "HF622_0000_BL3.JP2"
RELEASE_ID = 0133
REVISION_ID = 0000
/* QUALITY DATA ELEMENTS */
DATA_QUALITY_ID = 1
DATA_QUALITY_DESC = "Data calculated based on original SPICE kernels"
/* TIME DATA ELEMENTS */
SPACECRAFT_CLOCK_START_COUNT = "1/0409978638.09048"
SPACECRAFT_CLOCK_STOP_COUNT = "1/0409978942.45487"
START_TIME = 2016-04-29T02:59:10.994Z
STOP_TIME = 2016-04-29T03:01:43.699Z
/* ORBITAL DATA ELEMENTS */
ASCENDING_NODE_LONGITUDE = 280.43
MAXIMUM_RESOLUTION = 92.7
FOOTPRINT_POINT_LATITUDE = (53.9401,53.9359,53.9259,53.9142, 53.9055,53.8969,53.8876,53.8776,53.8668 ,53.8444,53.8484,53.6531,53.4738, 53.2941,53.1143,52.9341,52.7537,52.5729 ,52.3919,52.2106,52.029,51.847,51.6655, 51.4858,51.3059,51.1265,50.9488,50.7709 ,50.5055,50.3297,50.0666,49.893,49.7191 ,49.5456,49.374,49.2022,48.9452,48.7756 ,48.6059,48.4359,48.2684,48.1008, 47.8494,47.5185,47.3528,47.025,46.6164, 46.2942,45.9721,45.6542,45.2579,45.1911 ,45.204,45.213,45.2199,45.2278,45.2334, 45.2364,45.3965,45.7163,46.0358,46.3596 ,46.7658,47.2587,47.5912,47.7577, 47.9239,48.0926,48.2614,48.4299,48.6853 ,48.8562,49.0268,49.2866,49.4596, 49.6313,49.8062,49.9815,50.1564,50.333, 50.5103,50.6874,50.8663,51.0457,51.2248 ,51.4057,51.5871,51.7682,51.9515, 52.1349,52.318,52.5009,52.6836,52.866, 53.0481,53.2299,53.4115,53.5928,53.8708 ,53.9401)
FOOTPRINT_POINT_LONGITUDE = (4.07661,3.76715,3.18749,2.64691, 2.29955,1.99112,1.68301,1.3749,1.06679, 0.488219,0.109516,0.145732,0.178536, 0.21122,0.24288,0.27439,0.305483, 0.336374,0.36673,0.396832,0.42653, 0.456084,0.4849,0.513112,0.540958, 0.568441,0.595259,0.621751,0.660809, 0.686162,0.723361,0.747589,0.771628, 0.795229,0.818241,0.841183,0.874841, 0.896765,0.918282,0.939615,0.960332, 0.980992,1.01141,1.05088,1.07037, 1.10758,1.15273,1.18765,1.22182,1.25476 ,1.29475,1.51309,1.99284,2.39226, 2.73833,3.21814,3.67131,3.99119,4.16404 ,4.17099,4.17804,4.18518,4.19415, 4.20493,4.21273,4.21658,4.22038,4.2243, 4.22827,4.2321,4.23779,4.24168,4.24557, 4.25391,4.25798,4.2596,4.26388,4.26846, 4.2726,4.27683,4.28116,4.28551,4.28979, 4.29424,4.29869,4.30308,4.30752,4.31191 ,4.31652,4.32104,4.32536,4.32987, 4.33475,4.33944,4.34399,4.34859,4.35319 ,4.35784,4.36497,4.07661)
ORBIT_NUMBER = 15622
ORBITAL_ECCENTRICITY = 0.577
ORBITAL_INCLINATION = 86.91
ORBITAL_SEMIMAJOR_AXIS = 8854.66
PERIAPSIS_ALTITUDE = 352.12
PERIAPSIS_ARGUMENT_ANGLE = 166.8
PERIAPSIS_TIME = 2016-04-29T03:10:07.000Z
SPACECRAFT_ORIENTATION = (0.0,-1.0,0.0)
^MEX_ORIENTATION_DESC = "MEX_ORIENTATION_DESC.TXT"
SPACECRAFT_POINTING_MODE = NADIR
^MEX_POINTING_DESC = "MEX_POINTING_DESC.TXT"
RIGHT_ASCENSION = -1e+32
DECLINATION = -1e+32
OFFSET_ANGLE = -1e+32
SPACECRAFT_SOLAR_DISTANCE = 2.32134e+08
TARGET_NAME = MARS
/* CAMERA DATA ELEMENTS */
DETECTOR_TEMPERATURE = 18.5744
FOCAL_PLANE_TEMPERATURE = 7.9716
INST_CMPRS_NAME = "DISCRETE COSINE TRANSFORMATION (DCT)"
INST_CMPRS_RATIO = 5.44615
INST_CMPRS_QUALITY = 0
INST_CMPRS_QUANTZ_TBL_ID = 0
INSTRUMENT_TEMPERATURE = 11.234
LENS_TEMPERATURE = 7.9716
MACROPIXEL_SIZE = 4
MISSING_FRAMES = 0
PIXEL_SUBSAMPLING_FLAG = N
SIGNAL_CHAIN_ID = 2
/* RADIOMETRIC DATA ELEMENTS */
BANDWIDTH = 76.0
CENTER_FILTER_WAVELENGTH = 444.0
RADIANCE_OFFSET = 0.216863
RADIANCE_SCALING_FACTOR = 0.00094857
REFLECTANCE_SCALING_FACTOR = 5.2518e-05
MEX:REFLECTANCE_OFFSET = 0.0120067
/* IMAGE OBJECT DEFINITIONS */
OBJECT = IMAGE
  INTERCHANGE_FORMAT = BINARY
  LINES = 5205
  LINE_SAMPLES = 1527
  SAMPLE_TYPE = UNSIGNED_INTEGER
  SAMPLE_BITS = 8
  BANDS = 1
  BAND_STORAGE_TYPE = BAND_SEQUENTIAL
  MAXIMUM = 255
  MEAN = 135.592
  MINIMUM = 1
  STANDARD_DEVIATION = 31.9347
END_OBJECT = IMAGE
/* MAP OBJECT DEFINITIONS */
OBJECT = IMAGE_MAP_PROJECTION
  ^DATA_SET_MAP_PROJECTION_CATALOG= "DSMAP.CAT"
  A_AXIS_RADIUS = 3396.0
  B_AXIS_RADIUS = 3396.0
  C_AXIS_RADIUS = 3396.0
  CENTER_LATITUDE = 0.0
  CENTER_LONGITUDE = 3.0
  COORDINATE_SYSTEM_NAME = PLANETOGRAPHIC
  COORDINATE_SYSTEM_TYPE = "BODY-FIXED ROTATING"
  EASTERNMOST_LONGITUDE = 4.36497
  FIRST_STANDARD_PARALLEL = "N/A"
  LINE_FIRST_PIXEL = 1
  LINE_LAST_PIXEL = 5205
  LINE_PROJECTION_OFFSET = 31977.125
  MAP_PROJECTION_ROTATION = 0.0
  MAP_PROJECTION_TYPE = SINUSOIDAL
  MAP_RESOLUTION = 592.713803866667
  MAP_SCALE = 0.1
  MAXIMUM_LATITUDE = 53.9401
  MINIMUM_LATITUDE = 45.1911
  POSITIVE_LONGITUDE_DIRECTION = EAST
  REFERENCE_LATITUDE = "N/A"
  REFERENCE_LONGITUDE = "N/A"
  SAMPLE_FIRST_PIXEL = 1
  SAMPLE_LAST_PIXEL = 1527
  SAMPLE_PROJECTION_OFFSET = 1023.875
  SECOND_STANDARD_PARALLEL = "N/A"
  WESTERNMOST_LONGITUDE = 0.109516
END_OBJECT = IMAGE_MAP_PROJECTION
/* The JPEG2000 image data file associated with this label. */
OBJECT = COMPRESSED_FILE
  FILE_NAME = "HF622_0000_BL3.JP2"
  RECORD_TYPE = UNDEFINED
  FILE_RECORDS = UNK
  ENCODING_TYPE = "JP2"
  INTERCHANGE_FORMAT = BINARY
  UNCOMPRESSED_FILE_NAME = "HF622_0000_BL3.IMG"
  REQUIRED_STORAGE_BYTES = "7967886"
  ^DESCRIPTION = "JP2INFO.TXT"
END_OBJECT = COMPRESSED_FILE
END
