PDS_VERSION_ID = PDS3
/* FILE DATA ELEMENTS */
RECORD_TYPE = STREAM
/* POINTERS TO DATA OBJECTS */
^COMPRESSED_FILE = "HF622_0000_S23.JP2"
/* IDENTIFICATION DATA ELEMENTS */
DATA_SET_ID = "MEX-M-HRSC-5-REFDR-MAPPROJECTED-V3.0"
DATA_SET_NAME = "MARS EXPRESS HRSC MAP PROJECTED REFDR V3.0"
DETECTOR_ID = MEX_HRSC_S2
EVENT_TYPE = "MARS-REGIONAL-MAPPING-Vo-Im-Pf"
INSTRUMENT_HOST_ID = MEX
INSTRUMENT_HOST_NAME = "MARS EXPRESS"
INSTRUMENT_ID = HRSC
INSTRUMENT_NAME = "HIGH RESOLUTION STEREO CAMERA"
MISSION_NAME = "MARS EXPRESS"
MISSION_PHASE_NAME = ME_Phase_34
PROCESSING_LEVEL_ID = 3
PRODUCT_CREATION_TIME = 2016-11-08T12:40:53.000Z
PRODUCT_ID = "HF622_0000_S23.JP2"
RELEASE_ID = 0133
REVISION_ID = 0000
/* QUALITY DATA ELEMENTS */
DATA_QUALITY_ID = 1
DATA_QUALITY_DESC = "Data calculated based on original SPICE kernels"
/* TIME DATA ELEMENTS */
SPACECRAFT_CLOCK_START_COUNT = "1/0409978638.09048"
SPACECRAFT_CLOCK_STOP_COUNT = "1/0409978942.45487"
START_TIME = 2016-04-29T03:00:09.077Z
STOP_TIME = 2016-04-29T03:02:28.002Z
/* ORBITAL DATA ELEMENTS */
ASCENDING_NODE_LONGITUDE = 280.43
MAXIMUM_RESOLUTION = 46.5
FOOTPRINT_POINT_LATITUDE = (53.8497,53.8442,53.8337,53.8266, 53.8197,53.8123,53.8045,53.7961,53.7872 ,53.7765,53.784,53.5951,53.3117,53.1257 ,52.9395,52.661,52.4773,52.2931,52.1092 ,51.928,51.7465,51.4743,51.2955,51.0273 ,50.8487,50.6724,50.4957,50.2308, 49.9699,49.796,49.5352,49.3638,49.1918, 49.0202,48.8497,48.681,48.5122,48.3433, 48.0915,47.8418,47.6753,47.4266,47.2624 ,47.0987,46.9353,46.6911,46.2882, 45.8871,45.5701,45.2259,45.2322,45.2425 ,45.2489,45.2539,45.258,45.2621,45.2646 ,45.3476,45.6665,46.0643,46.3073, 46.4692,46.7927,46.9568,47.2038,47.3684 ,47.533,47.6997,47.8672,48.0345,48.2018 ,48.3707,48.5405,48.71,48.9642,49.227, 49.4015,49.5677,49.8302,50.0057,50.1805 ,50.4453,50.6231,50.8895,51.1591, 51.3394,51.5194,51.7929,51.9757,52.1583 ,52.3423,52.528,52.8064,52.9938,53.1816 ,53.3693,53.5587,53.7493,53.9392, 53.8497)
FOOTPRINT_POINT_LONGITUDE = (3.81002,3.47198,2.90913,2.57156, 2.27167,1.97211,1.67273,1.37321,1.07359 ,0.736093,0.254287,0.286926,0.335181, 0.366071,0.396571,0.441511,0.470627, 0.499516,0.528028,0.555542,0.582878, 0.623156,0.649143,0.687328,0.712587, 0.737089,0.761383,0.797147,0.831749, 0.854352,0.887788,0.909471,0.931139, 0.952307,0.97306,0.993306,1.0133, 1.03308,1.06231,1.09074,1.10938,1.13705 ,1.15509,1.17264,1.18974,1.21517, 1.25637,1.29635,1.327,1.49174,1.72992, 2.25947,2.62963,2.97368,3.26494,3.60911 ,3.84752,4.09705,4.10248,4.10913, 4.11324,4.11596,4.12134,4.12401,4.12817 ,4.13098,4.1338,4.13664,4.13952,4.14239 ,4.14532,4.14822,4.151,4.15368,4.15782, 4.164,4.16783,4.16804,4.17272,4.17587, 4.17873,4.18328,4.18631,4.19081,4.19556 ,4.19862,4.20163,4.20624,4.2093,4.21233 ,4.21517,4.2184,4.22334,4.22642,4.2295, 4.23263,4.23575,4.23896,4.24197, 3.81002)
ORBIT_NUMBER = 15622
ORBITAL_ECCENTRICITY = 0.577
ORBITAL_INCLINATION = 86.91
ORBITAL_SEMIMAJOR_AXIS = 8854.66
PERIAPSIS_ALTITUDE = 352.12
PERIAPSIS_ARGUMENT_ANGLE = 166.8
PERIAPSIS_TIME = 2016-04-29T03:10:07.000Z
SPACECRAFT_ORIENTATION = (0.0,-1.0,0.0)
^MEX_ORIENTATION_DESC = "MEX_ORIENTATION_DESC.TXT"
SPACECRAFT_POINTING_MODE = NADIR
^MEX_POINTING_DESC = "MEX_POINTING_DESC.TXT"
RIGHT_ASCENSION = -1e+32
DECLINATION = -1e+32
OFFSET_ANGLE = -1e+32
SPACECRAFT_SOLAR_DISTANCE = 2.32134e+08
TARGET_NAME = MARS
/* CAMERA DATA ELEMENTS */
DETECTOR_TEMPERATURE = 18.3705
FOCAL_PLANE_TEMPERATURE = 7.9716
INST_CMPRS_NAME = "DISCRETE COSINE TRANSFORMATION (DCT)"
INST_CMPRS_RATIO = 12.7315
INST_CMPRS_QUALITY = 0
INST_CMPRS_QUANTZ_TBL_ID = 0
INSTRUMENT_TEMPERATURE = 11.234
LENS_TEMPERATURE = 7.9716
MACROPIXEL_SIZE = 2
MISSING_FRAMES = 0
PIXEL_SUBSAMPLING_FLAG = N
SIGNAL_CHAIN_ID = 1
/* RADIOMETRIC DATA ELEMENTS */
BANDWIDTH = 178.0
CENTER_FILTER_WAVELENGTH = 679.0
RADIANCE_OFFSET = 1.12299
RADIANCE_SCALING_FACTOR = 0.00852666
REFLECTANCE_SCALING_FACTOR = 0.000243328
MEX:REFLECTANCE_OFFSET = 0.0320471
/* IMAGE OBJECT DEFINITIONS */
OBJECT = IMAGE
  INTERCHANGE_FORMAT = BINARY
  LINES = 10409
  LINE_SAMPLES = 3053
  SAMPLE_TYPE = UNSIGNED_INTEGER
  SAMPLE_BITS = 8
  BANDS = 1
  BAND_STORAGE_TYPE = BAND_SEQUENTIAL
  MAXIMUM = 255
  MEAN = 101.064
  MINIMUM = 1
  STANDARD_DEVIATION = 33.2406
END_OBJECT = IMAGE
/* MAP OBJECT DEFINITIONS */
OBJECT = IMAGE_MAP_PROJECTION
  ^DATA_SET_MAP_PROJECTION_CATALOG= "DSMAP.CAT"
  A_AXIS_RADIUS = 3396.0
  B_AXIS_RADIUS = 3396.0
  C_AXIS_RADIUS = 3396.0
  CENTER_LATITUDE = 0.0
  CENTER_LONGITUDE = 3.0
  COORDINATE_SYSTEM_NAME = PLANETOGRAPHIC
  COORDINATE_SYSTEM_TYPE = "BODY-FIXED ROTATING"
  EASTERNMOST_LONGITUDE = 4.24197
  FIRST_STANDARD_PARALLEL = "N/A"
  LINE_FIRST_PIXEL = 1
  LINE_LAST_PIXEL = 10409
  LINE_PROJECTION_OFFSET = 63954.75
  MAP_PROJECTION_ROTATION = 0.0
  MAP_PROJECTION_TYPE = SINUSOIDAL
  MAP_RESOLUTION = 1185.42760773333
  MAP_SCALE = 0.05
  MAXIMUM_LATITUDE = 53.9392
  MINIMUM_LATITUDE = 45.2259
  POSITIVE_LONGITUDE_DIRECTION = EAST
  REFERENCE_LATITUDE = "N/A"
  REFERENCE_LONGITUDE = "N/A"
  SAMPLE_FIRST_PIXEL = 1
  SAMPLE_LAST_PIXEL = 3053
  SAMPLE_PROJECTION_OFFSET = 2048.25
  SECOND_STANDARD_PARALLEL = "N/A"
  WESTERNMOST_LONGITUDE = 0.254287
END_OBJECT = IMAGE_MAP_PROJECTION
/* The JPEG2000 image data file associated with this label. */
OBJECT = COMPRESSED_FILE
  FILE_NAME = "HF622_0000_S23.JP2"
  RECORD_TYPE = UNDEFINED
  FILE_RECORDS = UNK
  ENCODING_TYPE = "JP2"
  INTERCHANGE_FORMAT = BINARY
  UNCOMPRESSED_FILE_NAME = "HF622_0000_S23.IMG"
  REQUIRED_STORAGE_BYTES = "31803101"
  ^DESCRIPTION = "JP2INFO.TXT"
END_OBJECT = COMPRESSED_FILE
END
