PDS_VERSION_ID = PDS3
/* FILE DATA ELEMENTS */
RECORD_TYPE = STREAM
/* POINTERS TO DATA OBJECTS */
^COMPRESSED_FILE = "HF632_0000_S13.JP2"
/* IDENTIFICATION DATA ELEMENTS */
DATA_SET_ID = "MEX-M-HRSC-5-REFDR-MAPPROJECTED-V3.0"
DATA_SET_NAME = "MARS EXPRESS HRSC MAP PROJECTED REFDR V3.0"
DETECTOR_ID = MEX_HRSC_S1
EVENT_TYPE = "MARS-REGIONAL-MAPPING-Gl-Pf-Mw"
INSTRUMENT_HOST_ID = MEX
INSTRUMENT_HOST_NAME = "MARS EXPRESS"
INSTRUMENT_ID = HRSC
INSTRUMENT_NAME = "HIGH RESOLUTION STEREO CAMERA"
MISSION_NAME = "MARS EXPRESS"
MISSION_PHASE_NAME = ME_Phase_34
PROCESSING_LEVEL_ID = 3
PRODUCT_CREATION_TIME = 2016-11-08T12:40:53.000Z
PRODUCT_ID = "HF632_0000_S13.JP2"
RELEASE_ID = 0133
REVISION_ID = 0000
/* QUALITY DATA ELEMENTS */
DATA_QUALITY_ID = 1
DATA_QUALITY_DESC = "Data calculated based on original SPICE kernels"
/* TIME DATA ELEMENTS */
SPACECRAFT_CLOCK_START_COUNT = "1/0410230634.09071"
SPACECRAFT_CLOCK_STOP_COUNT = "1/0410230998.07333"
START_TIME = 2016-05-02T00:57:21.433Z
STOP_TIME = 2016-05-02T01:02:00.534Z
/* ORBITAL DATA ELEMENTS */
ASCENDING_NODE_LONGITUDE = 280.23
MAXIMUM_RESOLUTION = 39.1
FOOTPRINT_POINT_LATITUDE = (49.1899,49.1676,49.1418,49.1122, 49.0788,49.0415,49.0002,48.5391,48.1995 ,47.8623,47.527,47.1948,46.8691,46.5348 ,46.2079,45.8834,45.5595,45.239,44.7629 ,44.4448,44.1321,43.6641,43.3538, 43.0472,42.7412,42.4391,42.1322,41.8332 ,41.5328,41.2358,40.7941,40.3596, 40.0627,39.7723,39.484,39.1987,38.7712, 38.4893,38.2098,37.7904,37.3701,36.9596 ,36.6854,36.2755,36.0057,35.7361, 35.3446,35.0814,34.8145,34.5514,34.2868 ,34.0124,34.0464,34.0585,34.086,34.0996 ,34.3681,34.6383,35.1617,35.4291, 35.7027,35.9719,36.2437,36.5108,36.7835 ,37.0599,37.4733,37.7534,38.1736, 38.4566,38.7402,39.0237,39.3121,39.5998 ,39.8912,40.3275,40.7688,41.0619, 41.3612,41.8091,42.2627,42.7219,43.1839 ,43.6497,43.9612,44.276,44.7523,45.0709 ,45.3925,45.8789,46.2057,46.5351,46.866 ,47.1997,47.5359,47.8738,48.2132, 48.5557,48.9015,49.1899)
FOOTPRINT_POINT_LONGITUDE = (59.9604,59.4071,58.8516,58.2933,57.733 ,57.1697,56.603,56.3381,56.3936,56.4477 ,56.5005,56.5518,56.6044,56.6494, 56.6958,56.7411,56.7851,56.8275,56.8902 ,56.9289,56.9681,57.0235,57.0598,57.095 ,57.1298,57.1638,57.1937,57.2257, 57.2561,57.2854,57.3298,57.3751,57.3973 ,57.423,57.4484,57.4734,57.5098,57.5329 ,57.5579,57.5902,57.6209,57.6519, 57.6723,57.6998,57.7191,57.7387,57.7709 ,57.7907,57.8076,57.8231,57.8379, 58.0084,58.5145,58.8567,59.3701,59.7081 ,59.8291,59.8313,59.8358,59.8381, 59.8402,59.8426,59.8449,59.8474,59.8498 ,59.8522,59.8559,59.8584,59.8621, 59.8647,59.8673,59.8698,59.8725,59.8751 ,59.8777,59.8818,59.8861,59.889,59.8919 ,59.8964,59.9009,59.9054,59.9101, 59.9149,59.9184,59.9216,59.9266,59.9303 ,59.9339,59.9394,59.9431,59.947,59.9508 ,59.9548,59.9588,59.9628,59.9671, 59.9715,59.9758,59.9604)
ORBIT_NUMBER = 15632
ORBITAL_ECCENTRICITY = 0.577
ORBITAL_INCLINATION = 86.93
ORBITAL_SEMIMAJOR_AXIS = 8858.41
PERIAPSIS_ALTITUDE = 352.37
PERIAPSIS_ARGUMENT_ANGLE = 165.09
PERIAPSIS_TIME = 2016-05-02T01:07:44.000Z
SPACECRAFT_ORIENTATION = (0.0,-1.0,0.0)
^MEX_ORIENTATION_DESC = "MEX_ORIENTATION_DESC.TXT"
SPACECRAFT_POINTING_MODE = ACROSSTRACK
^MEX_POINTING_DESC = "MEX_POINTING_DESC.TXT"
RIGHT_ASCENSION = -1e+32
DECLINATION = -1e+32
OFFSET_ANGLE = -0.808
SPACECRAFT_SOLAR_DISTANCE = 2.31585e+08
TARGET_NAME = MARS
/* CAMERA DATA ELEMENTS */
DETECTOR_TEMPERATURE = 17.7588
FOCAL_PLANE_TEMPERATURE = 7.9716
INST_CMPRS_NAME = "DISCRETE COSINE TRANSFORMATION (DCT)"
INST_CMPRS_RATIO = 6.72244
INST_CMPRS_QUALITY = 0
INST_CMPRS_QUANTZ_TBL_ID = 0
INSTRUMENT_TEMPERATURE = 11.234
LENS_TEMPERATURE = 7.9716
MACROPIXEL_SIZE = 2
MISSING_FRAMES = 0
PIXEL_SUBSAMPLING_FLAG = N
SIGNAL_CHAIN_ID = 1
/* RADIOMETRIC DATA ELEMENTS */
BANDWIDTH = 180.0
CENTER_FILTER_WAVELENGTH = 677.0
RADIANCE_OFFSET = 0.903111
RADIANCE_SCALING_FACTOR = 0.0190622
REFLECTANCE_SCALING_FACTOR = 0.000533388
MEX:REFLECTANCE_OFFSET = 0.0252704
/* IMAGE OBJECT DEFINITIONS */
OBJECT = IMAGE
  INTERCHANGE_FORMAT = BINARY
  LINES = 35615
  LINE_SAMPLES = 5475
  SAMPLE_TYPE = UNSIGNED_INTEGER
  SAMPLE_BITS = 8
  BANDS = 1
  BAND_STORAGE_TYPE = BAND_SEQUENTIAL
  MAXIMUM = 255
  MEAN = 76.0098
  MINIMUM = 1
  STANDARD_DEVIATION = 23.0742
END_OBJECT = IMAGE
/* MAP OBJECT DEFINITIONS */
OBJECT = IMAGE_MAP_PROJECTION
  ^DATA_SET_MAP_PROJECTION_CATALOG= "DSMAP.CAT"
  A_AXIS_RADIUS = 3396.0
  B_AXIS_RADIUS = 3396.0
  C_AXIS_RADIUS = 3396.0
  CENTER_LATITUDE = 0.0
  CENTER_LONGITUDE = 59.0
  COORDINATE_SYSTEM_NAME = PLANETOGRAPHIC
  COORDINATE_SYSTEM_TYPE = "BODY-FIXED ROTATING"
  EASTERNMOST_LONGITUDE = 59.9758
  FIRST_STANDARD_PARALLEL = "N/A"
  LINE_FIRST_PIXEL = 1
  LINE_LAST_PIXEL = 35615
  LINE_PROJECTION_OFFSET = 116327.25
  MAP_PROJECTION_ROTATION = 0.0
  MAP_PROJECTION_TYPE = SINUSOIDAL
  MAP_RESOLUTION = 2370.85521546667
  MAP_SCALE = 0.025
  MAXIMUM_LATITUDE = 49.1899
  MINIMUM_LATITUDE = 34.0124
  POSITIVE_LONGITUDE_DIRECTION = EAST
  REFERENCE_LATITUDE = "N/A"
  REFERENCE_LONGITUDE = "N/A"
  SAMPLE_FIRST_PIXEL = 1
  SAMPLE_LAST_PIXEL = 5475
  SAMPLE_PROJECTION_OFFSET = 3951.25
  SECOND_STANDARD_PARALLEL = "N/A"
  WESTERNMOST_LONGITUDE = 56.3381
END_OBJECT = IMAGE_MAP_PROJECTION
/* The JPEG2000 image data file associated with this label. */
OBJECT = COMPRESSED_FILE
  FILE_NAME = "HF632_0000_S13.JP2"
  RECORD_TYPE = UNDEFINED
  FILE_RECORDS = UNK
  ENCODING_TYPE = "JP2"
  INTERCHANGE_FORMAT = BINARY
  UNCOMPRESSED_FILE_NAME = "HF632_0000_S13.IMG"
  REQUIRED_STORAGE_BYTES = "195019500"
  ^DESCRIPTION = "JP2INFO.TXT"
END_OBJECT = COMPRESSED_FILE
END
