PDS_VERSION_ID = PDS3
/* FILE DATA ELEMENTS */
RECORD_TYPE = STREAM
/* POINTERS TO DATA OBJECTS */
^COMPRESSED_FILE = "HF632_0000_S23.JP2"
/* IDENTIFICATION DATA ELEMENTS */
DATA_SET_ID = "MEX-M-HRSC-5-REFDR-MAPPROJECTED-V3.0"
DATA_SET_NAME = "MARS EXPRESS HRSC MAP PROJECTED REFDR V3.0"
DETECTOR_ID = MEX_HRSC_S2
EVENT_TYPE = "MARS-REGIONAL-MAPPING-Gl-Pf-Mw"
INSTRUMENT_HOST_ID = MEX
INSTRUMENT_HOST_NAME = "MARS EXPRESS"
INSTRUMENT_ID = HRSC
INSTRUMENT_NAME = "HIGH RESOLUTION STEREO CAMERA"
MISSION_NAME = "MARS EXPRESS"
MISSION_PHASE_NAME = ME_Phase_34
PROCESSING_LEVEL_ID = 3
PRODUCT_CREATION_TIME = 2016-11-08T12:40:53.000Z
PRODUCT_ID = "HF632_0000_S23.JP2"
RELEASE_ID = 0133
REVISION_ID = 0000
/* QUALITY DATA ELEMENTS */
DATA_QUALITY_ID = 1
DATA_QUALITY_DESC = "Data calculated based on original SPICE kernels"
/* TIME DATA ELEMENTS */
SPACECRAFT_CLOCK_START_COUNT = "1/0410230634.09071"
SPACECRAFT_CLOCK_STOP_COUNT = "1/0410230998.07333"
START_TIME = 2016-05-02T00:59:31.426Z
STOP_TIME = 2016-05-02T01:03:23.413Z
/* ORBITAL DATA ELEMENTS */
ASCENDING_NODE_LONGITUDE = 280.23
MAXIMUM_RESOLUTION = 35.6
FOOTPRINT_POINT_LATITUDE = (48.9444,48.9426,48.9396,48.9355, 48.9254,48.4977,48.1532,47.8133,47.4729 ,47.1372,46.8035,46.4723,46.1432, 45.6523,45.3293,45.0074,44.6908,44.3732 ,44.0577,43.7461,43.4344,43.1259, 42.8186,42.3606,42.0612,41.7593,41.4596 ,41.1655,40.8716,40.5766,40.2805, 39.9973,39.7081,39.42,39.1368,38.8543, 38.4303,38.0097,37.7337,37.3204,36.9104 ,36.5047,36.1016,35.6966,35.1585,34.892 ,34.6288,34.3694,34.0833,34.07,34.0686, 34.052,34.182,34.4337,34.6998,35.0987, 35.365,35.6259,35.8934,36.1636,36.4405, 36.711,37.1192,37.3974,37.6748,37.9516, 38.2283,38.5116,38.9364,39.2188,39.5055 ,39.7933,40.082,40.3733,40.8169,41.1128 ,41.4066,41.71,42.0131,42.314,42.6205, 42.9278,43.2343,43.5444,43.8612,44.1743 ,44.4933,44.8125,45.1342,45.4596, 45.7844,46.1135,46.4441,46.9446,47.2811 ,47.7912,48.1332,48.6537,49.0013, 48.9444)
FOOTPRINT_POINT_LONGITUDE = (58.8556,58.3916,57.9246,57.4544, 56.6512,56.6281,56.6765,56.7231,56.7688 ,56.8138,56.8556,56.8975,56.9378, 56.9974,57.0345,57.0703,57.1046,57.1388 ,57.1723,57.2043,57.2356,57.2665, 57.2973,57.3396,57.3667,57.3951,57.421, 57.4458,57.4704,57.4952,57.523,57.5417, 57.5648,57.5864,57.6079,57.6288,57.6594 ,57.6911,57.7096,57.7359,57.7622, 57.7879,57.8105,57.8373,57.8756,57.892, 57.9055,57.9188,58.0935,58.6786,59.0596 ,59.4581,59.7364,59.7368,59.7367, 59.7366,59.7365,59.7366,59.7364,59.7362 ,59.7358,59.7356,59.7351,59.7347, 59.7343,59.7339,59.7335,59.7329,59.732, 59.7314,59.7306,59.7299,59.729,59.7281, 59.7265,59.7254,59.7243,59.723,59.7216, 59.7202,59.7187,59.717,59.7153,59.7135, 59.7116,59.7095,59.7073,59.7051,59.7027 ,59.7001,59.6974,59.6946,59.6916, 59.6868,59.6834,59.6779,59.674,59.6678, 59.6634,58.8556)
ORBIT_NUMBER = 15632
ORBITAL_ECCENTRICITY = 0.577
ORBITAL_INCLINATION = 86.93
ORBITAL_SEMIMAJOR_AXIS = 8858.41
PERIAPSIS_ALTITUDE = 352.37
PERIAPSIS_ARGUMENT_ANGLE = 165.09
PERIAPSIS_TIME = 2016-05-02T01:07:44.000Z
SPACECRAFT_ORIENTATION = (0.0,-1.0,0.0)
^MEX_ORIENTATION_DESC = "MEX_ORIENTATION_DESC.TXT"
SPACECRAFT_POINTING_MODE = ACROSSTRACK
^MEX_POINTING_DESC = "MEX_POINTING_DESC.TXT"
RIGHT_ASCENSION = -1e+32
DECLINATION = -1e+32
OFFSET_ANGLE = -0.808
SPACECRAFT_SOLAR_DISTANCE = 2.31585e+08
TARGET_NAME = MARS
/* CAMERA DATA ELEMENTS */
DETECTOR_TEMPERATURE = 18.5744
FOCAL_PLANE_TEMPERATURE = 7.9716
INST_CMPRS_NAME = "DISCRETE COSINE TRANSFORMATION (DCT)"
INST_CMPRS_RATIO = 7.69033
INST_CMPRS_QUALITY = 0
INST_CMPRS_QUANTZ_TBL_ID = 0
INSTRUMENT_TEMPERATURE = 11.234
LENS_TEMPERATURE = 7.9716
MACROPIXEL_SIZE = 2
MISSING_FRAMES = 0
PIXEL_SUBSAMPLING_FLAG = N
SIGNAL_CHAIN_ID = 1
/* RADIOMETRIC DATA ELEMENTS */
BANDWIDTH = 178.0
CENTER_FILTER_WAVELENGTH = 679.0
RADIANCE_OFFSET = 0.841721
RADIANCE_SCALING_FACTOR = 0.0181015
REFLECTANCE_SCALING_FACTOR = 0.000514129
MEX:REFLECTANCE_OFFSET = 0.023907
/* IMAGE OBJECT DEFINITIONS */
OBJECT = IMAGE
  INTERCHANGE_FORMAT = BINARY
  LINES = 35615
  LINE_SAMPLES = 5475
  SAMPLE_TYPE = UNSIGNED_INTEGER
  SAMPLE_BITS = 8
  BANDS = 1
  BAND_STORAGE_TYPE = BAND_SEQUENTIAL
  MAXIMUM = 255
  MEAN = 75.3636
  MINIMUM = 1
  STANDARD_DEVIATION = 23.3663
END_OBJECT = IMAGE
/* MAP OBJECT DEFINITIONS */
OBJECT = IMAGE_MAP_PROJECTION
  ^DATA_SET_MAP_PROJECTION_CATALOG= "DSMAP.CAT"
  A_AXIS_RADIUS = 3396.0
  B_AXIS_RADIUS = 3396.0
  C_AXIS_RADIUS = 3396.0
  CENTER_LATITUDE = 0.0
  CENTER_LONGITUDE = 59.0
  COORDINATE_SYSTEM_NAME = PLANETOGRAPHIC
  COORDINATE_SYSTEM_TYPE = "BODY-FIXED ROTATING"
  EASTERNMOST_LONGITUDE = 59.7368
  FIRST_STANDARD_PARALLEL = "N/A"
  LINE_FIRST_PIXEL = 1
  LINE_LAST_PIXEL = 35615
  LINE_PROJECTION_OFFSET = 116327.25
  MAP_PROJECTION_ROTATION = 0.0
  MAP_PROJECTION_TYPE = SINUSOIDAL
  MAP_RESOLUTION = 2370.85521546667
  MAP_SCALE = 0.025
  MAXIMUM_LATITUDE = 49.0013
  MINIMUM_LATITUDE = 34.052
  POSITIVE_LONGITUDE_DIRECTION = EAST
  REFERENCE_LATITUDE = "N/A"
  REFERENCE_LONGITUDE = "N/A"
  SAMPLE_FIRST_PIXEL = 1
  SAMPLE_LAST_PIXEL = 5475
  SAMPLE_PROJECTION_OFFSET = 3951.25
  SECOND_STANDARD_PARALLEL = "N/A"
  WESTERNMOST_LONGITUDE = 56.6281
END_OBJECT = IMAGE_MAP_PROJECTION
/* The JPEG2000 image data file associated with this label. */
OBJECT = COMPRESSED_FILE
  FILE_NAME = "HF632_0000_S23.JP2"
  RECORD_TYPE = UNDEFINED
  FILE_RECORDS = UNK
  ENCODING_TYPE = "JP2"
  INTERCHANGE_FORMAT = BINARY
  UNCOMPRESSED_FILE_NAME = "HF632_0000_S23.IMG"
  REQUIRED_STORAGE_BYTES = "195019500"
  ^DESCRIPTION = "JP2INFO.TXT"
END_OBJECT = COMPRESSED_FILE
END
