PDS_VERSION_ID = PDS3
/* FILE DATA ELEMENTS */
RECORD_TYPE = STREAM
/* POINTERS TO DATA OBJECTS */
^COMPRESSED_FILE = "HF646_0000_GR3.JP2"
/* IDENTIFICATION DATA ELEMENTS */
DATA_SET_ID = "MEX-M-HRSC-5-REFDR-MAPPROJECTED-V3.0"
DATA_SET_NAME = "MARS EXPRESS HRSC MAP PROJECTED REFDR V3.0"
DETECTOR_ID = MEX_HRSC_GREEN
EVENT_TYPE = "MARS-REGIONAL-MAPPING-Fl-Gl"
INSTRUMENT_HOST_ID = MEX
INSTRUMENT_HOST_NAME = "MARS EXPRESS"
INSTRUMENT_ID = HRSC
INSTRUMENT_NAME = "HIGH RESOLUTION STEREO CAMERA"
MISSION_NAME = "MARS EXPRESS"
MISSION_PHASE_NAME = ME_Phase_34
PROCESSING_LEVEL_ID = 3
PRODUCT_CREATION_TIME = 2016-11-08T12:40:53.000Z
PRODUCT_ID = "HF646_0000_GR3.JP2"
RELEASE_ID = 0133
REVISION_ID = 0000
/* QUALITY DATA ELEMENTS */
DATA_QUALITY_ID = 1
DATA_QUALITY_DESC = "Data calculated based on original SPICE kernels"
/* TIME DATA ELEMENTS */
SPACECRAFT_CLOCK_START_COUNT = "1/0410583373.07304"
SPACECRAFT_CLOCK_STOP_COUNT = "1/0410583780.56510"
START_TIME = 2016-05-06T02:57:06.620Z
STOP_TIME = 2016-05-06T03:02:27.595Z
/* ORBITAL DATA ELEMENTS */
ASCENDING_NODE_LONGITUDE = 279.97
MAXIMUM_RESOLUTION = 58.3
FOOTPRINT_POINT_LATITUDE = (43.7927,43.7843,43.7713,43.7599, 43.7472,43.7331,43.7042,43.3596,42.843, 42.5039,41.9958,41.6621,41.1614,40.8331 ,40.5042,40.0168,39.6941,39.3703, 39.0534,38.7359,38.4179,38.1064,37.7945 ,37.3266,37.021,36.7149,36.4081,35.9557 ,35.6543,35.353,35.0528,34.7582,34.3169 ,34.0227,33.7294,33.2968,33.0084, 32.7196,32.4307,32.1478,27.3845,27.0973 ,26.6657,26.3783,26.0896,25.8014, 25.3689,24.9357,24.5322,24.0466,23.8622 ,23.8676,23.8724,24.2395,24.6036, 24.8729,25.162,25.5957,26.0291,26.3177, 26.6063,26.8945,27.1825,27.4694,32.2441 ,32.6734,32.9635,33.2532,33.5416, 33.8306,34.1266,34.4213,34.7167,35.0118 ,35.311,35.613,35.9144,36.2156,36.6754, 36.983,37.2899,37.6008,37.914,38.3833, 38.7007,39.0198,39.3382,39.661,39.9857, 40.3098,40.8041,41.134,41.4675,41.8034, 42.1377,42.4788,42.8211,43.1656,43.5125 ,43.7927)
FOOTPRINT_POINT_LONGITUDE = (67.2467,66.8851,66.4069,66.0403, 65.6713,65.2997,64.9087,64.9436,64.9952 ,65.0279,65.077,65.1075,65.1528,65.1809 ,65.2084,65.2489,65.2765,65.2999, 65.3244,65.3488,65.3727,65.3949,65.4164 ,65.4479,65.4688,65.4887,65.5078, 65.5384,65.552,65.5674,65.5847,65.5994, 65.6259,65.6452,65.6597,65.6814,65.6976 ,65.713,65.7271,65.7373,65.9181,65.9268 ,65.9375,65.947,65.9519,65.9591,65.971, 65.981,65.9889,65.9956,66.4147,66.7477, 67.2148,67.4123,67.4134,67.4143,67.415, 67.4163,67.4175,67.4184,67.4193,67.4201 ,67.4209,67.4214,67.4327,67.4335,67.434 ,67.4345,67.4348,67.4352,67.4357,67.436 ,67.4364,67.4368,67.4371,67.4375, 67.4378,67.438,67.4384,67.4385,67.4387, 67.4388,67.4389,67.4389,67.4389,67.4389 ,67.4388,67.4386,67.4384,67.4382, 67.4377,67.4373,67.4369,67.4364,67.4361 ,67.4357,67.4345,67.4336,67.4327, 67.2467)
ORBIT_NUMBER = 15646
ORBITAL_ECCENTRICITY = 0.577
ORBITAL_INCLINATION = 86.93
ORBITAL_SEMIMAJOR_AXIS = 8856.36
PERIAPSIS_ALTITUDE = 353.55
PERIAPSIS_ARGUMENT_ANGLE = 162.64
PERIAPSIS_TIME = 2016-05-06T03:04:14.000Z
SPACECRAFT_ORIENTATION = (0.0,-1.0,0.0)
^MEX_ORIENTATION_DESC = "MEX_ORIENTATION_DESC.TXT"
SPACECRAFT_POINTING_MODE = ACROSSTRACK
^MEX_POINTING_DESC = "MEX_POINTING_DESC.TXT"
RIGHT_ASCENSION = -1e+32
DECLINATION = -1e+32
OFFSET_ANGLE = -0.75
SPACECRAFT_SOLAR_DISTANCE = 2.30811e+08
TARGET_NAME = MARS
/* CAMERA DATA ELEMENTS */
DETECTOR_TEMPERATURE = 18.9822
FOCAL_PLANE_TEMPERATURE = 8.9911
INST_CMPRS_NAME = "DISCRETE COSINE TRANSFORMATION (DCT)"
INST_CMPRS_RATIO = 4.84569
INST_CMPRS_QUALITY = 0
INST_CMPRS_QUANTZ_TBL_ID = 0
INSTRUMENT_TEMPERATURE = 12.6613
LENS_TEMPERATURE = 9.6028
MACROPIXEL_SIZE = 4
MISSING_FRAMES = 580
PIXEL_SUBSAMPLING_FLAG = N
SIGNAL_CHAIN_ID = 2
/* RADIOMETRIC DATA ELEMENTS */
BANDWIDTH = 88.0
CENTER_FILTER_WAVELENGTH = 538.0
RADIANCE_OFFSET = 0.375533
RADIANCE_SCALING_FACTOR = 0.00518269
REFLECTANCE_SCALING_FACTOR = 0.000237718
MEX:REFLECTANCE_OFFSET = 0.0172248
/* IMAGE OBJECT DEFINITIONS */
OBJECT = IMAGE
  INTERCHANGE_FORMAT = BINARY
  LINES = 23613
  LINE_SAMPLES = 2264
  SAMPLE_TYPE = UNSIGNED_INTEGER
  SAMPLE_BITS = 8
  BANDS = 1
  BAND_STORAGE_TYPE = BAND_SEQUENTIAL
  MAXIMUM = 255
  MEAN = 74.5564
  MINIMUM = 1
  STANDARD_DEVIATION = 22.3729
END_OBJECT = IMAGE
/* MAP OBJECT DEFINITIONS */
OBJECT = IMAGE_MAP_PROJECTION
  ^DATA_SET_MAP_PROJECTION_CATALOG= "DSMAP.CAT"
  A_AXIS_RADIUS = 3396.0
  B_AXIS_RADIUS = 3396.0
  C_AXIS_RADIUS = 3396.0
  CENTER_LATITUDE = 0.0
  CENTER_LONGITUDE = 67.0
  COORDINATE_SYSTEM_NAME = PLANETOGRAPHIC
  COORDINATE_SYSTEM_TYPE = "BODY-FIXED ROTATING"
  EASTERNMOST_LONGITUDE = 67.4389
  FIRST_STANDARD_PARALLEL = "N/A"
  LINE_FIRST_PIXEL = 1
  LINE_LAST_PIXEL = 23613
  LINE_PROJECTION_OFFSET = 51892.875
  MAP_PROJECTION_ROTATION = 0.0
  MAP_PROJECTION_TYPE = SINUSOIDAL
  MAP_RESOLUTION = 1185.42760773333
  MAP_SCALE = 0.05
  MAXIMUM_LATITUDE = 43.7927
  MINIMUM_LATITUDE = 23.8622
  POSITIVE_LONGITUDE_DIRECTION = EAST
  REFERENCE_LATITUDE = "N/A"
  REFERENCE_LONGITUDE = "N/A"
  SAMPLE_FIRST_PIXEL = 1
  SAMPLE_LAST_PIXEL = 2264
  SAMPLE_PROJECTION_OFFSET = 1818.625
  SECOND_STANDARD_PARALLEL = "N/A"
  WESTERNMOST_LONGITUDE = 64.9087
END_OBJECT = IMAGE_MAP_PROJECTION
/* The JPEG2000 image data file associated with this label. */
OBJECT = COMPRESSED_FILE
  FILE_NAME = "HF646_0000_GR3.JP2"
  RECORD_TYPE = UNDEFINED
  FILE_RECORDS = UNK
  ENCODING_TYPE = "JP2"
  INTERCHANGE_FORMAT = BINARY
  UNCOMPRESSED_FILE_NAME = "HF646_0000_GR3.IMG"
  REQUIRED_STORAGE_BYTES = "53482472"
  ^DESCRIPTION = "JP2INFO.TXT"
END_OBJECT = COMPRESSED_FILE
END
