PDS_VERSION_ID = PDS3
/* FILE DATA ELEMENTS */
RECORD_TYPE = STREAM
/* POINTERS TO DATA OBJECTS */
^COMPRESSED_FILE = "HF646_0000_P13.JP2"
/* IDENTIFICATION DATA ELEMENTS */
DATA_SET_ID = "MEX-M-HRSC-5-REFDR-MAPPROJECTED-V3.0"
DATA_SET_NAME = "MARS EXPRESS HRSC MAP PROJECTED REFDR V3.0"
DETECTOR_ID = MEX_HRSC_P1
EVENT_TYPE = "MARS-REGIONAL-MAPPING-Fl-Gl"
INSTRUMENT_HOST_ID = MEX
INSTRUMENT_HOST_NAME = "MARS EXPRESS"
INSTRUMENT_ID = HRSC
INSTRUMENT_NAME = "HIGH RESOLUTION STEREO CAMERA"
MISSION_NAME = "MARS EXPRESS"
MISSION_PHASE_NAME = ME_Phase_34
PROCESSING_LEVEL_ID = 3
PRODUCT_CREATION_TIME = 2016-11-08T12:40:53.000Z
PRODUCT_ID = "HF646_0000_P13.JP2"
RELEASE_ID = 0133
REVISION_ID = 0000
/* QUALITY DATA ELEMENTS */
DATA_QUALITY_ID = 1
DATA_QUALITY_DESC = "Data calculated based on original SPICE kernels"
/* TIME DATA ELEMENTS */
SPACECRAFT_CLOCK_START_COUNT = "1/0410583373.07304"
SPACECRAFT_CLOCK_STOP_COUNT = "1/0410583780.56510"
START_TIME = 2016-05-06T02:56:40.421Z
STOP_TIME = 2016-05-06T03:02:11.052Z
/* ORBITAL DATA ELEMENTS */
ASCENDING_NODE_LONGITUDE = 279.97
MAXIMUM_RESOLUTION = 30.2
FOOTPRINT_POINT_LATITUDE = (43.8256,43.8093,43.7912,43.7713, 43.7493,43.507,43.1624,42.8192,42.4794, 42.1407,41.8061,41.3055,40.9756,40.4818 ,40.1566,39.831,39.5106,39.19,38.8703, 38.5575,38.2405,37.9258,37.4602,37.1492 ,36.8431,36.3852,36.0782,35.7788, 35.4761,35.1755,34.7266,34.4362,34.1377 ,33.8407,33.5531,33.2631,32.9745, 32.6833,32.2552,31.9704,31.5462,31.2608 ,30.982,26.2985,26.0105,25.7248,25.2969 ,24.8667,24.5789,24.2913,24.0,23.8601, 23.8769,23.8858,24.0439,24.3322,24.7641 ,25.1938,25.6241,26.0539,26.3402, 31.0393,31.3181,31.6034,31.8894,32.1756 ,32.4605,32.7469,33.0385,33.3295,33.618 ,34.057,34.3529,34.648,35.0916,35.394, 35.6961,35.997,36.3021,36.6094,37.0699, 37.3809,37.8475,38.1601,38.4777,38.7937 ,39.1116,39.5946,40.0807,40.408,40.901, 41.2334,41.5652,41.9035,42.2354,42.5743 ,42.9222,43.4407,43.7874,43.8256)
FOOTPRINT_POINT_LONGITUDE = (66.7889,66.3932,65.9955,65.5955, 65.1922,64.8689,64.9053,64.9407,64.9749 ,65.0092,65.0416,65.0889,65.1191, 65.1626,65.1905,65.2185,65.2449,65.2707 ,65.2959,65.3226,65.345,65.3674,65.4005 ,65.4223,65.4431,65.4736,65.4925,65.512 ,65.5276,65.5459,65.5687,65.5902,65.608 ,65.6228,65.6399,65.6546,65.671,65.6849 ,65.7051,65.7181,65.7411,65.7538, 65.7656,65.9315,65.9364,65.944,65.9563, 65.9664,65.9723,65.9784,65.9807,66.3527 ,66.7043,66.9929,67.4188,67.42,67.4218, 67.4234,67.4251,67.4269,67.428,67.4464, 67.4474,67.4484,67.4494,67.4505,67.4515 ,67.4525,67.4536,67.4546,67.4556, 67.4571,67.4582,67.4592,67.4607,67.4617 ,67.4627,67.4637,67.4646,67.4656,67.467 ,67.4679,67.4693,67.4702,67.4711,67.472 ,67.4729,67.4742,67.4754,67.4762, 67.4774,67.4781,67.4789,67.4795,67.4807 ,67.4817,67.4815,67.4824,67.483, 66.7889)
ORBIT_NUMBER = 15646
ORBITAL_ECCENTRICITY = 0.577
ORBITAL_INCLINATION = 86.93
ORBITAL_SEMIMAJOR_AXIS = 8856.36
PERIAPSIS_ALTITUDE = 353.55
PERIAPSIS_ARGUMENT_ANGLE = 162.64
PERIAPSIS_TIME = 2016-05-06T03:04:14.000Z
SPACECRAFT_ORIENTATION = (0.0,-1.0,0.0)
^MEX_ORIENTATION_DESC = "MEX_ORIENTATION_DESC.TXT"
SPACECRAFT_POINTING_MODE = ACROSSTRACK
^MEX_POINTING_DESC = "MEX_POINTING_DESC.TXT"
RIGHT_ASCENSION = -1e+32
DECLINATION = -1e+32
OFFSET_ANGLE = -0.75
SPACECRAFT_SOLAR_DISTANCE = 2.30811e+08
TARGET_NAME = MARS
/* CAMERA DATA ELEMENTS */
DETECTOR_TEMPERATURE = 17.351
FOCAL_PLANE_TEMPERATURE = 8.9911
INST_CMPRS_NAME = "DISCRETE COSINE TRANSFORMATION (DCT)"
INST_CMPRS_RATIO = 4.52379
INST_CMPRS_QUALITY = 0
INST_CMPRS_QUANTZ_TBL_ID = 0
INSTRUMENT_TEMPERATURE = 12.6613
LENS_TEMPERATURE = 9.6028
MACROPIXEL_SIZE = 2
MISSING_FRAMES = 1161
PIXEL_SUBSAMPLING_FLAG = N
SIGNAL_CHAIN_ID = 3
/* RADIOMETRIC DATA ELEMENTS */
BANDWIDTH = 174.0
CENTER_FILTER_WAVELENGTH = 675.0
RADIANCE_OFFSET = 1.01024
RADIANCE_SCALING_FACTOR = 0.0194917
REFLECTANCE_SCALING_FACTOR = 0.000558539
MEX:REFLECTANCE_OFFSET = 0.0289486
/* IMAGE OBJECT DEFINITIONS */
OBJECT = IMAGE
  INTERCHANGE_FORMAT = BINARY
  LINES = 47225
  LINE_SAMPLES = 4528
  SAMPLE_TYPE = UNSIGNED_INTEGER
  SAMPLE_BITS = 8
  BANDS = 1
  BAND_STORAGE_TYPE = BAND_SEQUENTIAL
  MAXIMUM = 255
  MEAN = 67.9937
  MINIMUM = 1
  STANDARD_DEVIATION = 25.3517
END_OBJECT = IMAGE
/* MAP OBJECT DEFINITIONS */
OBJECT = IMAGE_MAP_PROJECTION
  ^DATA_SET_MAP_PROJECTION_CATALOG= "DSMAP.CAT"
  A_AXIS_RADIUS = 3396.0
  B_AXIS_RADIUS = 3396.0
  C_AXIS_RADIUS = 3396.0
  CENTER_LATITUDE = 0.0
  CENTER_LONGITUDE = 67.0
  COORDINATE_SYSTEM_NAME = PLANETOGRAPHIC
  COORDINATE_SYSTEM_TYPE = "BODY-FIXED ROTATING"
  EASTERNMOST_LONGITUDE = 67.483
  FIRST_STANDARD_PARALLEL = "N/A"
  LINE_FIRST_PIXEL = 1
  LINE_LAST_PIXEL = 47225
  LINE_PROJECTION_OFFSET = 103786.25
  MAP_PROJECTION_ROTATION = 0.0
  MAP_PROJECTION_TYPE = SINUSOIDAL
  MAP_RESOLUTION = 2370.85521546667
  MAP_SCALE = 0.025
  MAXIMUM_LATITUDE = 43.8256
  MINIMUM_LATITUDE = 23.8601
  POSITIVE_LONGITUDE_DIRECTION = EAST
  REFERENCE_LATITUDE = "N/A"
  REFERENCE_LONGITUDE = "N/A"
  SAMPLE_FIRST_PIXEL = 1
  SAMPLE_LAST_PIXEL = 4528
  SAMPLE_PROJECTION_OFFSET = 3637.75
  SECOND_STANDARD_PARALLEL = "N/A"
  WESTERNMOST_LONGITUDE = 64.8689
END_OBJECT = IMAGE_MAP_PROJECTION
/* The JPEG2000 image data file associated with this label. */
OBJECT = COMPRESSED_FILE
  FILE_NAME = "HF646_0000_P13.JP2"
  RECORD_TYPE = UNDEFINED
  FILE_RECORDS = UNK
  ENCODING_TYPE = "JP2"
  INTERCHANGE_FORMAT = BINARY
  UNCOMPRESSED_FILE_NAME = "HF646_0000_P13.IMG"
  REQUIRED_STORAGE_BYTES = "213861968"
  ^DESCRIPTION = "JP2INFO.TXT"
END_OBJECT = COMPRESSED_FILE
END
