PDS_VERSION_ID = PDS3
/* FILE DATA ELEMENTS */
RECORD_TYPE = STREAM
/* POINTERS TO DATA OBJECTS */
^COMPRESSED_FILE = "HF647_0000_GR3.JP2"
/* IDENTIFICATION DATA ELEMENTS */
DATA_SET_ID = "MEX-M-HRSC-5-REFDR-MAPPROJECTED-V3.0"
DATA_SET_NAME = "MARS EXPRESS HRSC MAP PROJECTED REFDR V3.0"
DETECTOR_ID = MEX_HRSC_GREEN
EVENT_TYPE = "MARS-REGIONAL-MAPPING-Vo-Pf"
INSTRUMENT_HOST_ID = MEX
INSTRUMENT_HOST_NAME = "MARS EXPRESS"
INSTRUMENT_ID = HRSC
INSTRUMENT_NAME = "HIGH RESOLUTION STEREO CAMERA"
MISSION_NAME = "MARS EXPRESS"
MISSION_PHASE_NAME = ME_Phase_34
PROCESSING_LEVEL_ID = 3
PRODUCT_CREATION_TIME = 2016-11-08T12:40:53.000Z
PRODUCT_ID = "HF647_0000_GR3.JP2"
RELEASE_ID = 0133
REVISION_ID = 0000
/* QUALITY DATA ELEMENTS */
DATA_QUALITY_ID = 1
DATA_QUALITY_DESC = "Data calculated based on original SPICE kernels"
/* TIME DATA ELEMENTS */
SPACECRAFT_CLOCK_START_COUNT = "1/0410608566.09032"
SPACECRAFT_CLOCK_STOP_COUNT = "1/0410608826.32176"
START_TIME = 2016-05-06T09:56:58.567Z
STOP_TIME = 2016-05-06T09:59:48.752Z
/* ORBITAL DATA ELEMENTS */
ASCENDING_NODE_LONGITUDE = 279.95
MAXIMUM_RESOLUTION = 66.7
FOOTPRINT_POINT_LATITUDE = (43.4341,43.4234,43.4151,43.4051, 43.3937,43.3811,43.3537,43.128,42.9053, 42.6824,42.4591,42.1284,41.909,41.6894, 41.4704,41.2549,41.0391,40.823,40.607, 40.395,40.1829,39.9705,39.652,39.4438, 39.2353,39.0266,38.8177,38.6107,38.4061 ,38.2013,37.9962,37.7909,37.5875, 37.3866,37.1856,36.9843,36.7829,36.4826 ,36.2855,36.0883,35.8909,35.6933, 35.4955,35.2033,34.7197,34.5259,34.3319 ,34.043,33.6641,33.2847,33.0159,33.0227 ,33.0316,33.0363,33.0424,33.0457, 33.3337,33.7141,34.094,34.3842,34.5788, 34.7729,34.967,35.3548,35.5513,35.7496, 35.9479,36.1459,36.3437,36.5414,36.843, 37.0452,37.2471,37.4488,37.6503,37.8549 ,38.0609,38.2666,38.4721,38.6774, 38.9907,39.2004,39.4096,39.7232,39.9367 ,40.1501,40.3632,40.5761,40.8999, 41.1169,41.3336,41.5501,41.8809,42.1014 ,42.3216,42.5442,42.7686,42.9926, 43.2164,43.4341)
FOOTPRINT_POINT_LONGITUDE = (325.174,324.662,324.327,323.967, 323.606,323.243,322.904,322.926,322.947 ,322.968,322.988,323.018,323.037, 323.056,323.075,323.093,323.111,323.129 ,323.147,323.163,323.18,323.196,323.22, 323.236,323.251,323.266,323.281,323.295 ,323.309,323.323,323.337,323.35,323.363 ,323.376,323.389,323.401,323.413, 323.431,323.443,323.454,323.465,323.477 ,323.487,323.503,323.528,323.538, 323.547,323.562,323.58,323.598,323.61, 323.891,324.316,324.576,324.98,325.236, 325.355,325.356,325.358,325.359,325.36, 325.361,325.362,325.363,325.364,325.365 ,325.365,325.366,325.367,325.368, 325.369,325.37,325.37,325.371,325.372, 325.372,325.373,325.374,325.374,325.375 ,325.376,325.377,325.377,325.378, 325.379,325.38,325.38,325.381,325.382, 325.382,325.383,325.383,325.384,325.384 ,325.385,325.385,325.386,325.386, 325.387,325.174)
ORBIT_NUMBER = 15647
ORBITAL_ECCENTRICITY = 0.576
ORBITAL_INCLINATION = 86.93
ORBITAL_SEMIMAJOR_AXIS = 8846.54
PERIAPSIS_ALTITUDE = 354.34
PERIAPSIS_ARGUMENT_ANGLE = 162.46
PERIAPSIS_TIME = 2016-05-06T10:03:57.000Z
SPACECRAFT_ORIENTATION = (0.0,-1.0,0.0)
^MEX_ORIENTATION_DESC = "MEX_ORIENTATION_DESC.TXT"
SPACECRAFT_POINTING_MODE = ACROSSTRACK
^MEX_POINTING_DESC = "MEX_POINTING_DESC.TXT"
RIGHT_ASCENSION = -1e+32
DECLINATION = -1e+32
OFFSET_ANGLE = -0.566
SPACECRAFT_SOLAR_DISTANCE = 2.30756e+08
TARGET_NAME = MARS
/* CAMERA DATA ELEMENTS */
DETECTOR_TEMPERATURE = 18.7783
FOCAL_PLANE_TEMPERATURE = 8.7872
INST_CMPRS_NAME = "DISCRETE COSINE TRANSFORMATION (DCT)"
INST_CMPRS_RATIO = 8.93584
INST_CMPRS_QUALITY = 0
INST_CMPRS_QUANTZ_TBL_ID = 0
INSTRUMENT_TEMPERATURE = 12.2535
LENS_TEMPERATURE = 8.9911
MACROPIXEL_SIZE = 4
MISSING_FRAMES = 0
PIXEL_SUBSAMPLING_FLAG = N
SIGNAL_CHAIN_ID = 2
/* RADIOMETRIC DATA ELEMENTS */
BANDWIDTH = 88.0
CENTER_FILTER_WAVELENGTH = 538.0
RADIANCE_OFFSET = 0.443383
RADIANCE_SCALING_FACTOR = 0.00289793
REFLECTANCE_SCALING_FACTOR = 0.000132857
MEX:REFLECTANCE_OFFSET = 0.0203272
/* IMAGE OBJECT DEFINITIONS */
OBJECT = IMAGE
  INTERCHANGE_FORMAT = BINARY
  LINES = 12312
  LINE_SAMPLES = 2292
  SAMPLE_TYPE = UNSIGNED_INTEGER
  SAMPLE_BITS = 8
  BANDS = 1
  BAND_STORAGE_TYPE = BAND_SEQUENTIAL
  MAXIMUM = 255
  MEAN = 84.6407
  MINIMUM = 1
  STANDARD_DEVIATION = 15.7445
END_OBJECT = IMAGE
/* MAP OBJECT DEFINITIONS */
OBJECT = IMAGE_MAP_PROJECTION
  ^DATA_SET_MAP_PROJECTION_CATALOG= "DSMAP.CAT"
  A_AXIS_RADIUS = 3396.0
  B_AXIS_RADIUS = 3396.0
  C_AXIS_RADIUS = 3396.0
  CENTER_LATITUDE = 0.0
  CENTER_LONGITUDE = 324.0
  COORDINATE_SYSTEM_NAME = PLANETOGRAPHIC
  COORDINATE_SYSTEM_TYPE = "BODY-FIXED ROTATING"
  EASTERNMOST_LONGITUDE = 325.387
  FIRST_STANDARD_PARALLEL = "N/A"
  LINE_FIRST_PIXEL = 1
  LINE_LAST_PIXEL = 12312
  LINE_PROJECTION_OFFSET = 51471.625
  MAP_PROJECTION_ROTATION = 0.0
  MAP_PROJECTION_TYPE = SINUSOIDAL
  MAP_RESOLUTION = 1185.42760773333
  MAP_SCALE = 0.05
  MAXIMUM_LATITUDE = 43.4341
  MINIMUM_LATITUDE = 33.0159
  POSITIVE_LONGITUDE_DIRECTION = EAST
  REFERENCE_LATITUDE = "N/A"
  REFERENCE_LONGITUDE = "N/A"
  SAMPLE_FIRST_PIXEL = 1
  SAMPLE_LAST_PIXEL = 2292
  SAMPLE_PROJECTION_OFFSET = 951.625
  SECOND_STANDARD_PARALLEL = "N/A"
  WESTERNMOST_LONGITUDE = 322.904
END_OBJECT = IMAGE_MAP_PROJECTION
/* The JPEG2000 image data file associated with this label. */
OBJECT = COMPRESSED_FILE
  FILE_NAME = "HF647_0000_GR3.JP2"
  RECORD_TYPE = UNDEFINED
  FILE_RECORDS = UNK
  ENCODING_TYPE = "JP2"
  INTERCHANGE_FORMAT = BINARY
  UNCOMPRESSED_FILE_NAME = "HF647_0000_GR3.IMG"
  REQUIRED_STORAGE_BYTES = "28242024"
  ^DESCRIPTION = "JP2INFO.TXT"
END_OBJECT = COMPRESSED_FILE
END
