PDS_VERSION_ID = PDS3
/* FILE DATA ELEMENTS */
RECORD_TYPE = STREAM
/* POINTERS TO DATA OBJECTS */
^COMPRESSED_FILE = "HF647_0000_IR3.JP2"
/* IDENTIFICATION DATA ELEMENTS */
DATA_SET_ID = "MEX-M-HRSC-5-REFDR-MAPPROJECTED-V3.0"
DATA_SET_NAME = "MARS EXPRESS HRSC MAP PROJECTED REFDR V3.0"
DETECTOR_ID = MEX_HRSC_IR
EVENT_TYPE = "MARS-REGIONAL-MAPPING-Vo-Pf"
INSTRUMENT_HOST_ID = MEX
INSTRUMENT_HOST_NAME = "MARS EXPRESS"
INSTRUMENT_ID = HRSC
INSTRUMENT_NAME = "HIGH RESOLUTION STEREO CAMERA"
MISSION_NAME = "MARS EXPRESS"
MISSION_PHASE_NAME = ME_Phase_34
PROCESSING_LEVEL_ID = 3
PRODUCT_CREATION_TIME = 2016-11-08T12:40:53.000Z
PRODUCT_ID = "HF647_0000_IR3.JP2"
RELEASE_ID = 0133
REVISION_ID = 0000
/* QUALITY DATA ELEMENTS */
DATA_QUALITY_ID = 1
DATA_QUALITY_DESC = "Data calculated based on original SPICE kernels"
/* TIME DATA ELEMENTS */
SPACECRAFT_CLOCK_START_COUNT = "1/0410608566.09032"
SPACECRAFT_CLOCK_STOP_COUNT = "1/0410608826.32176"
START_TIME = 2016-05-06T09:56:23.430Z
STOP_TIME = 2016-05-06T09:59:22.464Z
/* ORBITAL DATA ELEMENTS */
ASCENDING_NODE_LONGITUDE = 279.95
MAXIMUM_RESOLUTION = 71.6
FOOTPRINT_POINT_LATITUDE = (43.484,43.4718,43.4579,43.4423,43.425, 43.4059,43.1917,42.8555,42.6313,42.4109 ,42.1898,41.859,41.6412,41.4231,41.0969 ,40.8824,40.6672,40.3448,40.1333, 39.9211,39.7086,39.3939,39.1849,38.9759 ,38.6634,38.4583,38.2526,38.0462, 37.7383,37.5363,37.3336,37.1308,36.8272 ,36.6282,36.4289,36.2292,36.0294, 35.8308,35.6356,35.341,35.1446,34.9483, 34.56,34.1741,33.9808,33.7873,33.4074, 32.9788,32.9955,33.0153,33.0259,33.0345 ,33.0424,33.3324,33.7117,34.0985, 34.2924,34.4861,34.8725,35.0691,35.2668 ,35.4638,35.6606,35.8566,36.0548, 36.2557,36.4558,36.6559,36.8558,37.0577 ,37.2617,37.4651,37.6684,37.8714, 38.0779,38.2848,38.4914,38.6978,38.9059 ,39.1163,39.3264,39.5355,39.7461, 39.9597,40.1727,40.3856,40.7078,40.9249 ,41.1405,41.3575,41.5772,41.7966, 42.0154,42.2375,42.4601,42.6821,42.9064 ,43.1321,43.3571,43.484)
FOOTPRINT_POINT_LONGITUDE = (325.253,324.877,324.499,324.12,323.739 ,323.357,322.85,322.884,322.906,322.927 ,322.948,322.979,322.999,323.019, 323.047,323.066,323.084,323.112,323.129 ,323.146,323.163,323.188,323.203, 323.219,323.243,323.258,323.272,323.287 ,323.308,323.322,323.335,323.348, 323.368,323.381,323.393,323.405,323.417 ,323.429,323.441,323.458,323.469,323.48 ,323.5,323.521,323.53,323.54,323.559, 323.58,323.938,324.427,324.729,324.995, 325.26,325.383,325.386,325.389,325.39, 325.391,325.394,325.395,325.397,325.398 ,325.4,325.401,325.402,325.404,325.405, 325.407,325.408,325.41,325.411,325.413, 325.414,325.415,325.417,325.418,325.42, 325.421,325.423,325.424,325.426,325.428 ,325.429,325.431,325.432,325.434, 325.436,325.438,325.44,325.441,325.443, 325.444,325.446,325.448,325.449,325.451 ,325.453,325.455,325.456,325.253)
ORBIT_NUMBER = 15647
ORBITAL_ECCENTRICITY = 0.576
ORBITAL_INCLINATION = 86.93
ORBITAL_SEMIMAJOR_AXIS = 8846.54
PERIAPSIS_ALTITUDE = 354.34
PERIAPSIS_ARGUMENT_ANGLE = 162.46
PERIAPSIS_TIME = 2016-05-06T10:03:57.000Z
SPACECRAFT_ORIENTATION = (0.0,-1.0,0.0)
^MEX_ORIENTATION_DESC = "MEX_ORIENTATION_DESC.TXT"
SPACECRAFT_POINTING_MODE = ACROSSTRACK
^MEX_POINTING_DESC = "MEX_POINTING_DESC.TXT"
RIGHT_ASCENSION = -1e+32
DECLINATION = -1e+32
OFFSET_ANGLE = -0.566
SPACECRAFT_SOLAR_DISTANCE = 2.30756e+08
TARGET_NAME = MARS
/* CAMERA DATA ELEMENTS */
DETECTOR_TEMPERATURE = 17.7588
FOCAL_PLANE_TEMPERATURE = 8.7872
INST_CMPRS_NAME = "DISCRETE COSINE TRANSFORMATION (DCT)"
INST_CMPRS_RATIO = 8.7059
INST_CMPRS_QUALITY = 0
INST_CMPRS_QUANTZ_TBL_ID = 0
INSTRUMENT_TEMPERATURE = 12.2535
LENS_TEMPERATURE = 8.9911
MACROPIXEL_SIZE = 4
MISSING_FRAMES = 0
PIXEL_SUBSAMPLING_FLAG = N
SIGNAL_CHAIN_ID = 2
/* RADIOMETRIC DATA ELEMENTS */
BANDWIDTH = 81.0
CENTER_FILTER_WAVELENGTH = 955.5
RADIANCE_OFFSET = 0.171094
RADIANCE_SCALING_FACTOR = 0.00265897
REFLECTANCE_SCALING_FACTOR = 0.000305457
MEX:REFLECTANCE_OFFSET = 0.0196549
/* IMAGE OBJECT DEFINITIONS */
OBJECT = IMAGE
  INTERCHANGE_FORMAT = BINARY
  LINES = 12312
  LINE_SAMPLES = 2292
  SAMPLE_TYPE = UNSIGNED_INTEGER
  SAMPLE_BITS = 8
  BANDS = 1
  BAND_STORAGE_TYPE = BAND_SEQUENTIAL
  MAXIMUM = 255
  MEAN = 70.3371
  MINIMUM = 1
  STANDARD_DEVIATION = 13.8742
END_OBJECT = IMAGE
/* MAP OBJECT DEFINITIONS */
OBJECT = IMAGE_MAP_PROJECTION
  ^DATA_SET_MAP_PROJECTION_CATALOG= "DSMAP.CAT"
  A_AXIS_RADIUS = 3396.0
  B_AXIS_RADIUS = 3396.0
  C_AXIS_RADIUS = 3396.0
  CENTER_LATITUDE = 0.0
  CENTER_LONGITUDE = 324.0
  COORDINATE_SYSTEM_NAME = PLANETOGRAPHIC
  COORDINATE_SYSTEM_TYPE = "BODY-FIXED ROTATING"
  EASTERNMOST_LONGITUDE = 325.456
  FIRST_STANDARD_PARALLEL = "N/A"
  LINE_FIRST_PIXEL = 1
  LINE_LAST_PIXEL = 12312
  LINE_PROJECTION_OFFSET = 51471.625
  MAP_PROJECTION_ROTATION = 0.0
  MAP_PROJECTION_TYPE = SINUSOIDAL
  MAP_RESOLUTION = 1185.42760773333
  MAP_SCALE = 0.05
  MAXIMUM_LATITUDE = 43.484
  MINIMUM_LATITUDE = 32.9788
  POSITIVE_LONGITUDE_DIRECTION = EAST
  REFERENCE_LATITUDE = "N/A"
  REFERENCE_LONGITUDE = "N/A"
  SAMPLE_FIRST_PIXEL = 1
  SAMPLE_LAST_PIXEL = 2292
  SAMPLE_PROJECTION_OFFSET = 951.625
  SECOND_STANDARD_PARALLEL = "N/A"
  WESTERNMOST_LONGITUDE = 322.85
END_OBJECT = IMAGE_MAP_PROJECTION
/* The JPEG2000 image data file associated with this label. */
OBJECT = COMPRESSED_FILE
  FILE_NAME = "HF647_0000_IR3.JP2"
  RECORD_TYPE = UNDEFINED
  FILE_RECORDS = UNK
  ENCODING_TYPE = "JP2"
  INTERCHANGE_FORMAT = BINARY
  UNCOMPRESSED_FILE_NAME = "HF647_0000_IR3.IMG"
  REQUIRED_STORAGE_BYTES = "28242024"
  ^DESCRIPTION = "JP2INFO.TXT"
END_OBJECT = COMPRESSED_FILE
END
