PDS_VERSION_ID = PDS3
/* FILE DATA ELEMENTS */
RECORD_TYPE = STREAM
/* POINTERS TO DATA OBJECTS */
^COMPRESSED_FILE = "HF647_0000_S13.JP2"
/* IDENTIFICATION DATA ELEMENTS */
DATA_SET_ID = "MEX-M-HRSC-5-REFDR-MAPPROJECTED-V3.0"
DATA_SET_NAME = "MARS EXPRESS HRSC MAP PROJECTED REFDR V3.0"
DETECTOR_ID = MEX_HRSC_S1
EVENT_TYPE = "MARS-REGIONAL-MAPPING-Vo-Pf"
INSTRUMENT_HOST_ID = MEX
INSTRUMENT_HOST_NAME = "MARS EXPRESS"
INSTRUMENT_ID = HRSC
INSTRUMENT_NAME = "HIGH RESOLUTION STEREO CAMERA"
MISSION_NAME = "MARS EXPRESS"
MISSION_PHASE_NAME = ME_Phase_34
PROCESSING_LEVEL_ID = 3
PRODUCT_CREATION_TIME = 2016-11-08T12:40:53.000Z
PRODUCT_ID = "HF647_0000_S13.JP2"
RELEASE_ID = 0133
REVISION_ID = 0000
/* QUALITY DATA ELEMENTS */
DATA_QUALITY_ID = 1
DATA_QUALITY_DESC = "Data calculated based on original SPICE kernels"
/* TIME DATA ELEMENTS */
SPACECRAFT_CLOCK_START_COUNT = "1/0410608566.09032"
SPACECRAFT_CLOCK_STOP_COUNT = "1/0410608826.32176"
START_TIME = 2016-05-06T09:56:13.449Z
STOP_TIME = 2016-05-06T09:59:15.222Z
/* ORBITAL DATA ELEMENTS */
ASCENDING_NODE_LONGITUDE = 279.95
MAXIMUM_RESOLUTION = 36.7
FOOTPRINT_POINT_LATITUDE = (43.506,43.4918,43.4756,43.4574,43.4372 ,43.4148,43.3919,43.1869,42.9617, 42.7378,42.5161,42.2941,42.0721,41.8532 ,41.6341,41.4141,41.0901,40.8739, 40.6571,40.4441,40.2308,40.0169,39.8042 ,39.4887,39.2781,38.9638,38.7572, 38.5497,38.3419,38.0332,37.8287,37.6241 ,37.3171,37.0152,36.8138,36.6118, 36.4098,36.2117,36.0134,35.8148,35.6165 ,35.32,35.1251,34.8331,34.5377,34.3425, 33.9589,33.7666,33.3817,33.0976,32.9993 ,33.0148,33.0304,33.0408,33.1497, 33.4358,33.7254,33.9184,34.1112,34.3037 ,34.4969,34.694,34.8898,35.0862,35.2824 ,35.4778,35.7762,35.9755,36.2743, 36.4729,36.7764,36.9795,37.1817,37.3836 ,37.6913,37.8972,38.1024,38.3074, 38.6201,38.8293,39.0373,39.2468,39.5639 ,39.7755,39.9866,40.2015,40.5228, 40.7379,40.955,41.1727,41.39,41.719, 41.9397,42.1598,42.3825,42.6063,42.8292 ,43.1674,43.3936,43.506)
FOOTPRINT_POINT_LONGITUDE = (325.263,324.865,324.465,324.064, 323.661,323.256,322.874,322.823,322.846 ,322.869,322.891,322.913,322.934, 322.955,322.975,322.995,323.025,323.044 ,323.063,323.081,323.099,323.116, 323.134,323.159,323.176,323.2,323.216, 323.231,323.247,323.268,323.283,323.297 ,323.318,323.338,323.351,323.364, 323.377,323.389,323.401,323.414,323.426 ,323.443,323.454,323.471,323.486, 323.497,323.517,323.527,323.546,323.561 ,323.978,324.316,324.703,324.984, 325.391,325.393,325.395,325.397,325.398 ,325.4,325.401,325.403,325.404,325.406, 325.407,325.409,325.411,325.413,325.416 ,325.417,325.42,325.421,325.423,325.425 ,325.427,325.429,325.431,325.433, 325.435,325.437,325.439,325.441,325.444 ,325.445,325.447,325.449,325.452, 325.454,325.456,325.458,325.46,325.463, 325.465,325.467,325.469,325.471,325.473 ,325.477,325.479,325.263)
ORBIT_NUMBER = 15647
ORBITAL_ECCENTRICITY = 0.576
ORBITAL_INCLINATION = 86.93
ORBITAL_SEMIMAJOR_AXIS = 8846.54
PERIAPSIS_ALTITUDE = 354.34
PERIAPSIS_ARGUMENT_ANGLE = 162.46
PERIAPSIS_TIME = 2016-05-06T10:03:57.000Z
SPACECRAFT_ORIENTATION = (0.0,-1.0,0.0)
^MEX_ORIENTATION_DESC = "MEX_ORIENTATION_DESC.TXT"
SPACECRAFT_POINTING_MODE = ACROSSTRACK
^MEX_POINTING_DESC = "MEX_POINTING_DESC.TXT"
RIGHT_ASCENSION = -1e+32
DECLINATION = -1e+32
OFFSET_ANGLE = -0.566
SPACECRAFT_SOLAR_DISTANCE = 2.30756e+08
TARGET_NAME = MARS
/* CAMERA DATA ELEMENTS */
DETECTOR_TEMPERATURE = 17.7588
FOCAL_PLANE_TEMPERATURE = 8.7872
INST_CMPRS_NAME = "DISCRETE COSINE TRANSFORMATION (DCT)"
INST_CMPRS_RATIO = 9.39512
INST_CMPRS_QUALITY = 0
INST_CMPRS_QUANTZ_TBL_ID = 0
INSTRUMENT_TEMPERATURE = 12.2535
LENS_TEMPERATURE = 8.9911
MACROPIXEL_SIZE = 2
MISSING_FRAMES = 0
PIXEL_SUBSAMPLING_FLAG = N
SIGNAL_CHAIN_ID = 1
/* RADIOMETRIC DATA ELEMENTS */
BANDWIDTH = 180.0
CENTER_FILTER_WAVELENGTH = 677.0
RADIANCE_OFFSET = 1.14725
RADIANCE_SCALING_FACTOR = 0.0103103
REFLECTANCE_SCALING_FACTOR = 0.000286431
MEX:REFLECTANCE_OFFSET = 0.031872
/* IMAGE OBJECT DEFINITIONS */
OBJECT = IMAGE
  INTERCHANGE_FORMAT = BINARY
  LINES = 24624
  LINE_SAMPLES = 4584
  SAMPLE_TYPE = UNSIGNED_INTEGER
  SAMPLE_BITS = 8
  BANDS = 1
  BAND_STORAGE_TYPE = BAND_SEQUENTIAL
  MAXIMUM = 255
  MEAN = 66.1551
  MINIMUM = 1
  STANDARD_DEVIATION = 13.1445
END_OBJECT = IMAGE
/* MAP OBJECT DEFINITIONS */
OBJECT = IMAGE_MAP_PROJECTION
  ^DATA_SET_MAP_PROJECTION_CATALOG= "DSMAP.CAT"
  A_AXIS_RADIUS = 3396.0
  B_AXIS_RADIUS = 3396.0
  C_AXIS_RADIUS = 3396.0
  CENTER_LATITUDE = 0.0
  CENTER_LONGITUDE = 324.0
  COORDINATE_SYSTEM_NAME = PLANETOGRAPHIC
  COORDINATE_SYSTEM_TYPE = "BODY-FIXED ROTATING"
  EASTERNMOST_LONGITUDE = 325.479
  FIRST_STANDARD_PARALLEL = "N/A"
  LINE_FIRST_PIXEL = 1
  LINE_LAST_PIXEL = 24624
  LINE_PROJECTION_OFFSET = 102943.75
  MAP_PROJECTION_ROTATION = 0.0
  MAP_PROJECTION_TYPE = SINUSOIDAL
  MAP_RESOLUTION = 2370.85521546667
  MAP_SCALE = 0.025
  MAXIMUM_LATITUDE = 43.506
  MINIMUM_LATITUDE = 32.9993
  POSITIVE_LONGITUDE_DIRECTION = EAST
  REFERENCE_LATITUDE = "N/A"
  REFERENCE_LONGITUDE = "N/A"
  SAMPLE_FIRST_PIXEL = 1
  SAMPLE_LAST_PIXEL = 4584
  SAMPLE_PROJECTION_OFFSET = 1903.75
  SECOND_STANDARD_PARALLEL = "N/A"
  WESTERNMOST_LONGITUDE = 322.823
END_OBJECT = IMAGE_MAP_PROJECTION
/* The JPEG2000 image data file associated with this label. */
OBJECT = COMPRESSED_FILE
  FILE_NAME = "HF647_0000_S13.JP2"
  RECORD_TYPE = UNDEFINED
  FILE_RECORDS = UNK
  ENCODING_TYPE = "JP2"
  INTERCHANGE_FORMAT = BINARY
  UNCOMPRESSED_FILE_NAME = "HF647_0000_S13.IMG"
  REQUIRED_STORAGE_BYTES = "112903920"
  ^DESCRIPTION = "JP2INFO.TXT"
END_OBJECT = COMPRESSED_FILE
END
