PDS_VERSION_ID = PDS3
/* FILE DATA ELEMENTS */
RECORD_TYPE = STREAM
/* POINTERS TO DATA OBJECTS */
^COMPRESSED_FILE = "HF653_0000_IR3.JP2"
/* IDENTIFICATION DATA ELEMENTS */
DATA_SET_ID = "MEX-M-HRSC-5-REFDR-MAPPROJECTED-V3.0"
DATA_SET_NAME = "MARS EXPRESS HRSC MAP PROJECTED REFDR V3.0"
DETECTOR_ID = MEX_HRSC_IR
EVENT_TYPE = "MARS-REGIONAL-MAPPING-Vo-Pf"
INSTRUMENT_HOST_ID = MEX
INSTRUMENT_HOST_NAME = "MARS EXPRESS"
INSTRUMENT_ID = HRSC
INSTRUMENT_NAME = "HIGH RESOLUTION STEREO CAMERA"
MISSION_NAME = "MARS EXPRESS"
MISSION_PHASE_NAME = ME_Phase_34
PROCESSING_LEVEL_ID = 3
PRODUCT_CREATION_TIME = 2016-11-08T12:40:53.000Z
PRODUCT_ID = "HF653_0000_IR3.JP2"
RELEASE_ID = 0133
REVISION_ID = 0000
/* QUALITY DATA ELEMENTS */
DATA_QUALITY_ID = 1
DATA_QUALITY_DESC = "Data calculated based on original SPICE kernels"
/* TIME DATA ELEMENTS */
SPACECRAFT_CLOCK_START_COUNT = "1/0410759537.07366"
SPACECRAFT_CLOCK_STOP_COUNT = "1/0410759783.20602"
START_TIME = 2016-05-08T03:52:37.835Z
STOP_TIME = 2016-05-08T03:54:57.895Z
/* ORBITAL DATA ELEMENTS */
ASCENDING_NODE_LONGITUDE = 279.84
MAXIMUM_RESOLUTION = 90.7
FOOTPRINT_POINT_LATITUDE = (52.2812,52.2711,52.2601,52.2483, 52.2358,52.2224,52.2081,52.193,52.1771, 52.1602,52.1426,52.124,52.1045,52.0762, 51.8294,51.596,51.4404,51.2076,51.0538, 50.8998,50.7458,50.5939,50.3655,50.2132 ,50.0626,49.9117,49.6855,49.5365,49.387 ,49.163,49.0156,48.8679,48.7201,48.5731 ,48.4276,48.2084,48.0618,47.9175, 47.7728,47.6282,47.4833,47.3407,47.1979 ,47.0547,46.8405,46.5583,46.2754, 45.9967,45.647,45.4406,45.165,44.7548, 44.613,44.6279,44.6404,44.654,44.6727, 44.6836,44.7065,44.7276,44.7433,44.9532 ,45.2287,45.5068,45.9253,46.2067, 46.5598,46.8449,47.0583,47.2029,47.347, 47.4911,47.635,47.7809,47.9269,48.0728, 48.2183,48.3661,48.5139,48.6616,48.8837 ,49.033,49.182,49.331,49.5571,49.708, 49.8586,50.0872,50.2397,50.3923,50.5463 ,50.7775,50.9314,51.1648,51.3207, 51.4764,51.6341,51.7913,52.0278, 52.2812)
FOOTPRINT_POINT_LONGITUDE = (71.2069,70.9334,70.6596,70.3853, 70.1104,69.8348,69.5586,69.282,69.0049, 68.7273,68.4492,68.1701,67.8902,67.5043 ,67.4561,67.5013,67.5305,67.5739, 67.6021,67.6301,67.6577,67.6849,67.7253 ,67.7515,67.7772,67.8027,67.8404,67.865 ,67.8893,67.9251,67.9485,67.9718, 67.9948,68.0175,68.04,68.073,68.0946, 68.1157,68.1365,68.1573,68.1777,68.1977 ,68.2176,68.2372,68.2661,68.3039,68.341 ,68.3768,68.4206,68.4462,68.4798, 68.5286,68.6204,68.8505,69.0543,69.2826 ,69.6109,69.8369,70.2634,70.761,71.1568 ,71.2391,71.239,71.239,71.2388,71.2388, 71.2386,71.2384,71.2382,71.2381,71.238, 71.2379,71.2378,71.2376,71.2374,71.2373 ,71.2371,71.2369,71.2367,71.2365, 71.2361,71.236,71.2358,71.2355,71.2351, 71.2349,71.2346,71.2342,71.2339,71.2335 ,71.2331,71.2326,71.2323,71.2318, 71.2313,71.2309,71.2305,71.2301,71.2295 ,71.2069)
ORBIT_NUMBER = 15653
ORBITAL_ECCENTRICITY = 0.577
ORBITAL_INCLINATION = 86.93
ORBITAL_SEMIMAJOR_AXIS = 8855.32
PERIAPSIS_ALTITUDE = 354.13
PERIAPSIS_ARGUMENT_ANGLE = 161.43
PERIAPSIS_TIME = 2016-05-08T04:02:36.000Z
SPACECRAFT_ORIENTATION = (0.0,-1.0,0.0)
^MEX_ORIENTATION_DESC = "MEX_ORIENTATION_DESC.TXT"
SPACECRAFT_POINTING_MODE = ACROSSTRACK
^MEX_POINTING_DESC = "MEX_POINTING_DESC.TXT"
RIGHT_ASCENSION = -1e+32
DECLINATION = -1e+32
OFFSET_ANGLE = -0.75
SPACECRAFT_SOLAR_DISTANCE = 2.30421e+08
TARGET_NAME = MARS
/* CAMERA DATA ELEMENTS */
DETECTOR_TEMPERATURE = 17.7588
FOCAL_PLANE_TEMPERATURE = 7.7677
INST_CMPRS_NAME = "DISCRETE COSINE TRANSFORMATION (DCT)"
INST_CMPRS_RATIO = 10.0931
INST_CMPRS_QUALITY = 0
INST_CMPRS_QUANTZ_TBL_ID = 0
INSTRUMENT_TEMPERATURE = 11.0301
LENS_TEMPERATURE = 7.9716
MACROPIXEL_SIZE = 4
MISSING_FRAMES = 0
PIXEL_SUBSAMPLING_FLAG = N
SIGNAL_CHAIN_ID = 2
/* RADIOMETRIC DATA ELEMENTS */
BANDWIDTH = 81.0
CENTER_FILTER_WAVELENGTH = 955.5
RADIANCE_OFFSET = 0.236266
RADIANCE_SCALING_FACTOR = 0.00404306
REFLECTANCE_SCALING_FACTOR = 0.000463115
MEX:REFLECTANCE_OFFSET = 0.0270633
/* IMAGE OBJECT DEFINITIONS */
OBJECT = IMAGE
  INTERCHANGE_FORMAT = BINARY
  LINES = 4454
  LINE_SAMPLES = 1387
  SAMPLE_TYPE = UNSIGNED_INTEGER
  SAMPLE_BITS = 8
  BANDS = 1
  BAND_STORAGE_TYPE = BAND_SEQUENTIAL
  MAXIMUM = 255
  MEAN = 104.61
  MINIMUM = 1
  STANDARD_DEVIATION = 26.8473
END_OBJECT = IMAGE
/* MAP OBJECT DEFINITIONS */
OBJECT = IMAGE_MAP_PROJECTION
  ^DATA_SET_MAP_PROJECTION_CATALOG= "DSMAP.CAT"
  A_AXIS_RADIUS = 3396.0
  B_AXIS_RADIUS = 3396.0
  C_AXIS_RADIUS = 3396.0
  CENTER_LATITUDE = 0.0
  CENTER_LONGITUDE = 70.0
  COORDINATE_SYSTEM_NAME = PLANETOGRAPHIC
  COORDINATE_SYSTEM_TYPE = "BODY-FIXED ROTATING"
  EASTERNMOST_LONGITUDE = 71.23909999999999
  FIRST_STANDARD_PARALLEL = "N/A"
  LINE_FIRST_PIXEL = 1
  LINE_LAST_PIXEL = 4454
  LINE_PROJECTION_OFFSET = 30926.625
  MAP_PROJECTION_ROTATION = 0.0
  MAP_PROJECTION_TYPE = SINUSOIDAL
  MAP_RESOLUTION = 592.713803866667
  MAP_SCALE = 0.1
  MAXIMUM_LATITUDE = 52.2812
  MINIMUM_LATITUDE = 44.613
  POSITIVE_LONGITUDE_DIRECTION = EAST
  REFERENCE_LATITUDE = "N/A"
  REFERENCE_LONGITUDE = "N/A"
  SAMPLE_FIRST_PIXEL = 1
  SAMPLE_LAST_PIXEL = 1387
  SAMPLE_PROJECTION_OFFSET = 901.375
  SECOND_STANDARD_PARALLEL = "N/A"
  WESTERNMOST_LONGITUDE = 67.45610000000001
END_OBJECT = IMAGE_MAP_PROJECTION
/* The JPEG2000 image data file associated with this label. */
OBJECT = COMPRESSED_FILE
  FILE_NAME = "HF653_0000_IR3.JP2"
  RECORD_TYPE = UNDEFINED
  FILE_RECORDS = UNK
  ENCODING_TYPE = "JP2"
  INTERCHANGE_FORMAT = BINARY
  UNCOMPRESSED_FILE_NAME = "HF653_0000_IR3.IMG"
  REQUIRED_STORAGE_BYTES = "6197116"
  ^DESCRIPTION = "JP2INFO.TXT"
END_OBJECT = COMPRESSED_FILE
END
