PDS_VERSION_ID = PDS3
/* FILE DATA ELEMENTS */
RECORD_TYPE = STREAM
/* POINTERS TO DATA OBJECTS */
^COMPRESSED_FILE = "HF658_0000_IR3.JP2"
/* IDENTIFICATION DATA ELEMENTS */
DATA_SET_ID = "MEX-M-HRSC-5-REFDR-MAPPROJECTED-V3.0"
DATA_SET_NAME = "MARS EXPRESS HRSC MAP PROJECTED REFDR V3.0"
DETECTOR_ID = MEX_HRSC_IR
EVENT_TYPE = "MARS-REGIONAL-MAPPING-Vo-Te"
INSTRUMENT_HOST_ID = MEX
INSTRUMENT_HOST_NAME = "MARS EXPRESS"
INSTRUMENT_ID = HRSC
INSTRUMENT_NAME = "HIGH RESOLUTION STEREO CAMERA"
MISSION_NAME = "MARS EXPRESS"
MISSION_PHASE_NAME = ME_Phase_34
PROCESSING_LEVEL_ID = 3
PRODUCT_CREATION_TIME = 2016-11-08T12:40:53.000Z
PRODUCT_ID = "HF658_0000_IR3.JP2"
RELEASE_ID = 0133
REVISION_ID = 0000
/* QUALITY DATA ELEMENTS */
DATA_QUALITY_ID = 1
DATA_QUALITY_DESC = "Data calculated based on original SPICE kernels"
/* TIME DATA ELEMENTS */
SPACECRAFT_CLOCK_START_COUNT = "1/0410885674.09049"
SPACECRAFT_CLOCK_STOP_COUNT = "1/0410885926.40564"
START_TIME = 2016-05-09T14:54:50.348Z
STOP_TIME = 2016-05-09T14:57:45.705Z
/* ORBITAL DATA ELEMENTS */
ASCENDING_NODE_LONGITUDE = 279.74
MAXIMUM_RESOLUTION = 67.2
FOOTPRINT_POINT_LATITUDE = (42.5394,42.5244,42.5079,42.4899, 42.4703,42.4491,42.4263,42.2561,42.0337 ,41.813,41.5918,41.3701,41.1515,40.934, 40.716,40.3892,40.1751,39.9604,39.7454, 39.5299,39.3191,39.1077,38.7904,38.5786 ,38.3708,38.1627,37.9542,37.7449, 37.5366,37.3323,37.027,36.8228,36.6173, 36.4139,36.1139,35.8124,35.6113,35.3093 ,35.1139,34.9161,34.7194,34.5216, 34.2243,33.9303,33.7366,33.5426,33.3479 ,33.0548,32.8593,32.6653,32.2855, 32.0522,32.071,32.0859,32.1061,32.1181, 32.2233,32.6036,32.9905,33.1859,33.3805 ,33.5764,33.7712,33.9663,34.1598, 34.3589,34.5578,34.757,34.9553,35.2524, 35.551,35.8552,36.158,36.3604,36.5572, 36.7611,36.9685,37.1735,37.3783,37.5833 ,37.8963,38.1054,38.3155,38.5241, 38.8407,39.0538,39.2665,39.4792,39.6937 ,39.9103,40.2329,40.4483,40.7761, 40.9956,41.2148,41.5446,41.7673,41.9896 ,42.2106,42.5394)
FOOTPRINT_POINT_LONGITUDE = (279.44,279.096,278.75,278.4,278.049, 277.695,277.338,277.061,277.083,277.105 ,277.126,277.146,277.166,277.186, 277.205,277.234,277.253,277.271,277.288 ,277.306,277.323,277.34,277.364,277.381 ,277.396,277.411,277.426,277.44,277.455 ,277.469,277.491,277.506,277.519, 277.532,277.553,277.572,277.585,277.603 ,277.616,277.628,277.64,277.651,277.668 ,277.685,277.695,277.705,277.715, 277.729,277.738,277.747,277.766,278.003 ,278.323,278.593,278.999,279.262, 279.466,279.466,279.466,279.466,279.465 ,279.465,279.465,279.465,279.465, 279.464,279.464,279.464,279.464,279.463 ,279.463,279.462,279.462,279.461, 279.461,279.46,279.46,279.459,279.459, 279.459,279.458,279.457,279.457,279.456 ,279.455,279.455,279.454,279.453, 279.453,279.452,279.451,279.45,279.449, 279.448,279.447,279.446,279.445,279.444 ,279.443,279.44)
ORBIT_NUMBER = 15658
ORBITAL_ECCENTRICITY = 0.577
ORBITAL_INCLINATION = 86.91
ORBITAL_SEMIMAJOR_AXIS = 8855.97
PERIAPSIS_ALTITUDE = 354.88
PERIAPSIS_ARGUMENT_ANGLE = 160.58
PERIAPSIS_TIME = 2016-05-09T15:01:34.000Z
SPACECRAFT_ORIENTATION = (0.0,-1.0,0.0)
^MEX_ORIENTATION_DESC = "MEX_ORIENTATION_DESC.TXT"
SPACECRAFT_POINTING_MODE = ACROSSTRACK
^MEX_POINTING_DESC = "MEX_POINTING_DESC.TXT"
RIGHT_ASCENSION = -1e+32
DECLINATION = -1e+32
OFFSET_ANGLE = -0.85
SPACECRAFT_SOLAR_DISTANCE = 2.30142e+08
TARGET_NAME = MARS
/* CAMERA DATA ELEMENTS */
DETECTOR_TEMPERATURE = 17.351
FOCAL_PLANE_TEMPERATURE = 7.9716
INST_CMPRS_NAME = "DISCRETE COSINE TRANSFORMATION (DCT)"
INST_CMPRS_RATIO = 4.47924
INST_CMPRS_QUALITY = 0
INST_CMPRS_QUANTZ_TBL_ID = 0
INSTRUMENT_TEMPERATURE = 11.234
LENS_TEMPERATURE = 8.1755
MACROPIXEL_SIZE = 4
MISSING_FRAMES = 0
PIXEL_SUBSAMPLING_FLAG = N
SIGNAL_CHAIN_ID = 2
/* RADIOMETRIC DATA ELEMENTS */
BANDWIDTH = 81.0
CENTER_FILTER_WAVELENGTH = 955.5
RADIANCE_OFFSET = 0.363307
RADIANCE_SCALING_FACTOR = 0.00504137
REFLECTANCE_SCALING_FACTOR = 0.000576066
MEX:REFLECTANCE_OFFSET = 0.0415143
/* IMAGE OBJECT DEFINITIONS */
OBJECT = IMAGE
  INTERCHANGE_FORMAT = BINARY
  LINES = 12313
  LINE_SAMPLES = 2275
  SAMPLE_TYPE = UNSIGNED_INTEGER
  SAMPLE_BITS = 8
  BANDS = 1
  BAND_STORAGE_TYPE = BAND_SEQUENTIAL
  MAXIMUM = 255
  MEAN = 89.191
  MINIMUM = 1
  STANDARD_DEVIATION = 22.3673
END_OBJECT = IMAGE
/* MAP OBJECT DEFINITIONS */
OBJECT = IMAGE_MAP_PROJECTION
  ^DATA_SET_MAP_PROJECTION_CATALOG= "DSMAP.CAT"
  A_AXIS_RADIUS = 3396.0
  B_AXIS_RADIUS = 3396.0
  C_AXIS_RADIUS = 3396.0
  CENTER_LATITUDE = 0.0
  CENTER_LONGITUDE = 278.0
  COORDINATE_SYSTEM_NAME = PLANETOGRAPHIC
  COORDINATE_SYSTEM_TYPE = "BODY-FIXED ROTATING"
  EASTERNMOST_LONGITUDE = 279.466
  FIRST_STANDARD_PARALLEL = "N/A"
  LINE_FIRST_PIXEL = 1
  LINE_LAST_PIXEL = 12313
  LINE_PROJECTION_OFFSET = 50323.875
  MAP_PROJECTION_ROTATION = 0.0
  MAP_PROJECTION_TYPE = SINUSOIDAL
  MAP_RESOLUTION = 1185.42760773333
  MAP_SCALE = 0.05
  MAXIMUM_LATITUDE = 42.5394
  MINIMUM_LATITUDE = 32.0522
  POSITIVE_LONGITUDE_DIRECTION = EAST
  REFERENCE_LATITUDE = "N/A"
  REFERENCE_LONGITUDE = "N/A"
  SAMPLE_FIRST_PIXEL = 1
  SAMPLE_LAST_PIXEL = 2275
  SAMPLE_PROJECTION_OFFSET = 822.625
  SECOND_STANDARD_PARALLEL = "N/A"
  WESTERNMOST_LONGITUDE = 277.061
END_OBJECT = IMAGE_MAP_PROJECTION
/* The JPEG2000 image data file associated with this label. */
OBJECT = COMPRESSED_FILE
  FILE_NAME = "HF658_0000_IR3.JP2"
  RECORD_TYPE = UNDEFINED
  FILE_RECORDS = UNK
  ENCODING_TYPE = "JP2"
  INTERCHANGE_FORMAT = BINARY
  UNCOMPRESSED_FILE_NAME = "HF658_0000_IR3.IMG"
  REQUIRED_STORAGE_BYTES = "28034825"
  ^DESCRIPTION = "JP2INFO.TXT"
END_OBJECT = COMPRESSED_FILE
END
