PDS_VERSION_ID = PDS3
/* FILE DATA ELEMENTS */
RECORD_TYPE = STREAM
/* POINTERS TO DATA OBJECTS */
^COMPRESSED_FILE = "HF659_0000_S23.JP2"
/* IDENTIFICATION DATA ELEMENTS */
DATA_SET_ID = "MEX-M-HRSC-5-REFDR-MAPPROJECTED-V3.0"
DATA_SET_NAME = "MARS EXPRESS HRSC MAP PROJECTED REFDR V3.0"
DETECTOR_ID = MEX_HRSC_S2
EVENT_TYPE = "MARS-REGIONAL-MAPPING-Vo-Pf"
INSTRUMENT_HOST_ID = MEX
INSTRUMENT_HOST_NAME = "MARS EXPRESS"
INSTRUMENT_ID = HRSC
INSTRUMENT_NAME = "HIGH RESOLUTION STEREO CAMERA"
MISSION_NAME = "MARS EXPRESS"
MISSION_PHASE_NAME = ME_Phase_34
PROCESSING_LEVEL_ID = 3
PRODUCT_CREATION_TIME = 2016-11-08T12:40:53.000Z
PRODUCT_ID = "HF659_0000_S23.JP2"
RELEASE_ID = 0133
REVISION_ID = 0000
/* QUALITY DATA ELEMENTS */
DATA_QUALITY_ID = 1
DATA_QUALITY_DESC = "Data calculated based on original SPICE kernels"
/* TIME DATA ELEMENTS */
SPACECRAFT_CLOCK_START_COUNT = "1/0410910654.09069"
SPACECRAFT_CLOCK_STOP_COUNT = "1/0410911067.47842"
START_TIME = 2016-05-09T21:53:10.329Z
STOP_TIME = 2016-05-09T21:57:53.073Z
/* ORBITAL DATA ELEMENTS */
ASCENDING_NODE_LONGITUDE = 279.72
MAXIMUM_RESOLUTION = 34.2
FOOTPRINT_POINT_LATITUDE = (53.2683,53.2479,53.321,52.8835,52.4506 ,52.0204,51.5967,51.1737,50.7571, 50.3419,49.933,49.5243,49.1228,48.7201, 48.3254,47.7341,47.3467,46.9587,46.5777 ,46.1974,45.6337,45.261,44.8892,44.5237 ,44.1584,43.6164,43.2585,42.7236, 42.3736,42.0235,41.5014,41.1591,40.8166 ,40.3052,39.9709,39.6363,39.3016, 38.9696,38.6433,38.3165,37.9899,37.6631 ,37.3438,37.0256,36.707,36.3881,36.0695 ,35.7511,35.4323,35.1132,35.0771, 35.0759,35.074,35.394,35.7133,36.1927, 36.5123,36.8316,37.3103,37.6294,37.9564 ,38.2834,38.6115,38.9387,39.2706, 39.7739,40.1094,40.6162,40.9602,41.3037 ,41.6469,41.9979,42.3494,42.7005,43.237 ,43.5963,44.1395,44.5063,44.8735, 45.2455,45.6202,45.9947,46.3768,46.95, 47.3397,47.7289,48.3223,48.7193,49.1235 ,49.5273,49.9373,50.3492,50.7662, 51.1856,51.6105,52.0368,52.4701,52.9047 ,53.3458,53.2683)
FOOTPRINT_POINT_LONGITUDE = (176.867,175.857,174.396,174.468, 174.538,174.605,174.669,174.731,174.791 ,174.848,174.902,174.956,175.006, 175.056,175.103,175.171,175.214,175.256 ,175.296,175.335,175.39,175.426,175.46, 175.493,175.525,175.572,175.601,175.644 ,175.671,175.697,175.736,175.76,175.783 ,175.818,175.839,175.86,175.881,175.901 ,175.92,175.938,175.957,175.974,175.991 ,176.008,176.024,176.039,176.055, 176.069,176.084,176.098,176.791,177.31, 177.832,177.833,177.834,177.835,177.836 ,177.837,177.837,177.838,177.839, 177.839,177.84,177.84,177.841,177.841, 177.841,177.842,177.842,177.842,177.842 ,177.842,177.842,177.842,177.841, 177.841,177.841,177.84,177.839,177.838, 177.837,177.836,177.835,177.833,177.832 ,177.83,177.827,177.825,177.823,177.82, 177.817,177.814,177.811,177.807,177.804 ,177.8,177.795,177.79,177.785,176.867)
ORBIT_NUMBER = 15659
ORBITAL_ECCENTRICITY = 0.576
ORBITAL_INCLINATION = 86.93
ORBITAL_SEMIMAJOR_AXIS = 8843.5
PERIAPSIS_ALTITUDE = 355.54
PERIAPSIS_ARGUMENT_ANGLE = 160.4
PERIAPSIS_TIME = 2016-05-09T22:01:17.000Z
SPACECRAFT_ORIENTATION = (0.0,-1.0,0.0)
^MEX_ORIENTATION_DESC = "MEX_ORIENTATION_DESC.TXT"
SPACECRAFT_POINTING_MODE = ACROSSTRACK
^MEX_POINTING_DESC = "MEX_POINTING_DESC.TXT"
RIGHT_ASCENSION = -1e+32
DECLINATION = -1e+32
OFFSET_ANGLE = -0.269
SPACECRAFT_SOLAR_DISTANCE = 2.30086e+08
TARGET_NAME = MARS
/* CAMERA DATA ELEMENTS */
DETECTOR_TEMPERATURE = 18.9822
FOCAL_PLANE_TEMPERATURE = 8.3794
INST_CMPRS_NAME = "DISCRETE COSINE TRANSFORMATION (DCT)"
INST_CMPRS_RATIO = 10.2666
INST_CMPRS_QUALITY = 0
INST_CMPRS_QUANTZ_TBL_ID = 0
INSTRUMENT_TEMPERATURE = 11.234
LENS_TEMPERATURE = 8.7872
MACROPIXEL_SIZE = 2
MISSING_FRAMES = 0
PIXEL_SUBSAMPLING_FLAG = N
SIGNAL_CHAIN_ID = 1
/* RADIOMETRIC DATA ELEMENTS */
BANDWIDTH = 178.0
CENTER_FILTER_WAVELENGTH = 679.0
RADIANCE_OFFSET = 1.46622
RADIANCE_SCALING_FACTOR = 0.0132035
REFLECTANCE_SCALING_FACTOR = 0.000370172
MEX:REFLECTANCE_OFFSET = 0.041107
/* IMAGE OBJECT DEFINITIONS */
OBJECT = IMAGE
  INTERCHANGE_FORMAT = BINARY
  LINES = 43530
  LINE_SAMPLES = 5535
  SAMPLE_TYPE = UNSIGNED_INTEGER
  SAMPLE_BITS = 8
  BANDS = 1
  BAND_STORAGE_TYPE = BAND_SEQUENTIAL
  MAXIMUM = 255
  MEAN = 104.969
  MINIMUM = 1
  STANDARD_DEVIATION = 27.8038
END_OBJECT = IMAGE
/* MAP OBJECT DEFINITIONS */
OBJECT = IMAGE_MAP_PROJECTION
  ^DATA_SET_MAP_PROJECTION_CATALOG= "DSMAP.CAT"
  A_AXIS_RADIUS = 3396.0
  B_AXIS_RADIUS = 3396.0
  C_AXIS_RADIUS = 3396.0
  CENTER_LATITUDE = 0.0
  CENTER_LONGITUDE = 177.0
  COORDINATE_SYSTEM_NAME = PLANETOGRAPHIC
  COORDINATE_SYSTEM_TYPE = "BODY-FIXED ROTATING"
  EASTERNMOST_LONGITUDE = 177.842
  FIRST_STANDARD_PARALLEL = "N/A"
  LINE_FIRST_PIXEL = 1
  LINE_LAST_PIXEL = 43530
  LINE_PROJECTION_OFFSET = 126575.75
  MAP_PROJECTION_ROTATION = 0.0
  MAP_PROJECTION_TYPE = SINUSOIDAL
  MAP_RESOLUTION = 2370.85521546667
  MAP_SCALE = 0.025
  MAXIMUM_LATITUDE = 53.3458
  MINIMUM_LATITUDE = 35.074
  POSITIVE_LONGITUDE_DIRECTION = EAST
  REFERENCE_LATITUDE = "N/A"
  REFERENCE_LONGITUDE = "N/A"
  SAMPLE_FIRST_PIXEL = 1
  SAMPLE_LAST_PIXEL = 5535
  SAMPLE_PROJECTION_OFFSET = 3848.25
  SECOND_STANDARD_PARALLEL = "N/A"
  WESTERNMOST_LONGITUDE = 174.396
END_OBJECT = IMAGE_MAP_PROJECTION
/* The JPEG2000 image data file associated with this label. */
OBJECT = COMPRESSED_FILE
  FILE_NAME = "HF659_0000_S23.JP2"
  RECORD_TYPE = UNDEFINED
  FILE_RECORDS = UNK
  ENCODING_TYPE = "JP2"
  INTERCHANGE_FORMAT = BINARY
  UNCOMPRESSED_FILE_NAME = "HF659_0000_S23.IMG"
  REQUIRED_STORAGE_BYTES = "240966225"
  ^DESCRIPTION = "JP2INFO.TXT"
END_OBJECT = COMPRESSED_FILE
END
