PDS_VERSION_ID = PDS3
/* FILE DATA ELEMENTS */
RECORD_TYPE = STREAM
/* POINTERS TO DATA OBJECTS */
^COMPRESSED_FILE = "HF663_0000_BL3.JP2"
/* IDENTIFICATION DATA ELEMENTS */
DATA_SET_ID = "MEX-M-HRSC-5-REFDR-MAPPROJECTED-V3.0"
DATA_SET_NAME = "MARS EXPRESS HRSC MAP PROJECTED REFDR V3.0"
DETECTOR_ID = MEX_HRSC_BLUE
EVENT_TYPE = "MARS-REGIONAL-MAPPING-Vo-Pf"
INSTRUMENT_HOST_ID = MEX
INSTRUMENT_HOST_NAME = "MARS EXPRESS"
INSTRUMENT_ID = HRSC
INSTRUMENT_NAME = "HIGH RESOLUTION STEREO CAMERA"
MISSION_NAME = "MARS EXPRESS"
MISSION_PHASE_NAME = ME_Phase_34
PROCESSING_LEVEL_ID = 3
PRODUCT_CREATION_TIME = 2016-11-08T12:40:53.000Z
PRODUCT_ID = "HF663_0000_BL3.JP2"
RELEASE_ID = 0133
REVISION_ID = 0000
/* QUALITY DATA ELEMENTS */
DATA_QUALITY_ID = 1
DATA_QUALITY_DESC = "Data calculated based on original SPICE kernels"
/* TIME DATA ELEMENTS */
SPACECRAFT_CLOCK_START_COUNT = "1/0411011489.07316"
SPACECRAFT_CLOCK_STOP_COUNT = "1/0411011762.55364"
START_TIME = 2016-05-11T01:52:45.202Z
STOP_TIME = 2016-05-11T01:55:35.980Z
/* ORBITAL DATA ELEMENTS */
ASCENDING_NODE_LONGITUDE = 279.65
MAXIMUM_RESOLUTION = 69.6
FOOTPRINT_POINT_LATITUDE = (49.3567,49.3513,49.3435,49.3351, 49.3253,49.314,49.3005,48.9663,48.7366, 48.3933,48.1674,47.9412,47.6034,47.3811 ,47.1585,46.8254,46.6068,46.3879, 46.1687,45.9515,45.7365,45.5211,45.3055 ,45.0917,44.8804,44.6689,44.4572, 44.2454,44.0379,43.8302,43.6223,43.4142 ,43.2078,43.004,42.8,42.5958,42.2897, 42.0898,41.8897,41.6895,41.4891,41.1894 ,40.9934,40.7972,40.6008,40.4042, 40.1094,39.725,39.34,39.1473,38.8597, 38.843,38.8512,38.855,38.8578,38.8609, 39.1509,39.3442,39.5372,39.7302,40.1157 ,40.4106,40.6078,40.8047,41.0015, 41.1982,41.4982,41.6992,41.9,42.1007, 42.3013,42.5054,42.7104,42.9151,43.1197 ,43.4285,43.6373,43.8458,44.0543, 44.2625,44.581,44.7935,45.0057,45.326, 45.5423,45.8665,46.0823,46.4122,46.6321 ,46.8517,47.0738,47.2976,47.5211, 47.7443,47.9716,48.3125,48.5394,48.7705 ,49.0014,49.3567)
FOOTPRINT_POINT_LONGITUDE = (129.338,128.915,128.441,128.02,127.601 ,127.183,126.739,126.582,126.607, 126.644,126.668,126.691,126.725,126.747 ,126.769,126.8,126.821,126.841,126.861, 126.88,126.899,126.917,126.936,126.953, 126.97,126.987,127.004,127.021,127.036, 127.052,127.067,127.083,127.098,127.112 ,127.126,127.14,127.161,127.174,127.187 ,127.2,127.212,127.231,127.243,127.254, 127.266,127.277,127.294,127.315,127.336 ,127.346,127.36,127.684,128.19,128.481, 128.736,129.101,129.312,129.315,129.317 ,129.32,129.325,129.329,129.331,129.334 ,129.336,129.339,129.343,129.346, 129.348,129.351,129.354,129.357,129.359 ,129.362,129.365,129.369,129.372, 129.374,129.377,129.38,129.385,129.388, 129.391,129.395,129.398,129.402,129.405 ,129.41,129.413,129.416,129.419,129.422 ,129.425,129.428,129.432,129.436,129.44 ,129.443,129.446,129.338)
ORBIT_NUMBER = 15663
ORBITAL_ECCENTRICITY = 0.576
ORBITAL_INCLINATION = 86.91
ORBITAL_SEMIMAJOR_AXIS = 8850.71
PERIAPSIS_ALTITUDE = 355.62
PERIAPSIS_ARGUMENT_ANGLE = 159.71
PERIAPSIS_TIME = 2016-05-11T02:00:19.000Z
SPACECRAFT_ORIENTATION = (0.0,-1.0,0.0)
^MEX_ORIENTATION_DESC = "MEX_ORIENTATION_DESC.TXT"
SPACECRAFT_POINTING_MODE = ACROSSTRACK
^MEX_POINTING_DESC = "MEX_POINTING_DESC.TXT"
RIGHT_ASCENSION = -1e+32
DECLINATION = -1e+32
OFFSET_ANGLE = 0.269
SPACECRAFT_SOLAR_DISTANCE = 2.29862e+08
TARGET_NAME = MARS
/* CAMERA DATA ELEMENTS */
DETECTOR_TEMPERATURE = 18.5744
FOCAL_PLANE_TEMPERATURE = 7.7677
INST_CMPRS_NAME = "DISCRETE COSINE TRANSFORMATION (DCT)"
INST_CMPRS_RATIO = 3.97921
INST_CMPRS_QUALITY = 0
INST_CMPRS_QUANTZ_TBL_ID = 0
INSTRUMENT_TEMPERATURE = 11.234
LENS_TEMPERATURE = 8.5833
MACROPIXEL_SIZE = 4
MISSING_FRAMES = 0
PIXEL_SUBSAMPLING_FLAG = N
SIGNAL_CHAIN_ID = 2
/* RADIOMETRIC DATA ELEMENTS */
BANDWIDTH = 76.0
CENTER_FILTER_WAVELENGTH = 444.0
RADIANCE_OFFSET = 0.214949
RADIANCE_SCALING_FACTOR = 0.00127034
REFLECTANCE_SCALING_FACTOR = 6.8963e-05
MEX:REFLECTANCE_OFFSET = 0.0116689
/* IMAGE OBJECT DEFINITIONS */
OBJECT = IMAGE
  INTERCHANGE_FORMAT = BINARY
  LINES = 12490
  LINE_SAMPLES = 2392
  SAMPLE_TYPE = UNSIGNED_INTEGER
  SAMPLE_BITS = 8
  BANDS = 1
  BAND_STORAGE_TYPE = BAND_SEQUENTIAL
  MAXIMUM = 255
  MEAN = 108.628
  MINIMUM = 1
  STANDARD_DEVIATION = 18.8293
END_OBJECT = IMAGE
/* MAP OBJECT DEFINITIONS */
OBJECT = IMAGE_MAP_PROJECTION
  ^DATA_SET_MAP_PROJECTION_CATALOG= "DSMAP.CAT"
  A_AXIS_RADIUS = 3396.0
  B_AXIS_RADIUS = 3396.0
  C_AXIS_RADIUS = 3396.0
  CENTER_LATITUDE = 0.0
  CENTER_LONGITUDE = 128.0
  COORDINATE_SYSTEM_NAME = PLANETOGRAPHIC
  COORDINATE_SYSTEM_TYPE = "BODY-FIXED ROTATING"
  EASTERNMOST_LONGITUDE = 129.446
  FIRST_STANDARD_PARALLEL = "N/A"
  LINE_FIRST_PIXEL = 1
  LINE_LAST_PIXEL = 12490
  LINE_PROJECTION_OFFSET = 58520.375
  MAP_PROJECTION_ROTATION = 0.0
  MAP_PROJECTION_TYPE = SINUSOIDAL
  MAP_RESOLUTION = 1185.42760773333
  MAP_SCALE = 0.05
  MAXIMUM_LATITUDE = 49.3567
  MINIMUM_LATITUDE = 38.843
  POSITIVE_LONGITUDE_DIRECTION = EAST
  REFERENCE_LATITUDE = "N/A"
  REFERENCE_LONGITUDE = "N/A"
  SAMPLE_FIRST_PIXEL = 1
  SAMPLE_LAST_PIXEL = 2392
  SAMPLE_PROJECTION_OFFSET = 1144.125
  SECOND_STANDARD_PARALLEL = "N/A"
  WESTERNMOST_LONGITUDE = 126.582
END_OBJECT = IMAGE_MAP_PROJECTION
/* The JPEG2000 image data file associated with this label. */
OBJECT = COMPRESSED_FILE
  FILE_NAME = "HF663_0000_BL3.JP2"
  RECORD_TYPE = UNDEFINED
  FILE_RECORDS = UNK
  ENCODING_TYPE = "JP2"
  INTERCHANGE_FORMAT = BINARY
  UNCOMPRESSED_FILE_NAME = "HF663_0000_BL3.IMG"
  REQUIRED_STORAGE_BYTES = "29895216"
  ^DESCRIPTION = "JP2INFO.TXT"
END_OBJECT = COMPRESSED_FILE
END
