PDS_VERSION_ID = PDS3
/* FILE DATA ELEMENTS */
RECORD_TYPE = STREAM
/* POINTERS TO DATA OBJECTS */
^COMPRESSED_FILE = "HF665_0000_S13.JP2"
/* IDENTIFICATION DATA ELEMENTS */
DATA_SET_ID = "MEX-M-HRSC-5-REFDR-MAPPROJECTED-V3.0"
DATA_SET_NAME = "MARS EXPRESS HRSC MAP PROJECTED REFDR V3.0"
DETECTOR_ID = MEX_HRSC_S1
EVENT_TYPE = "MARS-REGIONAL-MAPPING-Vo-Te"
INSTRUMENT_HOST_ID = MEX
INSTRUMENT_HOST_NAME = "MARS EXPRESS"
INSTRUMENT_ID = HRSC
INSTRUMENT_NAME = "HIGH RESOLUTION STEREO CAMERA"
MISSION_NAME = "MARS EXPRESS"
MISSION_PHASE_NAME = ME_Phase_34
PROCESSING_LEVEL_ID = 3
PRODUCT_CREATION_TIME = 2016-11-08T12:40:53.000Z
PRODUCT_ID = "HF665_0000_S13.JP2"
RELEASE_ID = 0133
REVISION_ID = 0000
/* QUALITY DATA ELEMENTS */
DATA_QUALITY_ID = 1
DATA_QUALITY_DESC = "Data calculated based on original SPICE kernels"
/* TIME DATA ELEMENTS */
SPACECRAFT_CLOCK_START_COUNT = "1/0411061944.08294"
SPACECRAFT_CLOCK_STOP_COUNT = "1/0411062344.48043"
START_TIME = 2016-05-11T15:55:39.480Z
STOP_TIME = 2016-05-11T15:58:04.098Z
/* ORBITAL DATA ELEMENTS */
ASCENDING_NODE_LONGITUDE = 279.61
MAXIMUM_RESOLUTION = 31.2
FOOTPRINT_POINT_LATITUDE = (34.7444,34.7371,34.729,34.7198,34.7098 ,34.6988,34.6868,34.3781,34.1999, 34.0199,33.8409,33.6625,33.3114,32.9596 ,32.7834,32.6069,32.4304,32.2533, 32.0765,31.8993,31.7218,31.5442,31.3664 ,31.0997,30.9216,30.7432,30.5646, 30.3858,30.2067,30.0276,29.8484,29.5798 ,29.4003,29.2204,29.0404,28.7703,28.588 ,28.3198,28.1385,27.8666,27.6854, 27.5039,27.3224,27.1406,26.9588,26.7766 ,26.5033,26.3208,26.0659,25.759,25.7561 ,25.7629,25.7703,25.7773,25.7821, 25.9414,26.1737,26.4409,26.6234,26.8972 ,27.0795,27.2616,27.4375,27.6222, 27.8983,28.0797,28.261,28.4416,28.6216, 28.7999,28.9811,29.1642,29.344,29.5248, 29.705,29.885,30.0647,30.2441,30.5131, 30.692,30.8708,31.0494,31.2279,31.4062, 31.5842,31.7621,31.9398,32.2061,32.3834 ,32.5605,32.9131,33.0907,33.2667, 33.4428,33.7067,33.9763,34.1563,34.3372 ,34.5175,34.7444)
FOOTPRINT_POINT_LONGITUDE = (283.715,283.445,283.175,282.903,282.63 ,282.356,282.081,282.016,282.025, 282.034,282.042,282.051,282.067,282.082 ,282.09,282.097,282.104,282.111,282.119 ,282.125,282.132,282.139,282.146, 282.156,282.162,282.168,282.175,282.181 ,282.187,282.193,282.199,282.208, 282.213,282.219,282.224,282.232,282.237 ,282.246,282.251,282.258,282.263, 282.267,282.272,282.276,282.281,282.285 ,282.291,282.295,282.301,282.307, 282.561,282.757,282.993,283.257,283.546 ,283.744,283.745,283.746,283.747, 283.749,283.749,283.75,283.752,283.753, 283.753,283.754,283.755,283.756,283.757 ,283.759,283.759,283.76,283.761,283.762 ,283.763,283.763,283.764,283.765, 283.767,283.768,283.768,283.769,283.77, 283.771,283.772,283.773,283.774,283.775 ,283.776,283.777,283.779,283.78,283.781 ,283.782,283.783,283.785,283.785, 283.786,283.787,283.715)
ORBIT_NUMBER = 15665
ORBITAL_ECCENTRICITY = 0.576
ORBITAL_INCLINATION = 86.92
ORBITAL_SEMIMAJOR_AXIS = 8853.16
PERIAPSIS_ALTITUDE = 355.67
PERIAPSIS_ARGUMENT_ANGLE = 159.37
PERIAPSIS_TIME = 2016-05-11T15:59:57.000Z
SPACECRAFT_ORIENTATION = (0.0,-1.0,0.0)
^MEX_ORIENTATION_DESC = "MEX_ORIENTATION_DESC.TXT"
SPACECRAFT_POINTING_MODE = ACROSSTRACK
^MEX_POINTING_DESC = "MEX_POINTING_DESC.TXT"
RIGHT_ASCENSION = -1e+32
DECLINATION = -1e+32
OFFSET_ANGLE = -0.4
SPACECRAFT_SOLAR_DISTANCE = 2.2975e+08
TARGET_NAME = MARS
/* CAMERA DATA ELEMENTS */
DETECTOR_TEMPERATURE = 17.7588
FOCAL_PLANE_TEMPERATURE = 7.9716
INST_CMPRS_NAME = "DISCRETE COSINE TRANSFORMATION (DCT)"
INST_CMPRS_RATIO = 5.62103
INST_CMPRS_QUALITY = 0
INST_CMPRS_QUANTZ_TBL_ID = 0
INSTRUMENT_TEMPERATURE = 11.6418
LENS_TEMPERATURE = 8.3794
MACROPIXEL_SIZE = 2
MISSING_FRAMES = 0
PIXEL_SUBSAMPLING_FLAG = N
SIGNAL_CHAIN_ID = 1
/* RADIOMETRIC DATA ELEMENTS */
BANDWIDTH = 180.0
CENTER_FILTER_WAVELENGTH = 677.0
RADIANCE_OFFSET = 1.37933
RADIANCE_SCALING_FACTOR = 0.0178183
REFLECTANCE_SCALING_FACTOR = 0.000490708
MEX:REFLECTANCE_OFFSET = 0.037986
/* IMAGE OBJECT DEFINITIONS */
OBJECT = IMAGE
  INTERCHANGE_FORMAT = BINARY
  LINES = 26940
  LINE_SAMPLES = 3748
  SAMPLE_TYPE = UNSIGNED_INTEGER
  SAMPLE_BITS = 8
  BANDS = 1
  BAND_STORAGE_TYPE = BAND_SEQUENTIAL
  MAXIMUM = 255
  MEAN = 85.7023
  MINIMUM = 1
  STANDARD_DEVIATION = 17.8756
END_OBJECT = IMAGE
/* MAP OBJECT DEFINITIONS */
OBJECT = IMAGE_MAP_PROJECTION
  ^DATA_SET_MAP_PROJECTION_CATALOG= "DSMAP.CAT"
  A_AXIS_RADIUS = 3396.0
  B_AXIS_RADIUS = 3396.0
  C_AXIS_RADIUS = 3396.0
  CENTER_LATITUDE = 0.0
  CENTER_LONGITUDE = 283.0
  COORDINATE_SYSTEM_NAME = PLANETOGRAPHIC
  COORDINATE_SYSTEM_TYPE = "BODY-FIXED ROTATING"
  EASTERNMOST_LONGITUDE = 283.787
  FIRST_STANDARD_PARALLEL = "N/A"
  LINE_FIRST_PIXEL = 1
  LINE_LAST_PIXEL = 26940
  LINE_PROJECTION_OFFSET = 88002.75
  MAP_PROJECTION_ROTATION = 0.0
  MAP_PROJECTION_TYPE = SINUSOIDAL
  MAP_RESOLUTION = 2370.85521546667
  MAP_SCALE = 0.025
  MAXIMUM_LATITUDE = 34.7444
  MINIMUM_LATITUDE = 25.7561
  POSITIVE_LONGITUDE_DIRECTION = EAST
  REFERENCE_LATITUDE = "N/A"
  REFERENCE_LONGITUDE = "N/A"
  SAMPLE_FIRST_PIXEL = 1
  SAMPLE_LAST_PIXEL = 3748
  SAMPLE_PROJECTION_OFFSET = 2157.75
  SECOND_STANDARD_PARALLEL = "N/A"
  WESTERNMOST_LONGITUDE = 282.016
END_OBJECT = IMAGE_MAP_PROJECTION
/* The JPEG2000 image data file associated with this label. */
OBJECT = COMPRESSED_FILE
  FILE_NAME = "HF665_0000_S13.JP2"
  RECORD_TYPE = UNDEFINED
  FILE_RECORDS = UNK
  ENCODING_TYPE = "JP2"
  INTERCHANGE_FORMAT = BINARY
  UNCOMPRESSED_FILE_NAME = "HF665_0000_S13.IMG"
  REQUIRED_STORAGE_BYTES = "100993608"
  ^DESCRIPTION = "JP2INFO.TXT"
END_OBJECT = COMPRESSED_FILE
END
