PDS_VERSION_ID = PDS3
/* FILE DATA ELEMENTS */
RECORD_TYPE = STREAM
/* POINTERS TO DATA OBJECTS */
^COMPRESSED_FILE = "HF667_0000_BL3.JP2"
/* IDENTIFICATION DATA ELEMENTS */
DATA_SET_ID = "MEX-M-HRSC-5-REFDR-MAPPROJECTED-V3.0"
DATA_SET_NAME = "MARS EXPRESS HRSC MAP PROJECTED REFDR V3.0"
DETECTOR_ID = MEX_HRSC_BLUE
EVENT_TYPE = "MARS-REGIONAL-MAPPING-Te-Gl"
INSTRUMENT_HOST_ID = MEX
INSTRUMENT_HOST_NAME = "MARS EXPRESS"
INSTRUMENT_ID = HRSC
INSTRUMENT_NAME = "HIGH RESOLUTION STEREO CAMERA"
MISSION_NAME = "MARS EXPRESS"
MISSION_PHASE_NAME = ME_Phase_34
PROCESSING_LEVEL_ID = 3
PRODUCT_CREATION_TIME = 2016-11-08T12:40:53.000Z
PRODUCT_ID = "HF667_0000_BL3.JP2"
RELEASE_ID = 0133
REVISION_ID = 0000
/* QUALITY DATA ELEMENTS */
DATA_QUALITY_ID = 1
DATA_QUALITY_DESC = "Data calculated based on original SPICE kernels"
/* TIME DATA ELEMENTS */
SPACECRAFT_CLOCK_START_COUNT = "1/0411112525.07323"
SPACECRAFT_CLOCK_STOP_COUNT = "1/0411112776.05431"
START_TIME = 2016-05-12T05:56:16.202Z
STOP_TIME = 2016-05-12T05:59:14.753Z
/* ORBITAL DATA ELEMENTS */
ASCENDING_NODE_LONGITUDE = 279.57
MAXIMUM_RESOLUTION = 57.2
FOOTPRINT_POINT_LATITUDE = (33.4278,33.4267,33.4251,33.4231, 33.4207,33.4235,33.1707,32.9177,32.6642 ,32.4108,32.0304,31.7768,31.5233, 31.2694,31.0146,30.7603,30.507,30.2526, 29.9972,29.6153,29.3616,29.1066,28.8516 ,28.5966,28.2513,27.9294,27.7155, 27.5022,27.1807,26.9665,26.6454,26.4318 ,26.2178,25.8975,25.5746,25.36,25.1465, 24.9326,24.7184,24.3973,24.1829,23.8631 ,23.6483,23.4336,23.2193,22.898,22.5768 ,22.3627,22.0416,21.8938,21.8948, 21.8954,21.8966,21.897,22.1114,22.3256, 22.5396,22.754,22.9685,23.2898,23.5041, 23.7192,23.9338,24.148,24.3626,24.5768, 24.8981,25.1124,25.4335,25.6477,25.9689 ,26.183,26.3978,26.6123,26.8266,27.0408 ,27.2551,27.4692,27.7905,28.0045, 28.2187,28.4327,28.6833,28.9384,29.3204 ,29.5749,29.8306,30.2121,30.4671, 30.8493,31.1041,31.3587,31.7394,31.9932 ,32.247,32.5007,32.8811,33.1344,33.3877 ,33.4278)
FOOTPRINT_POINT_LONGITUDE = (80.4345,80.1873,79.9423,79.6996, 79.4593,78.9994,79.0048,79.0101,79.015, 79.0199,79.0269,79.0314,79.0359,79.04, 79.0437,79.0475,79.0517,79.0553,79.0583 ,79.0632,79.0668,79.0696,79.0724,79.075 ,79.0781,79.0804,79.0822,79.0843, 79.0865,79.0879,79.09,79.0916,79.0929, 79.0951,79.0957,79.0964,79.0977,79.0986 ,79.0993,79.1003,79.1007,79.1022, 79.1023,79.1022,79.1024,79.1025,79.1026 ,79.1025,79.1023,79.4498,79.6768, 79.9574,80.1671,80.4709,80.4738,80.4757 ,80.477,80.4798,80.4829,80.4861,80.4884 ,80.4942,80.4976,80.5,80.5036,80.5057, 80.5091,80.5122,80.515,80.518,80.5216, 80.5242,80.5298,80.5343,80.5385,80.5422 ,80.5461,80.5499,80.556,80.56,80.5647, 80.5686,80.5738,80.5779,80.5821,80.5848 ,80.5933,80.5974,80.604,80.613,80.6197, 80.626,80.6311,80.6353,80.6403,80.6451, 80.653,80.6577,80.6629,80.4345)
ORBIT_NUMBER = 15667
ORBITAL_ECCENTRICITY = 0.576
ORBITAL_INCLINATION = 86.93
ORBITAL_SEMIMAJOR_AXIS = 8852.49
PERIAPSIS_ALTITUDE = 355.42
PERIAPSIS_ARGUMENT_ANGLE = 159.0
PERIAPSIS_TIME = 2016-05-12T05:59:23.000Z
SPACECRAFT_ORIENTATION = (0.0,-1.0,0.0)
^MEX_ORIENTATION_DESC = "MEX_ORIENTATION_DESC.TXT"
SPACECRAFT_POINTING_MODE = ACROSSTRACK
^MEX_POINTING_DESC = "MEX_POINTING_DESC.TXT"
RIGHT_ASCENSION = -1e+32
DECLINATION = -1e+32
OFFSET_ANGLE = 0.808
SPACECRAFT_SOLAR_DISTANCE = 2.29638e+08
TARGET_NAME = MARS
/* CAMERA DATA ELEMENTS */
DETECTOR_TEMPERATURE = 18.5744
FOCAL_PLANE_TEMPERATURE = 8.1755
INST_CMPRS_NAME = "DISCRETE COSINE TRANSFORMATION (DCT)"
INST_CMPRS_RATIO = 3.75844
INST_CMPRS_QUALITY = 0
INST_CMPRS_QUANTZ_TBL_ID = 0
INSTRUMENT_TEMPERATURE = 11.8457
LENS_TEMPERATURE = 8.5833
MACROPIXEL_SIZE = 4
MISSING_FRAMES = 0
PIXEL_SUBSAMPLING_FLAG = N
SIGNAL_CHAIN_ID = 2
/* RADIOMETRIC DATA ELEMENTS */
BANDWIDTH = 76.0
CENTER_FILTER_WAVELENGTH = 444.0
RADIANCE_OFFSET = 0.12175
RADIANCE_SCALING_FACTOR = 0.00147855
REFLECTANCE_SCALING_FACTOR = 8.01092e-05
MEX:REFLECTANCE_OFFSET = 0.00659649
/* IMAGE OBJECT DEFINITIONS */
OBJECT = IMAGE
  INTERCHANGE_FORMAT = BINARY
  LINES = 13670
  LINE_SAMPLES = 1729
  SAMPLE_TYPE = UNSIGNED_INTEGER
  SAMPLE_BITS = 8
  BANDS = 1
  BAND_STORAGE_TYPE = BAND_SEQUENTIAL
  MAXIMUM = 255
  MEAN = 108.483
  MINIMUM = 1
  STANDARD_DEVIATION = 28.1191
END_OBJECT = IMAGE
/* MAP OBJECT DEFINITIONS */
OBJECT = IMAGE_MAP_PROJECTION
  ^DATA_SET_MAP_PROJECTION_CATALOG= "DSMAP.CAT"
  A_AXIS_RADIUS = 3396.0
  B_AXIS_RADIUS = 3396.0
  C_AXIS_RADIUS = 3396.0
  CENTER_LATITUDE = 0.0
  CENTER_LONGITUDE = 80.0
  COORDINATE_SYSTEM_NAME = PLANETOGRAPHIC
  COORDINATE_SYSTEM_TYPE = "BODY-FIXED ROTATING"
  EASTERNMOST_LONGITUDE = 80.66289999999999
  FIRST_STANDARD_PARALLEL = "N/A"
  LINE_FIRST_PIXEL = 1
  LINE_LAST_PIXEL = 13670
  LINE_PROJECTION_OFFSET = 39634.375
  MAP_PROJECTION_ROTATION = 0.0
  MAP_PROJECTION_TYPE = SINUSOIDAL
  MAP_RESOLUTION = 1185.42760773333
  MAP_SCALE = 0.05
  MAXIMUM_LATITUDE = 33.4278
  MINIMUM_LATITUDE = 21.8938
  POSITIVE_LONGITUDE_DIRECTION = EAST
  REFERENCE_LATITUDE = "N/A"
  REFERENCE_LONGITUDE = "N/A"
  SAMPLE_FIRST_PIXEL = 1
  SAMPLE_LAST_PIXEL = 1729
  SAMPLE_PROJECTION_OFFSET = 1007.625
  SECOND_STANDARD_PARALLEL = "N/A"
  WESTERNMOST_LONGITUDE = 78.99939999999999
END_OBJECT = IMAGE_MAP_PROJECTION
/* The JPEG2000 image data file associated with this label. */
OBJECT = COMPRESSED_FILE
  FILE_NAME = "HF667_0000_BL3.JP2"
  RECORD_TYPE = UNDEFINED
  FILE_RECORDS = UNK
  ENCODING_TYPE = "JP2"
  INTERCHANGE_FORMAT = BINARY
  UNCOMPRESSED_FILE_NAME = "HF667_0000_BL3.IMG"
  REQUIRED_STORAGE_BYTES = "23656178"
  ^DESCRIPTION = "JP2INFO.TXT"
END_OBJECT = COMPRESSED_FILE
END
