PDS_VERSION_ID = PDS3
/* FILE DATA ELEMENTS */
RECORD_TYPE = STREAM
/* POINTERS TO DATA OBJECTS */
^COMPRESSED_FILE = "HF667_0000_ND3.JP2"
/* IDENTIFICATION DATA ELEMENTS */
DATA_SET_ID = "MEX-M-HRSC-5-REFDR-MAPPROJECTED-V3.0"
DATA_SET_NAME = "MARS EXPRESS HRSC MAP PROJECTED REFDR V3.0"
DETECTOR_ID = MEX_HRSC_NADIR
EVENT_TYPE = "MARS-REGIONAL-MAPPING-Te-Gl"
INSTRUMENT_HOST_ID = MEX
INSTRUMENT_HOST_NAME = "MARS EXPRESS"
INSTRUMENT_ID = HRSC
INSTRUMENT_NAME = "HIGH RESOLUTION STEREO CAMERA"
MISSION_NAME = "MARS EXPRESS"
MISSION_PHASE_NAME = ME_Phase_34
PROCESSING_LEVEL_ID = 3
PRODUCT_CREATION_TIME = 2016-11-08T12:40:53.000Z
PRODUCT_ID = "HF667_0000_ND3.JP2"
RELEASE_ID = 0133
REVISION_ID = 0000
/* QUALITY DATA ELEMENTS */
DATA_QUALITY_ID = 1
DATA_QUALITY_DESC = "Data calculated based on original SPICE kernels"
/* TIME DATA ELEMENTS */
SPACECRAFT_CLOCK_START_COUNT = "1/0411112525.07323"
SPACECRAFT_CLOCK_STOP_COUNT = "1/0411112776.05431"
START_TIME = 2016-05-12T05:56:10.051Z
STOP_TIME = 2016-05-12T05:59:09.054Z
/* ORBITAL DATA ELEMENTS */
ASCENDING_NODE_LONGITUDE = 279.57
MAXIMUM_RESOLUTION = 14.3
FOOTPRINT_POINT_LATITUDE = (33.4349,33.435,33.4346,33.4337,33.4312 ,33.1799,32.9284,32.6768,32.4249, 32.1729,31.9208,31.6685,31.4161,31.1635 ,30.7842,30.5313,30.2782,30.0249, 29.7715,29.5181,29.1376,28.8839,28.6299 ,28.3759,28.1218,27.9027,27.4766, 27.2634,26.9433,26.73,26.5166,26.3031, 26.0896,25.8761,25.6623,25.4486,25.1281 ,24.9144,24.7005,24.4867,24.2728, 24.0588,23.7381,23.417,23.0959,22.8819, 22.6678,22.4537,22.2396,21.9185,21.9095 ,21.9081,21.9046,22.1183,22.3325, 22.5467,22.761,22.9752,23.1894,23.5106, 23.8319,24.046,24.26,24.4741,24.6881, 24.902,25.116,25.3298,25.6506,25.9712, 26.1849,26.5055,26.7191,26.9326,27.1461 ,27.3595,27.5728,27.7861,27.9994, 28.3647,28.6189,28.873,29.127,29.3809, 29.6347,30.0152,30.2686,30.522,30.7752, 31.0284,31.2813,31.5341,31.7868,32.0392 ,32.2916,32.5438,32.7958,33.0477, 33.2994,33.4349)
FOOTPRINT_POINT_LONGITUDE = (80.2597,79.9973,79.7375,79.4803, 78.9846,78.9902,78.9955,79.0007,79.0057 ,79.0106,79.0152,79.0199,79.0244, 79.0286,79.0343,79.0386,79.0423,79.0455 ,79.0488,79.0526,79.0572,79.0603,79.063 ,79.0657,79.0681,79.0695,79.0735, 79.0752,79.0773,79.0788,79.0805,79.0818 ,79.0831,79.0849,79.0853,79.0861, 79.0878,79.0888,79.0896,79.0903,79.0909 ,79.0913,79.093,79.093,79.0932,79.0935, 79.0937,79.0937,79.0935,79.0934,79.5177 ,79.855,80.3812,80.4734,80.4754,80.4767 ,80.4795,80.4827,80.4843,80.4884, 80.4961,80.4986,80.5013,80.5052,80.5077 ,80.5094,80.5126,80.5137,80.5185, 80.5209,80.5249,80.5329,80.5372,80.5412 ,80.5451,80.549,80.5527,80.557,80.5613, 80.5688,80.5741,80.5783,80.5818,80.5839 ,80.5877,80.5981,80.6002,80.6069, 80.6118,80.619,80.6262,80.6296,80.6344, 80.6387,80.6437,80.6486,80.654,80.659, 80.6642,80.2597)
ORBIT_NUMBER = 15667
ORBITAL_ECCENTRICITY = 0.576
ORBITAL_INCLINATION = 86.93
ORBITAL_SEMIMAJOR_AXIS = 8852.49
PERIAPSIS_ALTITUDE = 355.42
PERIAPSIS_ARGUMENT_ANGLE = 159.0
PERIAPSIS_TIME = 2016-05-12T05:59:23.000Z
SPACECRAFT_ORIENTATION = (0.0,-1.0,0.0)
^MEX_ORIENTATION_DESC = "MEX_ORIENTATION_DESC.TXT"
SPACECRAFT_POINTING_MODE = ACROSSTRACK
^MEX_POINTING_DESC = "MEX_POINTING_DESC.TXT"
RIGHT_ASCENSION = -1e+32
DECLINATION = -1e+32
OFFSET_ANGLE = 0.808
SPACECRAFT_SOLAR_DISTANCE = 2.29638e+08
TARGET_NAME = MARS
/* CAMERA DATA ELEMENTS */
DETECTOR_TEMPERATURE = 18.5744
FOCAL_PLANE_TEMPERATURE = 8.1755
INST_CMPRS_NAME = "DISCRETE COSINE TRANSFORMATION (DCT)"
INST_CMPRS_RATIO = 4.88507
INST_CMPRS_QUALITY = 0
INST_CMPRS_QUANTZ_TBL_ID = 0
INSTRUMENT_TEMPERATURE = 11.8457
LENS_TEMPERATURE = 8.5833
MACROPIXEL_SIZE = 1
MISSING_FRAMES = 0
PIXEL_SUBSAMPLING_FLAG = N
SIGNAL_CHAIN_ID = 0
/* RADIOMETRIC DATA ELEMENTS */
BANDWIDTH = 177.0
CENTER_FILTER_WAVELENGTH = 677.5
RADIANCE_OFFSET = 0.611895
RADIANCE_SCALING_FACTOR = 0.0154882
REFLECTANCE_SCALING_FACTOR = 0.000433885
MEX:REFLECTANCE_OFFSET = 0.0171415
/* IMAGE OBJECT DEFINITIONS */
OBJECT = IMAGE
  INTERCHANGE_FORMAT = BINARY
  LINES = 54680
  LINE_SAMPLES = 6916
  SAMPLE_TYPE = UNSIGNED_INTEGER
  SAMPLE_BITS = 8
  BANDS = 1
  BAND_STORAGE_TYPE = BAND_SEQUENTIAL
  MAXIMUM = 255
  MEAN = 86.0924
  MINIMUM = 1
  STANDARD_DEVIATION = 31.4042
END_OBJECT = IMAGE
/* MAP OBJECT DEFINITIONS */
OBJECT = IMAGE_MAP_PROJECTION
  ^DATA_SET_MAP_PROJECTION_CATALOG= "DSMAP.CAT"
  A_AXIS_RADIUS = 3396.0
  B_AXIS_RADIUS = 3396.0
  C_AXIS_RADIUS = 3396.0
  CENTER_LATITUDE = 0.0
  CENTER_LONGITUDE = 80.0
  COORDINATE_SYSTEM_NAME = PLANETOGRAPHIC
  COORDINATE_SYSTEM_TYPE = "BODY-FIXED ROTATING"
  EASTERNMOST_LONGITUDE = 80.66419999999999
  FIRST_STANDARD_PARALLEL = "N/A"
  LINE_FIRST_PIXEL = 1
  LINE_LAST_PIXEL = 54680
  LINE_PROJECTION_OFFSET = 158539.0
  MAP_PROJECTION_ROTATION = 0.0
  MAP_PROJECTION_TYPE = SINUSOIDAL
  MAP_RESOLUTION = 4741.71043093333
  MAP_SCALE = 0.0125
  MAXIMUM_LATITUDE = 33.435
  MINIMUM_LATITUDE = 21.9046
  POSITIVE_LONGITUDE_DIRECTION = EAST
  REFERENCE_LATITUDE = "N/A"
  REFERENCE_LONGITUDE = "N/A"
  SAMPLE_FIRST_PIXEL = 1
  SAMPLE_LAST_PIXEL = 6916
  SAMPLE_PROJECTION_OFFSET = 4032.0
  SECOND_STANDARD_PARALLEL = "N/A"
  WESTERNMOST_LONGITUDE = 78.9846
END_OBJECT = IMAGE_MAP_PROJECTION
/* The JPEG2000 image data file associated with this label. */
OBJECT = COMPRESSED_FILE
  FILE_NAME = "HF667_0000_ND3.JP2"
  RECORD_TYPE = UNDEFINED
  FILE_RECORDS = UNK
  ENCODING_TYPE = "JP2"
  INTERCHANGE_FORMAT = BINARY
  UNCOMPRESSED_FILE_NAME = "HF667_0000_ND3.IMG"
  REQUIRED_STORAGE_BYTES = "378201460"
  ^DESCRIPTION = "JP2INFO.TXT"
END_OBJECT = COMPRESSED_FILE
END
