PDS_VERSION_ID = PDS3
/* FILE DATA ELEMENTS */
RECORD_TYPE = STREAM
/* POINTERS TO DATA OBJECTS */
^COMPRESSED_FILE = "HF669_0000_RE3.JP2"
/* IDENTIFICATION DATA ELEMENTS */
DATA_SET_ID = "MEX-M-HRSC-5-REFDR-MAPPROJECTED-V3.0"
DATA_SET_NAME = "MARS EXPRESS HRSC MAP PROJECTED REFDR V3.0"
DETECTOR_ID = MEX_HRSC_RED
EVENT_TYPE = "MARS-REGIONAL-MAPPING-Vo-Te"
INSTRUMENT_HOST_ID = MEX
INSTRUMENT_HOST_NAME = "MARS EXPRESS"
INSTRUMENT_ID = HRSC
INSTRUMENT_NAME = "HIGH RESOLUTION STEREO CAMERA"
MISSION_NAME = "MARS EXPRESS"
MISSION_PHASE_NAME = ME_Phase_34
PROCESSING_LEVEL_ID = 3
PRODUCT_CREATION_TIME = 2016-11-08T12:40:53.000Z
PRODUCT_ID = "HF669_0000_RE3.JP2"
RELEASE_ID = 0133
REVISION_ID = 0000
/* QUALITY DATA ELEMENTS */
DATA_QUALITY_ID = 1
DATA_QUALITY_DESC = "Data calculated based on original SPICE kernels"
/* TIME DATA ELEMENTS */
SPACECRAFT_CLOCK_START_COUNT = "1/0411162977.07302"
SPACECRAFT_CLOCK_STOP_COUNT = "1/0411163199.54471"
START_TIME = 2016-05-12T19:57:26.085Z
STOP_TIME = 2016-05-12T19:59:59.721Z
/* ORBITAL DATA ELEMENTS */
ASCENDING_NODE_LONGITUDE = 279.54
MAXIMUM_RESOLUTION = 59.5
FOOTPRINT_POINT_LATITUDE = (28.5404,28.5436,28.545,28.5463,28.5663 ,28.266,27.9661,27.6671,27.4676,27.2683 ,26.9678,26.7668,26.567,26.3678,26.1682 ,25.8683,25.6683,25.3685,25.0684, 24.8677,24.6683,24.4698,24.2707,23.9717 ,23.7725,23.4738,23.275,23.0763,22.778, 22.579,22.2813,22.0828,21.8841,21.6858, 21.4875,21.2891,21.0909,20.8927,20.6943 ,20.4964,20.2986,20.1005,19.9029, 19.7055,19.5078,19.3105,19.1135,18.9164 ,18.7197,18.6057,18.5991,18.5956, 18.5899,18.6865,18.8846,19.0814,19.2811 ,19.4783,19.7744,19.9719,20.1695, 20.3675,20.5654,20.7633,20.9616,21.1598 ,21.358,21.5565,21.755,22.0531,22.2518, 22.4506,22.6496,22.948,23.1469,23.3463, 23.5454,23.7448,23.9441,24.1436,24.3432 ,24.5427,24.8425,25.0422,25.2417, 25.4406,25.7402,26.04,26.3402,26.5402, 26.74,26.94,27.14,27.4406,27.6411, 27.8415,28.0417,28.2421,28.4424, 28.5404)
FOOTPRINT_POINT_LONGITUDE = (234.366,233.939,233.724,233.509, 233.209,233.216,233.222,233.227,233.231 ,233.234,233.24,233.244,233.247,233.25, 233.253,233.258,233.261,233.266,233.271 ,233.274,233.276,233.278,233.281, 233.284,233.286,233.29,233.291,233.293, 233.296,233.298,233.3,233.302,233.303, 233.304,233.306,233.307,233.308,233.309 ,233.31,233.311,233.312,233.313,233.314 ,233.314,233.315,233.316,233.316, 233.316,233.316,233.54,233.9,234.171, 234.454,234.641,234.642,234.642,234.643 ,234.644,234.644,234.645,234.645, 234.645,234.646,234.646,234.647,234.647 ,234.647,234.648,234.648,234.649, 234.649,234.65,234.65,234.651,234.651, 234.652,234.652,234.653,234.653,234.654 ,234.654,234.654,234.655,234.656, 234.656,234.656,234.657,234.657,234.658 ,234.658,234.659,234.659,234.659,234.66 ,234.661,234.661,234.661,234.662, 234.662,234.366)
ORBIT_NUMBER = 15669
ORBITAL_ECCENTRICITY = 0.577
ORBITAL_INCLINATION = 86.92
ORBITAL_SEMIMAJOR_AXIS = 8857.69
PERIAPSIS_ALTITUDE = 355.83
PERIAPSIS_ARGUMENT_ANGLE = 158.63
PERIAPSIS_TIME = 2016-05-12T19:58:50.000Z
SPACECRAFT_ORIENTATION = (0.0,-1.0,0.0)
^MEX_ORIENTATION_DESC = "MEX_ORIENTATION_DESC.TXT"
SPACECRAFT_POINTING_MODE = ACROSSTRACK
^MEX_POINTING_DESC = "MEX_POINTING_DESC.TXT"
RIGHT_ASCENSION = -1e+32
DECLINATION = -1e+32
OFFSET_ANGLE = -0.269
SPACECRAFT_SOLAR_DISTANCE = 2.29525e+08
TARGET_NAME = MARS
/* CAMERA DATA ELEMENTS */
DETECTOR_TEMPERATURE = 19.5939
FOCAL_PLANE_TEMPERATURE = 8.5833
INST_CMPRS_NAME = "DISCRETE COSINE TRANSFORMATION (DCT)"
INST_CMPRS_RATIO = 12.2299
INST_CMPRS_QUALITY = 0
INST_CMPRS_QUANTZ_TBL_ID = 0
INSTRUMENT_TEMPERATURE = 12.4574
LENS_TEMPERATURE = 9.195
MACROPIXEL_SIZE = 4
MISSING_FRAMES = 0
PIXEL_SUBSAMPLING_FLAG = N
SIGNAL_CHAIN_ID = 2
/* RADIOMETRIC DATA ELEMENTS */
BANDWIDTH = 48.0
CENTER_FILTER_WAVELENGTH = 748.0
RADIANCE_OFFSET = 0.381217
RADIANCE_SCALING_FACTOR = 0.00437279
REFLECTANCE_SCALING_FACTOR = 0.000525711
MEX:REFLECTANCE_OFFSET = 0.0458312
/* IMAGE OBJECT DEFINITIONS */
OBJECT = IMAGE
  INTERCHANGE_FORMAT = BINARY
  LINES = 11805
  LINE_SAMPLES = 1634
  SAMPLE_TYPE = UNSIGNED_INTEGER
  SAMPLE_BITS = 8
  BANDS = 1
  BAND_STORAGE_TYPE = BAND_SEQUENTIAL
  MAXIMUM = 255
  MEAN = 74.2727
  MINIMUM = 1
  STANDARD_DEVIATION = 25.2563
END_OBJECT = IMAGE
/* MAP OBJECT DEFINITIONS */
OBJECT = IMAGE_MAP_PROJECTION
  ^DATA_SET_MAP_PROJECTION_CATALOG= "DSMAP.CAT"
  A_AXIS_RADIUS = 3396.0
  B_AXIS_RADIUS = 3396.0
  C_AXIS_RADIUS = 3396.0
  CENTER_LATITUDE = 0.0
  CENTER_LONGITUDE = 234.0
  COORDINATE_SYSTEM_NAME = PLANETOGRAPHIC
  COORDINATE_SYSTEM_TYPE = "BODY-FIXED ROTATING"
  EASTERNMOST_LONGITUDE = 234.662
  FIRST_STANDARD_PARALLEL = "N/A"
  LINE_FIRST_PIXEL = 1
  LINE_LAST_PIXEL = 11805
  LINE_PROJECTION_OFFSET = 33869.625
  MAP_PROJECTION_ROTATION = 0.0
  MAP_PROJECTION_TYPE = SINUSOIDAL
  MAP_RESOLUTION = 1185.42760773333
  MAP_SCALE = 0.05
  MAXIMUM_LATITUDE = 28.5663
  MINIMUM_LATITUDE = 18.5899
  POSITIVE_LONGITUDE_DIRECTION = EAST
  REFERENCE_LATITUDE = "N/A"
  REFERENCE_LONGITUDE = "N/A"
  SAMPLE_FIRST_PIXEL = 1
  SAMPLE_LAST_PIXEL = 1634
  SAMPLE_PROJECTION_OFFSET = 890.875
  SECOND_STANDARD_PARALLEL = "N/A"
  WESTERNMOST_LONGITUDE = 233.209
END_OBJECT = IMAGE_MAP_PROJECTION
/* The JPEG2000 image data file associated with this label. */
OBJECT = COMPRESSED_FILE
  FILE_NAME = "HF669_0000_RE3.JP2"
  RECORD_TYPE = UNDEFINED
  FILE_RECORDS = UNK
  ENCODING_TYPE = "JP2"
  INTERCHANGE_FORMAT = BINARY
  UNCOMPRESSED_FILE_NAME = "HF669_0000_RE3.IMG"
  REQUIRED_STORAGE_BYTES = "19308978"
  ^DESCRIPTION = "JP2INFO.TXT"
END_OBJECT = COMPRESSED_FILE
END
