PDS_VERSION_ID = PDS3
/* FILE DATA ELEMENTS */
RECORD_TYPE = STREAM
/* POINTERS TO DATA OBJECTS */
^COMPRESSED_FILE = "HF671_0000_ND3.JP2"
/* IDENTIFICATION DATA ELEMENTS */
DATA_SET_ID = "MEX-M-HRSC-5-REFDR-MAPPROJECTED-V3.0"
DATA_SET_NAME = "MARS EXPRESS HRSC MAP PROJECTED REFDR V3.0"
DETECTOR_ID = MEX_HRSC_NADIR
EVENT_TYPE = "MARS-REGIONAL-MAPPING-Fl-Gl-Mw"
INSTRUMENT_HOST_ID = MEX
INSTRUMENT_HOST_NAME = "MARS EXPRESS"
INSTRUMENT_ID = HRSC
INSTRUMENT_NAME = "HIGH RESOLUTION STEREO CAMERA"
MISSION_NAME = "MARS EXPRESS"
MISSION_PHASE_NAME = ME_Phase_34
PROCESSING_LEVEL_ID = 3
PRODUCT_CREATION_TIME = 2016-11-08T12:40:53.000Z
PRODUCT_ID = "HF671_0000_ND3.JP2"
RELEASE_ID = 0133
REVISION_ID = 0000
/* QUALITY DATA ELEMENTS */
DATA_QUALITY_ID = 1
DATA_QUALITY_DESC = "Data calculated based on original SPICE kernels"
/* TIME DATA ELEMENTS */
SPACECRAFT_CLOCK_START_COUNT = "1/0411213089.07335"
SPACECRAFT_CLOCK_STOP_COUNT = "1/0411213364.22269"
START_TIME = 2016-05-13T09:52:25.453Z
STOP_TIME = 2016-05-13T09:55:35.449Z
/* ORBITAL DATA ELEMENTS */
ASCENDING_NODE_LONGITUDE = 279.5
MAXIMUM_RESOLUTION = 15.5
FOOTPRINT_POINT_LATITUDE = (44.6563,44.6492,44.641,44.6316,44.6211 ,44.6093,44.3442,44.0859,43.8315, 43.5766,43.3214,43.0677,42.8178,42.5676 ,42.3171,42.0676,41.8224,41.577,41.3313 ,41.0853,40.7222,40.4815,40.2406, 39.9994,39.7589,39.5233,39.2874,39.0513 ,38.815,38.4615,38.2307,37.9996,37.7684 ,37.537,37.3054,37.0747,36.6227,36.1699 ,35.7165,35.2624,34.8076,34.58,34.3522, 34.1242,33.8961,33.6679,33.4396,33.211, 32.9824,32.7525,32.7576,32.7634,32.7671 ,32.7699,32.9992,33.2283,33.4574, 33.6862,33.9149,34.1434,34.486,34.8285, 35.0566,35.2844,35.512,35.7396,36.1943, 36.6483,37.1016,37.3329,37.5651,37.7973 ,38.0292,38.261,38.4925,38.847,39.0842, 39.3211,39.5578,39.7943,40.0355,40.2775 ,40.5192,40.7608,41.002,41.3718,41.6185 ,41.8649,42.1111,42.3615,42.6134, 42.8647,43.1156,43.3703,43.6267,43.8827 ,44.1384,44.3977,44.6587,44.6563)
FOOTPRINT_POINT_LONGITUDE = (29.4913,29.1319,28.7711,28.4092, 28.0459,27.6805,27.5044,27.5289,27.5522 ,27.5753,27.5979,27.6199,27.6421, 27.6631,27.6844,27.7042,27.7242,27.7444 ,27.7621,27.781,27.8129,27.8278,27.8444 ,27.8617,27.8795,27.8953,27.9114, 27.9264,27.9414,27.9637,27.9762,27.9913 ,28.0048,28.018,28.0312,28.0442,28.068, 28.0922,28.115,28.1371,28.1592,28.1695, 28.1804,28.1921,28.2013,28.2103,28.2176 ,28.2265,28.2361,28.4392,28.7437, 29.1743,29.5394,29.8627,29.8629,29.863, 29.8632,29.8628,29.8624,29.8616,29.8616 ,29.8628,29.8629,29.8625,29.8622, 29.8623,29.8623,29.8622,29.8623,29.8623 ,29.8619,29.8618,29.8617,29.8617, 29.8612,29.8606,29.8614,29.8611,29.8604 ,29.8604,29.8598,29.8591,29.8583, 29.8576,29.8563,29.854,29.8537,29.8529, 29.8526,29.8518,29.8531,29.8524,29.8513 ,29.8499,29.8488,29.8482,29.847,29.845, 29.8442,29.4913)
ORBIT_NUMBER = 15671
ORBITAL_ECCENTRICITY = 0.576
ORBITAL_INCLINATION = 86.91
ORBITAL_SEMIMAJOR_AXIS = 8850.06
PERIAPSIS_ALTITUDE = 356.52
PERIAPSIS_ARGUMENT_ANGLE = 158.32
PERIAPSIS_TIME = 2016-05-13T09:58:27.000Z
SPACECRAFT_ORIENTATION = (0.0,-1.0,0.0)
^MEX_ORIENTATION_DESC = "MEX_ORIENTATION_DESC.TXT"
SPACECRAFT_POINTING_MODE = ACROSSTRACK
^MEX_POINTING_DESC = "MEX_POINTING_DESC.TXT"
RIGHT_ASCENSION = -1e+32
DECLINATION = -1e+32
OFFSET_ANGLE = -0.4
SPACECRAFT_SOLAR_DISTANCE = 2.29413e+08
TARGET_NAME = MARS
/* CAMERA DATA ELEMENTS */
DETECTOR_TEMPERATURE = 18.7783
FOCAL_PLANE_TEMPERATURE = 8.1755
INST_CMPRS_NAME = "DISCRETE COSINE TRANSFORMATION (DCT)"
INST_CMPRS_RATIO = 4.41065
INST_CMPRS_QUALITY = 0
INST_CMPRS_QUANTZ_TBL_ID = 0
INSTRUMENT_TEMPERATURE = 11.6418
LENS_TEMPERATURE = 8.3794
MACROPIXEL_SIZE = 1
MISSING_FRAMES = 0
PIXEL_SUBSAMPLING_FLAG = N
SIGNAL_CHAIN_ID = 0
/* RADIOMETRIC DATA ELEMENTS */
BANDWIDTH = 177.0
CENTER_FILTER_WAVELENGTH = 677.5
RADIANCE_OFFSET = 0.923552
RADIANCE_SCALING_FACTOR = 0.0205924
REFLECTANCE_SCALING_FACTOR = 0.000575744
MEX:REFLECTANCE_OFFSET = 0.0258217
/* IMAGE OBJECT DEFINITIONS */
OBJECT = IMAGE
  INTERCHANGE_FORMAT = BINARY
  LINES = 56489
  LINE_SAMPLES = 8702
  SAMPLE_TYPE = UNSIGNED_INTEGER
  SAMPLE_BITS = 8
  BANDS = 1
  BAND_STORAGE_TYPE = BAND_SEQUENTIAL
  MAXIMUM = 255
  MEAN = 78.5338
  MINIMUM = 1
  STANDARD_DEVIATION = 25.6475
END_OBJECT = IMAGE
/* MAP OBJECT DEFINITIONS */
OBJECT = IMAGE_MAP_PROJECTION
  ^DATA_SET_MAP_PROJECTION_CATALOG= "DSMAP.CAT"
  A_AXIS_RADIUS = 3396.0
  B_AXIS_RADIUS = 3396.0
  C_AXIS_RADIUS = 3396.0
  CENTER_LATITUDE = 0.0
  CENTER_LONGITUDE = 29.0
  COORDINATE_SYSTEM_NAME = PLANETOGRAPHIC
  COORDINATE_SYSTEM_TYPE = "BODY-FIXED ROTATING"
  EASTERNMOST_LONGITUDE = 29.8632
  FIRST_STANDARD_PARALLEL = "N/A"
  LINE_FIRST_PIXEL = 1
  LINE_LAST_PIXEL = 56489
  LINE_PROJECTION_OFFSET = 211773.0
  MAP_PROJECTION_ROTATION = 0.0
  MAP_PROJECTION_TYPE = SINUSOIDAL
  MAP_RESOLUTION = 4741.71043093333
  MAP_SCALE = 0.0125
  MAXIMUM_LATITUDE = 44.6587
  MINIMUM_LATITUDE = 32.7525
  POSITIVE_LONGITUDE_DIRECTION = EAST
  REFERENCE_LATITUDE = "N/A"
  REFERENCE_LONGITUDE = "N/A"
  SAMPLE_FIRST_PIXEL = 1
  SAMPLE_LAST_PIXEL = 8702
  SAMPLE_PROJECTION_OFFSET = 5221.0
  SECOND_STANDARD_PARALLEL = "N/A"
  WESTERNMOST_LONGITUDE = 27.5044
END_OBJECT = IMAGE_MAP_PROJECTION
/* The JPEG2000 image data file associated with this label. */
OBJECT = COMPRESSED_FILE
  FILE_NAME = "HF671_0000_ND3.JP2"
  RECORD_TYPE = UNDEFINED
  FILE_RECORDS = UNK
  ENCODING_TYPE = "JP2"
  INTERCHANGE_FORMAT = BINARY
  UNCOMPRESSED_FILE_NAME = "HF671_0000_ND3.IMG"
  REQUIRED_STORAGE_BYTES = "491602086"
  ^DESCRIPTION = "JP2INFO.TXT"
END_OBJECT = COMPRESSED_FILE
END
