PDS_VERSION_ID = PDS3
/* FILE DATA ELEMENTS */
RECORD_TYPE = STREAM
/* POINTERS TO DATA OBJECTS */
^COMPRESSED_FILE = "HF673_0000_BL3.JP2"
/* IDENTIFICATION DATA ELEMENTS */
DATA_SET_ID = "MEX-M-HRSC-5-REFDR-MAPPROJECTED-V3.0"
DATA_SET_NAME = "MARS EXPRESS HRSC MAP PROJECTED REFDR V3.0"
DETECTOR_ID = MEX_HRSC_BLUE
EVENT_TYPE = "MARS-REGIONAL-MAPPING-Vo"
INSTRUMENT_HOST_ID = MEX
INSTRUMENT_HOST_NAME = "MARS EXPRESS"
INSTRUMENT_ID = HRSC
INSTRUMENT_NAME = "HIGH RESOLUTION STEREO CAMERA"
MISSION_NAME = "MARS EXPRESS"
MISSION_PHASE_NAME = ME_Phase_34
PROCESSING_LEVEL_ID = 3
PRODUCT_CREATION_TIME = 2016-11-08T12:40:53.000Z
PRODUCT_ID = "HF673_0000_BL3.JP2"
RELEASE_ID = 0133
REVISION_ID = 0000
/* QUALITY DATA ELEMENTS */
DATA_QUALITY_ID = 1
DATA_QUALITY_DESC = "Data calculated based on original SPICE kernels"
/* TIME DATA ELEMENTS */
SPACECRAFT_CLOCK_START_COUNT = "1/0411263618.09061"
SPACECRAFT_CLOCK_STOP_COUNT = "1/0411264021.42735"
START_TIME = 2016-05-13T23:54:30.102Z
STOP_TIME = 2016-05-13T23:59:58.714Z
/* ORBITAL DATA ELEMENTS */
ASCENDING_NODE_LONGITUDE = 279.45
MAXIMUM_RESOLUTION = 57.8
FOOTPRINT_POINT_LATITUDE = (35.9426,35.9375,35.9311,35.9366, 35.5181,35.0991,34.6792,34.2599,33.629, 33.2081,32.7867,32.3653,31.9435,31.5215 ,31.0993,30.4651,30.0422,29.6188, 29.1949,28.7713,28.3473,27.923,27.4989, 27.0744,26.4375,26.0127,25.5879,25.1626 ,24.7378,24.313,23.8879,23.4633,23.0383 ,22.4013,21.9766,21.3396,20.9151, 20.4908,20.0666,19.6426,19.2188,18.7951 ,18.3717,17.9486,17.5257,17.103,16.6807 ,16.2587,15.8369,15.4156,14.9945, 14.7673,14.7642,14.7626,15.1838,15.6053 ,16.0273,16.4495,16.8721,17.295,17.7182 ,18.1416,18.5653,18.9892,19.4134, 19.8377,20.2622,20.8991,21.5367,21.9619 ,22.387,23.0246,23.6628,24.3012,24.7263 ,25.1518,25.7898,26.2152,26.6404, 27.0656,27.4907,27.9156,28.3403,28.765, 29.1895,29.6137,30.0377,30.4615,30.8851 ,31.3084,31.7314,32.1542,32.5763, 33.2097,33.6313,34.0525,34.4734,34.8938 ,35.3139,35.9426)
FOOTPRINT_POINT_LONGITUDE = (185.4,184.805,184.302,183.874,183.892, 183.909,183.927,183.942,183.966,183.981 ,183.995,184.009,184.021,184.033, 184.045,184.062,184.072,184.082,184.092 ,184.101,184.11,184.118,184.126,184.133 ,184.144,184.15,184.156,184.162,184.167 ,184.172,184.176,184.18,184.183,184.187 ,184.19,184.193,184.195,184.196,184.197 ,184.198,184.198,184.198,184.198, 184.197,184.196,184.195,184.193,184.192 ,184.189,184.187,184.184,184.707, 185.193,185.52,185.521,185.522,185.524, 185.525,185.526,185.528,185.529,185.531 ,185.532,185.534,185.535,185.537, 185.538,185.541,185.544,185.545,185.547 ,185.549,185.553,185.556,185.557, 185.559,185.562,185.564,185.566,185.569 ,185.571,185.573,185.575,185.577, 185.579,185.581,185.583,185.585,185.587 ,185.589,185.591,185.593,185.595, 185.598,185.6,185.602,185.604,185.606, 185.608,185.4)
ORBIT_NUMBER = 15673
ORBITAL_ECCENTRICITY = 0.576
ORBITAL_INCLINATION = 86.93
ORBITAL_SEMIMAJOR_AXIS = 8840.58
PERIAPSIS_ALTITUDE = 356.84
PERIAPSIS_ARGUMENT_ANGLE = 157.96
PERIAPSIS_TIME = 2016-05-13T23:58:00.000Z
SPACECRAFT_ORIENTATION = (0.0,-1.0,0.0)
^MEX_ORIENTATION_DESC = "MEX_ORIENTATION_DESC.TXT"
SPACECRAFT_POINTING_MODE = ACROSSTRACK
^MEX_POINTING_DESC = "MEX_POINTING_DESC.TXT"
RIGHT_ASCENSION = -1e+32
DECLINATION = -1e+32
OFFSET_ANGLE = -0.1
SPACECRAFT_SOLAR_DISTANCE = 2.293e+08
TARGET_NAME = MARS
/* CAMERA DATA ELEMENTS */
DETECTOR_TEMPERATURE = 18.9822
FOCAL_PLANE_TEMPERATURE = 8.7872
INST_CMPRS_NAME = "DISCRETE COSINE TRANSFORMATION (DCT)"
INST_CMPRS_RATIO = 3.89001
INST_CMPRS_QUALITY = 0
INST_CMPRS_QUANTZ_TBL_ID = 0
INSTRUMENT_TEMPERATURE = 12.4574
LENS_TEMPERATURE = 9.195
MACROPIXEL_SIZE = 4
MISSING_FRAMES = 0
PIXEL_SUBSAMPLING_FLAG = N
SIGNAL_CHAIN_ID = 2
/* RADIOMETRIC DATA ELEMENTS */
BANDWIDTH = 76.0
CENTER_FILTER_WAVELENGTH = 444.0
RADIANCE_OFFSET = 0.208153
RADIANCE_SCALING_FACTOR = 0.00170958
REFLECTANCE_SCALING_FACTOR = 9.23542e-05
MEX:REFLECTANCE_OFFSET = 0.0112447
/* IMAGE OBJECT DEFINITIONS */
OBJECT = IMAGE
  INTERCHANGE_FORMAT = BINARY
  LINES = 25109
  LINE_SAMPLES = 1740
  SAMPLE_TYPE = UNSIGNED_INTEGER
  SAMPLE_BITS = 8
  BANDS = 1
  BAND_STORAGE_TYPE = BAND_SEQUENTIAL
  MAXIMUM = 255
  MEAN = 90.8845
  MINIMUM = 1
  STANDARD_DEVIATION = 18.8482
END_OBJECT = IMAGE
/* MAP OBJECT DEFINITIONS */
OBJECT = IMAGE_MAP_PROJECTION
  ^DATA_SET_MAP_PROJECTION_CATALOG= "DSMAP.CAT"
  A_AXIS_RADIUS = 3396.0
  B_AXIS_RADIUS = 3396.0
  C_AXIS_RADIUS = 3396.0
  CENTER_LATITUDE = 0.0
  CENTER_LONGITUDE = 185.0
  COORDINATE_SYSTEM_NAME = PLANETOGRAPHIC
  COORDINATE_SYSTEM_TYPE = "BODY-FIXED ROTATING"
  EASTERNMOST_LONGITUDE = 185.608
  FIRST_STANDARD_PARALLEL = "N/A"
  LINE_FIRST_PIXEL = 1
  LINE_LAST_PIXEL = 25109
  LINE_PROJECTION_OFFSET = 42611.125
  MAP_PROJECTION_ROTATION = 0.0
  MAP_PROJECTION_TYPE = SINUSOIDAL
  MAP_RESOLUTION = 1185.42760773333
  MAP_SCALE = 0.05
  MAXIMUM_LATITUDE = 35.9426
  MINIMUM_LATITUDE = 14.7626
  POSITIVE_LONGITUDE_DIRECTION = EAST
  REFERENCE_LATITUDE = "N/A"
  REFERENCE_LONGITUDE = "N/A"
  SAMPLE_FIRST_PIXEL = 1
  SAMPLE_LAST_PIXEL = 1740
  SAMPLE_PROJECTION_OFFSET = 1111.375
  SECOND_STANDARD_PARALLEL = "N/A"
  WESTERNMOST_LONGITUDE = 183.874
END_OBJECT = IMAGE_MAP_PROJECTION
/* The JPEG2000 image data file associated with this label. */
OBJECT = COMPRESSED_FILE
  FILE_NAME = "HF673_0000_BL3.JP2"
  RECORD_TYPE = UNDEFINED
  FILE_RECORDS = UNK
  ENCODING_TYPE = "JP2"
  INTERCHANGE_FORMAT = BINARY
  UNCOMPRESSED_FILE_NAME = "HF673_0000_BL3.IMG"
  REQUIRED_STORAGE_BYTES = "43710540"
  ^DESCRIPTION = "JP2INFO.TXT"
END_OBJECT = COMPRESSED_FILE
END
