PDS_VERSION_ID = PDS3
/* FILE DATA ELEMENTS */
RECORD_TYPE = STREAM
/* POINTERS TO DATA OBJECTS */
^COMPRESSED_FILE = "HF673_0000_P23.JP2"
/* IDENTIFICATION DATA ELEMENTS */
DATA_SET_ID = "MEX-M-HRSC-5-REFDR-MAPPROJECTED-V3.0"
DATA_SET_NAME = "MARS EXPRESS HRSC MAP PROJECTED REFDR V3.0"
DETECTOR_ID = MEX_HRSC_P2
EVENT_TYPE = "MARS-REGIONAL-MAPPING-Vo"
INSTRUMENT_HOST_ID = MEX
INSTRUMENT_HOST_NAME = "MARS EXPRESS"
INSTRUMENT_ID = HRSC
INSTRUMENT_NAME = "HIGH RESOLUTION STEREO CAMERA"
MISSION_NAME = "MARS EXPRESS"
MISSION_PHASE_NAME = ME_Phase_34
PROCESSING_LEVEL_ID = 3
PRODUCT_CREATION_TIME = 2016-11-08T12:40:53.000Z
PRODUCT_ID = "HF673_0000_P23.JP2"
RELEASE_ID = 0133
REVISION_ID = 0000
/* QUALITY DATA ELEMENTS */
DATA_QUALITY_ID = 1
DATA_QUALITY_DESC = "Data calculated based on original SPICE kernels"
/* TIME DATA ELEMENTS */
SPACECRAFT_CLOCK_START_COUNT = "1/0411263618.09061"
SPACECRAFT_CLOCK_STOP_COUNT = "1/0411264021.42735"
START_TIME = 2016-05-13T23:54:47.725Z
STOP_TIME = 2016-05-14T00:00:15.081Z
/* ORBITAL DATA ELEMENTS */
ASCENDING_NODE_LONGITUDE = 279.45
MAXIMUM_RESOLUTION = 29.8
FOOTPRINT_POINT_LATITUDE = (35.9172,35.9134,35.9085,35.952,35.5279 ,35.1033,34.6772,34.254,33.8288,33.4018 ,32.9762,32.5505,32.1261,31.7009, 31.2764,30.852,30.4251,29.7881,29.3623, 28.7242,28.2992,27.8738,27.449,27.0239, 26.3867,25.9619,25.5374,25.112,24.6886, 24.2646,23.6306,22.9976,22.362,21.9403, 21.3073,20.8864,20.4656,20.0453,19.6253 ,19.2058,18.7868,18.3682,17.9501, 17.5325,17.1155,16.6996,16.0755,15.6604 ,15.246,14.832,14.7942,14.7902,14.7864, 14.7847,15.199,15.6136,16.029,16.4451, 16.8617,17.2788,17.6965,18.1147,18.5334 ,18.9525,19.3722,19.7922,20.2127, 20.8445,21.4766,21.8992,22.3218,22.9555 ,23.5906,24.227,24.6509,25.075,25.5005, 26.1376,26.7754,27.4139,27.8396,28.2658 ,28.6914,29.1175,29.5434,29.9696, 30.3957,30.8217,31.2478,31.674,32.1002, 32.7393,33.1652,33.5911,34.2297,34.6552 ,35.0806,35.5058,35.9309,35.9172)
FOOTPRINT_POINT_LONGITUDE = (185.271,184.737,184.218,183.872, 183.889,183.907,183.924,183.939,183.954 ,183.97,183.985,183.999,184.011,184.023 ,184.034,184.045,184.057,184.071, 184.081,184.095,184.103,184.111,184.118 ,184.125,184.135,184.141,184.147, 184.152,184.157,184.161,184.166,184.17, 184.175,184.177,184.18,184.182,184.183, 184.183,184.183,184.183,184.183,184.182 ,184.181,184.18,184.179,184.176,184.173 ,184.171,184.168,184.164,184.469, 184.891,185.287,185.529,185.53,185.53, 185.531,185.532,185.533,185.534,185.535 ,185.536,185.538,185.539,185.54,185.541 ,185.543,185.545,185.547,185.548,185.55 ,185.552,185.554,185.557,185.558, 185.559,185.561,185.564,185.566,185.569 ,185.571,185.572,185.574,185.576, 185.577,185.579,185.581,185.582,185.584 ,185.586,185.587,185.59,185.591,185.593 ,185.595,185.596,185.598,185.599, 185.601,185.271)
ORBIT_NUMBER = 15673
ORBITAL_ECCENTRICITY = 0.576
ORBITAL_INCLINATION = 86.93
ORBITAL_SEMIMAJOR_AXIS = 8840.58
PERIAPSIS_ALTITUDE = 356.84
PERIAPSIS_ARGUMENT_ANGLE = 157.96
PERIAPSIS_TIME = 2016-05-13T23:58:00.000Z
SPACECRAFT_ORIENTATION = (0.0,-1.0,0.0)
^MEX_ORIENTATION_DESC = "MEX_ORIENTATION_DESC.TXT"
SPACECRAFT_POINTING_MODE = ACROSSTRACK
^MEX_POINTING_DESC = "MEX_POINTING_DESC.TXT"
RIGHT_ASCENSION = -1e+32
DECLINATION = -1e+32
OFFSET_ANGLE = -0.1
SPACECRAFT_SOLAR_DISTANCE = 2.293e+08
TARGET_NAME = MARS
/* CAMERA DATA ELEMENTS */
DETECTOR_TEMPERATURE = 19.1861
FOCAL_PLANE_TEMPERATURE = 8.7872
INST_CMPRS_NAME = "DISCRETE COSINE TRANSFORMATION (DCT)"
INST_CMPRS_RATIO = 4.951
INST_CMPRS_QUALITY = 0
INST_CMPRS_QUANTZ_TBL_ID = 0
INSTRUMENT_TEMPERATURE = 12.4574
LENS_TEMPERATURE = 9.195
MACROPIXEL_SIZE = 2
MISSING_FRAMES = 0
PIXEL_SUBSAMPLING_FLAG = N
SIGNAL_CHAIN_ID = 3
/* RADIOMETRIC DATA ELEMENTS */
BANDWIDTH = 177.0
CENTER_FILTER_WAVELENGTH = 676.5
RADIANCE_OFFSET = 1.57931
RADIANCE_SCALING_FACTOR = 0.016454
REFLECTANCE_SCALING_FACTOR = 0.000458712
MEX:REFLECTANCE_OFFSET = 0.0440286
/* IMAGE OBJECT DEFINITIONS */
OBJECT = IMAGE
  INTERCHANGE_FORMAT = BINARY
  LINES = 50217
  LINE_SAMPLES = 3480
  SAMPLE_TYPE = UNSIGNED_INTEGER
  SAMPLE_BITS = 8
  BANDS = 1
  BAND_STORAGE_TYPE = BAND_SEQUENTIAL
  MAXIMUM = 255
  MEAN = 73.0531
  MINIMUM = 1
  STANDARD_DEVIATION = 19.8315
END_OBJECT = IMAGE
/* MAP OBJECT DEFINITIONS */
OBJECT = IMAGE_MAP_PROJECTION
  ^DATA_SET_MAP_PROJECTION_CATALOG= "DSMAP.CAT"
  A_AXIS_RADIUS = 3396.0
  B_AXIS_RADIUS = 3396.0
  C_AXIS_RADIUS = 3396.0
  CENTER_LATITUDE = 0.0
  CENTER_LONGITUDE = 185.0
  COORDINATE_SYSTEM_NAME = PLANETOGRAPHIC
  COORDINATE_SYSTEM_TYPE = "BODY-FIXED ROTATING"
  EASTERNMOST_LONGITUDE = 185.601
  FIRST_STANDARD_PARALLEL = "N/A"
  LINE_FIRST_PIXEL = 1
  LINE_LAST_PIXEL = 50217
  LINE_PROJECTION_OFFSET = 85222.75
  MAP_PROJECTION_ROTATION = 0.0
  MAP_PROJECTION_TYPE = SINUSOIDAL
  MAP_RESOLUTION = 2370.85521546667
  MAP_SCALE = 0.025
  MAXIMUM_LATITUDE = 35.952
  MINIMUM_LATITUDE = 14.7847
  POSITIVE_LONGITUDE_DIRECTION = EAST
  REFERENCE_LATITUDE = "N/A"
  REFERENCE_LONGITUDE = "N/A"
  SAMPLE_FIRST_PIXEL = 1
  SAMPLE_LAST_PIXEL = 3480
  SAMPLE_PROJECTION_OFFSET = 2223.25
  SECOND_STANDARD_PARALLEL = "N/A"
  WESTERNMOST_LONGITUDE = 183.872
END_OBJECT = IMAGE_MAP_PROJECTION
/* The JPEG2000 image data file associated with this label. */
OBJECT = COMPRESSED_FILE
  FILE_NAME = "HF673_0000_P23.JP2"
  RECORD_TYPE = UNDEFINED
  FILE_RECORDS = UNK
  ENCODING_TYPE = "JP2"
  INTERCHANGE_FORMAT = BINARY
  UNCOMPRESSED_FILE_NAME = "HF673_0000_P23.IMG"
  REQUIRED_STORAGE_BYTES = "174779520"
  ^DESCRIPTION = "JP2INFO.TXT"
END_OBJECT = COMPRESSED_FILE
END
