PDS_VERSION_ID = PDS3
/* FILE DATA ELEMENTS */
RECORD_TYPE = STREAM
/* POINTERS TO DATA OBJECTS */
^COMPRESSED_FILE = "HF674_0000_P13.JP2"
/* IDENTIFICATION DATA ELEMENTS */
DATA_SET_ID = "MEX-M-HRSC-5-REFDR-MAPPROJECTED-V3.0"
DATA_SET_NAME = "MARS EXPRESS HRSC MAP PROJECTED REFDR V3.0"
DETECTOR_ID = MEX_HRSC_P1
EVENT_TYPE = "MARS-REGIONAL-MAPPING-Vo-Fl-Gl"
INSTRUMENT_HOST_ID = MEX
INSTRUMENT_HOST_NAME = "MARS EXPRESS"
INSTRUMENT_ID = HRSC
INSTRUMENT_NAME = "HIGH RESOLUTION STEREO CAMERA"
MISSION_NAME = "MARS EXPRESS"
MISSION_PHASE_NAME = ME_Phase_34
PROCESSING_LEVEL_ID = 3
PRODUCT_CREATION_TIME = 2016-11-08T12:40:53.000Z
PRODUCT_ID = "HF674_0000_P13.JP2"
RELEASE_ID = 0133
REVISION_ID = 0000
/* QUALITY DATA ELEMENTS */
DATA_QUALITY_ID = 1
DATA_QUALITY_DESC = "Data calculated based on original SPICE kernels"
/* TIME DATA ELEMENTS */
SPACECRAFT_CLOCK_START_COUNT = "1/0411288845.07317"
SPACECRAFT_CLOCK_STOP_COUNT = "1/0411289224.22065"
START_TIME = 2016-05-14T06:54:25.341Z
STOP_TIME = 2016-05-14T06:59:33.079Z
/* ORBITAL DATA ELEMENTS */
ASCENDING_NODE_LONGITUDE = 279.44
MAXIMUM_RESOLUTION = 29.4
FOOTPRINT_POINT_LATITUDE = (33.5579,33.5422,33.5234,33.4778, 33.0426,32.6068,32.1703,31.5127,30.855, 30.4166,29.9752,29.5345,29.3115,29.091, 28.8697,28.6481,28.2098,27.8379,27.4651 ,27.0919,26.7179,26.3452,25.9721,25.594 ,25.2182,24.6543,24.2773,23.7116,23.334 ,22.7682,22.3884,21.8192,21.2488, 20.8689,20.4894,20.1082,19.5381,19.157, 18.7757,18.3949,17.8233,17.2517,16.8706 ,16.4894,16.1078,15.7264,15.1541, 14.5813,14.0092,13.793,13.801,13.8065, 14.001,14.3831,14.9562,15.3384,15.9111, 16.4838,16.8656,17.2473,17.6287,18.0102 ,18.3914,18.963,19.5347,19.9158,20.4869 ,21.06,21.6287,22.0085,22.3885,22.7679, 23.1467,23.714,24.2812,24.6579,25.0355, 25.6,26.1633,26.5394,27.1005,27.4745, 27.8478,28.2212,28.6546,28.8766,29.0975 ,29.3191,29.5406,29.7616,29.9824, 30.2035,30.645,31.3051,31.7451,32.1845, 32.6215,33.0588,33.4952,33.5579)
FOOTPRINT_POINT_LONGITUDE = (82.3861,81.8806,81.3691,81.0879, 81.1067,81.1251,81.1429,81.1674,81.1922 ,81.209,81.223,81.2379,81.2429,81.2502, 81.2568,81.2632,81.2762,81.2865,81.296, 81.3052,81.3136,81.3234,81.3328,81.3375 ,81.3443,81.3546,81.3603,81.3687, 81.3739,81.3821,81.3852,81.39,81.3937, 81.3964,81.3994,81.4007,81.4041,81.4052 ,81.406,81.4072,81.4083,81.409,81.4094, 81.4093,81.4088,81.4082,81.4069,81.4046 ,81.4024,81.7696,82.1983,82.545,82.7409 ,82.7414,82.7422,82.7427,82.7436, 82.7445,82.7451,82.7457,82.7463,82.7469 ,82.7475,82.7485,82.7494,82.75,82.7509, 82.7517,82.7526,82.7532,82.7538,82.7544 ,82.7549,82.7558,82.7566,82.7572, 82.7577,82.7585,82.7593,82.7597,82.7605 ,82.761,82.7614,82.7618,82.7623,82.7626 ,82.7629,82.7631,82.7634,82.7636, 82.7638,82.764,82.7644,82.7649,82.7651, 82.7652,82.7655,82.7656,82.7656, 82.3861)
ORBIT_NUMBER = 15674
ORBITAL_ECCENTRICITY = 0.576
ORBITAL_INCLINATION = 86.93
ORBITAL_SEMIMAJOR_AXIS = 8851.08
PERIAPSIS_ALTITUDE = 356.05
PERIAPSIS_ARGUMENT_ANGLE = 157.77
PERIAPSIS_TIME = 2016-05-14T06:57:44.000Z
SPACECRAFT_ORIENTATION = (0.0,-1.0,0.0)
^MEX_ORIENTATION_DESC = "MEX_ORIENTATION_DESC.TXT"
SPACECRAFT_POINTING_MODE = ACROSSTRACK
^MEX_POINTING_DESC = "MEX_POINTING_DESC.TXT"
RIGHT_ASCENSION = -1e+32
DECLINATION = -1e+32
OFFSET_ANGLE = -0.539
SPACECRAFT_SOLAR_DISTANCE = 2.29244e+08
TARGET_NAME = MARS
/* CAMERA DATA ELEMENTS */
DETECTOR_TEMPERATURE = 18.1666
FOCAL_PLANE_TEMPERATURE = 8.9911
INST_CMPRS_NAME = "DISCRETE COSINE TRANSFORMATION (DCT)"
INST_CMPRS_RATIO = 5.1196
INST_CMPRS_QUALITY = 0
INST_CMPRS_QUANTZ_TBL_ID = 0
INSTRUMENT_TEMPERATURE = 12.4574
LENS_TEMPERATURE = 9.3989
MACROPIXEL_SIZE = 2
MISSING_FRAMES = 0
PIXEL_SUBSAMPLING_FLAG = N
SIGNAL_CHAIN_ID = 3
/* RADIOMETRIC DATA ELEMENTS */
BANDWIDTH = 174.0
CENTER_FILTER_WAVELENGTH = 675.0
RADIANCE_OFFSET = 1.03316
RADIANCE_SCALING_FACTOR = 0.0178083
REFLECTANCE_SCALING_FACTOR = 0.000503388
MEX:REFLECTANCE_OFFSET = 0.0292045
/* IMAGE OBJECT DEFINITIONS */
OBJECT = IMAGE
  INTERCHANGE_FORMAT = BINARY
  LINES = 46794
  LINE_SAMPLES = 3612
  SAMPLE_TYPE = UNSIGNED_INTEGER
  SAMPLE_BITS = 8
  BANDS = 1
  BAND_STORAGE_TYPE = BAND_SEQUENTIAL
  MAXIMUM = 255
  MEAN = 84.7775
  MINIMUM = 1
  STANDARD_DEVIATION = 23.1598
END_OBJECT = IMAGE
/* MAP OBJECT DEFINITIONS */
OBJECT = IMAGE_MAP_PROJECTION
  ^DATA_SET_MAP_PROJECTION_CATALOG= "DSMAP.CAT"
  A_AXIS_RADIUS = 3396.0
  B_AXIS_RADIUS = 3396.0
  C_AXIS_RADIUS = 3396.0
  CENTER_LATITUDE = 0.0
  CENTER_LONGITUDE = 82.0
  COORDINATE_SYSTEM_NAME = PLANETOGRAPHIC
  COORDINATE_SYSTEM_TYPE = "BODY-FIXED ROTATING"
  EASTERNMOST_LONGITUDE = 82.76560000000001
  FIRST_STANDARD_PARALLEL = "N/A"
  LINE_FIRST_PIXEL = 1
  LINE_LAST_PIXEL = 46794
  LINE_PROJECTION_OFFSET = 79502.75
  MAP_PROJECTION_ROTATION = 0.0
  MAP_PROJECTION_TYPE = SINUSOIDAL
  MAP_RESOLUTION = 2370.85521546667
  MAP_SCALE = 0.025
  MAXIMUM_LATITUDE = 33.5579
  MINIMUM_LATITUDE = 13.793
  POSITIVE_LONGITUDE_DIRECTION = EAST
  REFERENCE_LATITUDE = "N/A"
  REFERENCE_LONGITUDE = "N/A"
  SAMPLE_FIRST_PIXEL = 1
  SAMPLE_LAST_PIXEL = 3612
  SAMPLE_PROJECTION_OFFSET = 1877.25
  SECOND_STANDARD_PARALLEL = "N/A"
  WESTERNMOST_LONGITUDE = 81.0879
END_OBJECT = IMAGE_MAP_PROJECTION
/* The JPEG2000 image data file associated with this label. */
OBJECT = COMPRESSED_FILE
  FILE_NAME = "HF674_0000_P13.JP2"
  RECORD_TYPE = UNDEFINED
  FILE_RECORDS = UNK
  ENCODING_TYPE = "JP2"
  INTERCHANGE_FORMAT = BINARY
  UNCOMPRESSED_FILE_NAME = "HF674_0000_P13.IMG"
  REQUIRED_STORAGE_BYTES = "169041600"
  ^DESCRIPTION = "JP2INFO.TXT"
END_OBJECT = COMPRESSED_FILE
END
