PDS_VERSION_ID = PDS3
/* FILE DATA ELEMENTS */
RECORD_TYPE = STREAM
/* POINTERS TO DATA OBJECTS */
^COMPRESSED_FILE = "HF680_0000_S13.JP2"
/* IDENTIFICATION DATA ELEMENTS */
DATA_SET_ID = "MEX-M-HRSC-5-REFDR-MAPPROJECTED-V3.0"
DATA_SET_NAME = "MARS EXPRESS HRSC MAP PROJECTED REFDR V3.0"
DETECTOR_ID = MEX_HRSC_S1
EVENT_TYPE = "MARS-REGIONAL-MAPPING-Vo"
INSTRUMENT_HOST_ID = MEX
INSTRUMENT_HOST_NAME = "MARS EXPRESS"
INSTRUMENT_ID = HRSC
INSTRUMENT_NAME = "HIGH RESOLUTION STEREO CAMERA"
MISSION_NAME = "MARS EXPRESS"
MISSION_PHASE_NAME = ME_Phase_34
PROCESSING_LEVEL_ID = 3
PRODUCT_CREATION_TIME = 2016-11-08T12:40:53.000Z
PRODUCT_ID = "HF680_0000_S13.JP2"
RELEASE_ID = 0133
REVISION_ID = 0000
/* QUALITY DATA ELEMENTS */
DATA_QUALITY_ID = 1
DATA_QUALITY_DESC = "Data calculated based on original SPICE kernels"
/* TIME DATA ELEMENTS */
SPACECRAFT_CLOCK_START_COUNT = "1/0411439940.08256"
SPACECRAFT_CLOCK_STOP_COUNT = "1/0411440326.07070"
START_TIME = 2016-05-16T00:52:27.485Z
STOP_TIME = 2016-05-16T00:57:44.728Z
/* ORBITAL DATA ELEMENTS */
ASCENDING_NODE_LONGITUDE = 279.32
MAXIMUM_RESOLUTION = 30.7
FOOTPRINT_POINT_LATITUDE = (36.1441,36.137,36.127,35.6214,35.1916, 34.7605,34.3282,33.8948,33.4602,33.0246 ,32.588,32.1503,31.7115,31.2717,30.831, 30.3894,29.9469,29.503,29.0585,28.613, 28.2,27.8254,27.4504,27.0746,26.6984, 26.1294,25.7518,25.1844,24.8053,24.4278 ,24.0473,23.6673,23.2854,22.9052, 22.5223,22.14,21.7573,21.3745,20.9911, 20.6073,20.0322,19.6465,19.0693,18.6843 ,18.1077,17.5288,17.1422,16.7532, 16.3662,15.9793,15.9755,15.9755,15.9715 ,16.553,17.1359,17.5217,18.1018,18.4863 ,19.064,19.4493,19.8341,20.2189,20.6032 ,20.9873,21.3712,21.7546,22.1376, 22.7114,23.2844,23.6658,24.0466,24.4277 ,24.9964,25.3756,25.7544,26.1326, 26.7022,27.079,27.4553,27.8309,28.2062, 28.6191,29.0649,29.5105,29.9548,30.3983 ,30.8407,31.2823,31.723,32.1626,32.601, 33.0386,33.4752,33.9108,34.3451,34.7784 ,35.2102,35.6413,36.0711,36.1441)
FOOTPRINT_POINT_LONGITUDE = (189.177,188.549,188.006,187.758, 187.776,187.794,187.811,187.828,187.843 ,187.859,187.873,187.887,187.901, 187.914,187.926,187.938,187.949,187.96, 187.97,187.98,187.988,187.995,188.002, 188.009,188.015,188.024,188.03,188.037, 188.042,188.047,188.051,188.054,188.057 ,188.061,188.063,188.066,188.068,188.07 ,188.071,188.073,188.075,188.075, 188.075,188.075,188.075,188.074,188.073 ,188.071,188.07,188.068,188.339,188.74, 189.257,189.407,189.409,189.411,189.414 ,189.416,189.42,189.422,189.424,189.427 ,189.429,189.431,189.433,189.436, 189.438,189.442,189.445,189.448,189.45, 189.453,189.457,189.46,189.462,189.465, 189.469,189.472,189.474,189.477,189.48, 189.483,189.486,189.49,189.493,189.497, 189.5,189.504,189.507,189.511,189.514, 189.518,189.522,189.525,189.529,189.533 ,189.536,189.54,189.544,189.177)
ORBIT_NUMBER = 15680
ORBITAL_ECCENTRICITY = 0.576
ORBITAL_INCLINATION = 86.93
ORBITAL_SEMIMAJOR_AXIS = 8839.57
PERIAPSIS_ALTITUDE = 357.62
PERIAPSIS_ARGUMENT_ANGLE = 156.74
PERIAPSIS_TIME = 2016-05-16T00:56:25.000Z
SPACECRAFT_ORIENTATION = (0.0,-1.0,0.0)
^MEX_ORIENTATION_DESC = "MEX_ORIENTATION_DESC.TXT"
SPACECRAFT_POINTING_MODE = NADIR
^MEX_POINTING_DESC = "MEX_POINTING_DESC.TXT"
RIGHT_ASCENSION = -1e+32
DECLINATION = -1e+32
OFFSET_ANGLE = -1e+32
SPACECRAFT_SOLAR_DISTANCE = 2.28905e+08
TARGET_NAME = MARS
/* CAMERA DATA ELEMENTS */
DETECTOR_TEMPERATURE = 17.5549
FOCAL_PLANE_TEMPERATURE = 7.156
INST_CMPRS_NAME = "DISCRETE COSINE TRANSFORMATION (DCT)"
INST_CMPRS_RATIO = 6.52224
INST_CMPRS_QUALITY = 0
INST_CMPRS_QUANTZ_TBL_ID = 0
INSTRUMENT_TEMPERATURE = 12.2535
LENS_TEMPERATURE = 8.7872
MACROPIXEL_SIZE = 2
MISSING_FRAMES = 1
PIXEL_SUBSAMPLING_FLAG = N
SIGNAL_CHAIN_ID = 1
/* RADIOMETRIC DATA ELEMENTS */
BANDWIDTH = 180.0
CENTER_FILTER_WAVELENGTH = 677.0
RADIANCE_OFFSET = 1.72214
RADIANCE_SCALING_FACTOR = 0.0176462
REFLECTANCE_SCALING_FACTOR = 0.000482401
MEX:REFLECTANCE_OFFSET = 0.0470788
/* IMAGE OBJECT DEFINITIONS */
OBJECT = IMAGE
  INTERCHANGE_FORMAT = BINARY
  LINES = 47649
  LINE_SAMPLES = 3436
  SAMPLE_TYPE = UNSIGNED_INTEGER
  SAMPLE_BITS = 8
  BANDS = 1
  BAND_STORAGE_TYPE = BAND_SEQUENTIAL
  MAXIMUM = 255
  MEAN = 87.4508
  MINIMUM = 1
  STANDARD_DEVIATION = 15.8564
END_OBJECT = IMAGE
/* MAP OBJECT DEFINITIONS */
OBJECT = IMAGE_MAP_PROJECTION
  ^DATA_SET_MAP_PROJECTION_CATALOG= "DSMAP.CAT"
  A_AXIS_RADIUS = 3396.0
  B_AXIS_RADIUS = 3396.0
  C_AXIS_RADIUS = 3396.0
  CENTER_LATITUDE = 0.0
  CENTER_LONGITUDE = 189.0
  COORDINATE_SYSTEM_NAME = PLANETOGRAPHIC
  COORDINATE_SYSTEM_TYPE = "BODY-FIXED ROTATING"
  EASTERNMOST_LONGITUDE = 189.544
  FIRST_STANDARD_PARALLEL = "N/A"
  LINE_FIRST_PIXEL = 1
  LINE_LAST_PIXEL = 47649
  LINE_PROJECTION_OFFSET = 85585.75
  MAP_PROJECTION_ROTATION = 0.0
  MAP_PROJECTION_TYPE = SINUSOIDAL
  MAP_RESOLUTION = 2370.85521546667
  MAP_SCALE = 0.025
  MAXIMUM_LATITUDE = 36.1441
  MINIMUM_LATITUDE = 15.9715
  POSITIVE_LONGITUDE_DIRECTION = EAST
  REFERENCE_LATITUDE = "N/A"
  REFERENCE_LONGITUDE = "N/A"
  SAMPLE_FIRST_PIXEL = 1
  SAMPLE_LAST_PIXEL = 3436
  SAMPLE_PROJECTION_OFFSET = 2406.25
  SECOND_STANDARD_PARALLEL = "N/A"
  WESTERNMOST_LONGITUDE = 187.758
END_OBJECT = IMAGE_MAP_PROJECTION
/* The JPEG2000 image data file associated with this label. */
OBJECT = COMPRESSED_FILE
  FILE_NAME = "HF680_0000_S13.JP2"
  RECORD_TYPE = UNDEFINED
  FILE_RECORDS = UNK
  ENCODING_TYPE = "JP2"
  INTERCHANGE_FORMAT = BINARY
  UNCOMPRESSED_FILE_NAME = "HF680_0000_S13.IMG"
  REQUIRED_STORAGE_BYTES = "163746016"
  ^DESCRIPTION = "JP2INFO.TXT"
END_OBJECT = COMPRESSED_FILE
END
