PDS_VERSION_ID = PDS3
/* FILE DATA ELEMENTS */
RECORD_TYPE = STREAM
/* POINTERS TO DATA OBJECTS */
^COMPRESSED_FILE = "HF684_0000_P23.JP2"
/* IDENTIFICATION DATA ELEMENTS */
DATA_SET_ID = "MEX-M-HRSC-5-REFDR-MAPPROJECTED-V3.0"
DATA_SET_NAME = "MARS EXPRESS HRSC MAP PROJECTED REFDR V3.0"
DETECTOR_ID = MEX_HRSC_P2
EVENT_TYPE = "MARS-REGIONAL-MAPPING-Vo-Im-Fl"
INSTRUMENT_HOST_ID = MEX
INSTRUMENT_HOST_NAME = "MARS EXPRESS"
INSTRUMENT_ID = HRSC
INSTRUMENT_NAME = "HIGH RESOLUTION STEREO CAMERA"
MISSION_NAME = "MARS EXPRESS"
MISSION_PHASE_NAME = ME_Phase_34
PROCESSING_LEVEL_ID = 3
PRODUCT_CREATION_TIME = 2016-11-08T12:40:53.000Z
PRODUCT_ID = "HF684_0000_P23.JP2"
RELEASE_ID = 0133
REVISION_ID = 0000
/* QUALITY DATA ELEMENTS */
DATA_QUALITY_ID = 1
DATA_QUALITY_DESC = "Data calculated based on original SPICE kernels"
/* TIME DATA ELEMENTS */
SPACECRAFT_CLOCK_START_COUNT = "1/0411540419.08400"
SPACECRAFT_CLOCK_STOP_COUNT = "1/0411540866.55915"
START_TIME = 2016-05-17T04:48:38.530Z
STOP_TIME = 2016-05-17T04:54:20.868Z
/* ORBITAL DATA ELEMENTS */
ASCENDING_NODE_LONGITUDE = 279.25
MAXIMUM_RESOLUTION = 30.3
FOOTPRINT_POINT_LATITUDE = (52.1253,52.1142,52.1018,52.0882, 52.0734,52.0573,51.4807,51.0623,50.6454 ,50.2348,49.8232,49.4199,49.0146, 48.6148,44.2808,43.9165,43.5517,43.0105 ,42.6539,42.2971,41.7655,41.4172, 41.0686,40.7197,40.3729,40.0329,39.6925 ,39.1819,38.6707,38.3299,37.9887, 37.6476,37.3064,36.9646,36.6232,36.1102 ,35.5975,35.2558,34.9137,34.4003,33.887 ,33.5447,33.2021,32.8593,32.517,32.1744 ,31.66,31.317,30.9734,30.4582,30.1155, 30.1097,30.1156,30.1222,30.3028,30.8184 ,31.3346,31.8507,32.1948,32.5384, 32.8821,33.2252,33.5681,33.9108,34.4256 ,34.9398,35.2823,35.6246,36.1381, 36.4805,36.823,37.1649,37.6777,38.0198, 38.3616,38.7031,39.2151,39.5565,39.8977 ,40.2384,40.5808,40.9305,41.2802, 41.6293,42.1575,42.5154,42.873,43.23, 43.5938,43.9598,44.3249,48.6732,49.0738 ,49.4804,50.0921,50.5049,51.1299, 51.5501,51.9755,52.1253)
FOOTPRINT_POINT_LONGITUDE = (140.597,140.146,139.698,139.252, 138.809,138.368,138.189,138.236,138.281 ,138.325,138.367,138.406,138.445, 138.483,138.816,138.839,138.862,138.894 ,138.914,138.934,138.962,138.98,138.998 ,139.015,139.031,139.046,139.062, 139.083,139.104,139.117,139.13,139.143, 139.155,139.167,139.178,139.194,139.21, 139.219,139.229,139.242,139.255,139.263 ,139.271,139.279,139.286,139.293, 139.302,139.308,139.314,139.323,139.328 ,139.715,140.032,140.382,140.833,140.84 ,140.847,140.855,140.86,140.864,140.869 ,140.873,140.877,140.881,140.887, 140.893,140.897,140.901,140.906,140.91, 140.915,140.918,140.924,140.929,140.933 ,140.937,140.943,140.947,140.951, 140.955,140.96,140.964,140.968,140.972, 140.979,140.984,140.988,140.992,140.997 ,141.001,141.006,141.059,141.064, 141.071,141.079,141.084,141.092,141.097 ,141.102,140.597)
ORBIT_NUMBER = 15684
ORBITAL_ECCENTRICITY = 0.576
ORBITAL_INCLINATION = 86.91
ORBITAL_SEMIMAJOR_AXIS = 8845.51
PERIAPSIS_ALTITUDE = 358.17
PERIAPSIS_ARGUMENT_ANGLE = 156.07
PERIAPSIS_TIME = 2016-05-17T04:55:35.000Z
SPACECRAFT_ORIENTATION = (0.0,-1.0,0.0)
^MEX_ORIENTATION_DESC = "MEX_ORIENTATION_DESC.TXT"
SPACECRAFT_POINTING_MODE = ACROSSTRACK
^MEX_POINTING_DESC = "MEX_POINTING_DESC.TXT"
RIGHT_ASCENSION = -1e+32
DECLINATION = -1e+32
OFFSET_ANGLE = 0.55
SPACECRAFT_SOLAR_DISTANCE = 2.28679e+08
TARGET_NAME = MARS
/* CAMERA DATA ELEMENTS */
DETECTOR_TEMPERATURE = 18.5744
FOCAL_PLANE_TEMPERATURE = 7.9716
INST_CMPRS_NAME = "DISCRETE COSINE TRANSFORMATION (DCT)"
INST_CMPRS_RATIO = 3.87726
INST_CMPRS_QUALITY = 0
INST_CMPRS_QUANTZ_TBL_ID = 0
INSTRUMENT_TEMPERATURE = 11.6418
LENS_TEMPERATURE = 8.1755
MACROPIXEL_SIZE = 2
MISSING_FRAMES = 904
PIXEL_SUBSAMPLING_FLAG = N
SIGNAL_CHAIN_ID = 3
/* RADIOMETRIC DATA ELEMENTS */
BANDWIDTH = 177.0
CENTER_FILTER_WAVELENGTH = 676.5
RADIANCE_OFFSET = 1.39177
RADIANCE_SCALING_FACTOR = 0.0177564
REFLECTANCE_SCALING_FACTOR = 0.000492346
MEX:REFLECTANCE_OFFSET = 0.0385906
/* IMAGE OBJECT DEFINITIONS */
OBJECT = IMAGE
  INTERCHANGE_FORMAT = BINARY
  LINES = 52337
  LINE_SAMPLES = 4696
  SAMPLE_TYPE = UNSIGNED_INTEGER
  SAMPLE_BITS = 8
  BANDS = 1
  BAND_STORAGE_TYPE = BAND_SEQUENTIAL
  MAXIMUM = 255
  MEAN = 90.5798
  MINIMUM = 1
  STANDARD_DEVIATION = 23.7073
END_OBJECT = IMAGE
/* MAP OBJECT DEFINITIONS */
OBJECT = IMAGE_MAP_PROJECTION
  ^DATA_SET_MAP_PROJECTION_CATALOG= "DSMAP.CAT"
  A_AXIS_RADIUS = 3396.0
  B_AXIS_RADIUS = 3396.0
  C_AXIS_RADIUS = 3396.0
  CENTER_LATITUDE = 0.0
  CENTER_LONGITUDE = 140.0
  COORDINATE_SYSTEM_NAME = PLANETOGRAPHIC
  COORDINATE_SYSTEM_TYPE = "BODY-FIXED ROTATING"
  EASTERNMOST_LONGITUDE = 141.102
  FIRST_STANDARD_PARALLEL = "N/A"
  LINE_FIRST_PIXEL = 1
  LINE_LAST_PIXEL = 52337
  LINE_PROJECTION_OFFSET = 123704.75
  MAP_PROJECTION_ROTATION = 0.0
  MAP_PROJECTION_TYPE = SINUSOIDAL
  MAP_RESOLUTION = 2370.85521546667
  MAP_SCALE = 0.025
  MAXIMUM_LATITUDE = 52.1253
  MINIMUM_LATITUDE = 30.1097
  POSITIVE_LONGITUDE_DIRECTION = EAST
  REFERENCE_LATITUDE = "N/A"
  REFERENCE_LONGITUDE = "N/A"
  SAMPLE_FIRST_PIXEL = 1
  SAMPLE_LAST_PIXEL = 4696
  SAMPLE_PROJECTION_OFFSET = 2846.25
  SECOND_STANDARD_PARALLEL = "N/A"
  WESTERNMOST_LONGITUDE = 138.189
END_OBJECT = IMAGE_MAP_PROJECTION
/* The JPEG2000 image data file associated with this label. */
OBJECT = COMPRESSED_FILE
  FILE_NAME = "HF684_0000_P23.JP2"
  RECORD_TYPE = UNDEFINED
  FILE_RECORDS = UNK
  ENCODING_TYPE = "JP2"
  INTERCHANGE_FORMAT = BINARY
  UNCOMPRESSED_FILE_NAME = "HF684_0000_P23.IMG"
  REQUIRED_STORAGE_BYTES = "245798032"
  ^DESCRIPTION = "JP2INFO.TXT"
END_OBJECT = COMPRESSED_FILE
END
