PDS_VERSION_ID = PDS3
/* FILE DATA ELEMENTS */
RECORD_TYPE = STREAM
/* POINTERS TO DATA OBJECTS */
^COMPRESSED_FILE = "HF684_0000_S13.JP2"
/* IDENTIFICATION DATA ELEMENTS */
DATA_SET_ID = "MEX-M-HRSC-5-REFDR-MAPPROJECTED-V3.0"
DATA_SET_NAME = "MARS EXPRESS HRSC MAP PROJECTED REFDR V3.0"
DETECTOR_ID = MEX_HRSC_S1
EVENT_TYPE = "MARS-REGIONAL-MAPPING-Vo-Im-Fl"
INSTRUMENT_HOST_ID = MEX
INSTRUMENT_HOST_NAME = "MARS EXPRESS"
INSTRUMENT_ID = HRSC
INSTRUMENT_NAME = "HIGH RESOLUTION STEREO CAMERA"
MISSION_NAME = "MARS EXPRESS"
MISSION_PHASE_NAME = ME_Phase_34
PROCESSING_LEVEL_ID = 3
PRODUCT_CREATION_TIME = 2016-11-08T12:40:53.000Z
PRODUCT_ID = "HF684_0000_S13.JP2"
RELEASE_ID = 0133
REVISION_ID = 0000
/* QUALITY DATA ELEMENTS */
DATA_QUALITY_ID = 1
DATA_QUALITY_DESC = "Data calculated based on original SPICE kernels"
/* TIME DATA ELEMENTS */
SPACECRAFT_CLOCK_START_COUNT = "1/0411540419.08400"
SPACECRAFT_CLOCK_STOP_COUNT = "1/0411540866.55915"
START_TIME = 2016-05-17T04:47:06.486Z
STOP_TIME = 2016-05-17T04:53:24.981Z
/* ORBITAL DATA ELEMENTS */
ASCENDING_NODE_LONGITUDE = 279.25
MAXIMUM_RESOLUTION = 32.1
FOOTPRINT_POINT_LATITUDE = (52.2468,52.25,52.2475,52.2421,52.2229, 51.8959,51.4675,51.0448,50.4151,49.7926 ,49.1787,48.7721,48.372,47.7714,47.3749 ,46.9789,46.5866,46.1989,45.8121, 45.4303,45.0481,44.4836,44.1072,40.1263 ,39.7781,39.4291,39.0797,38.7375, 38.3946,38.051,37.5417,37.2049,36.8674, 36.3626,36.0327,35.7012,35.3691,35.0366 ,34.7035,34.3698,34.0354,33.7002, 33.3647,33.0288,32.6923,32.3545,32.017, 31.6792,31.341,31.0031,30.6647,30.1064, 30.0933,30.2474,30.5873,30.9262,31.2645 ,31.6024,31.9398,32.4452,32.9499, 33.2865,33.6227,33.9587,34.2939,34.6276 ,34.9605,35.2935,35.7926,36.1245, 36.4556,36.7944,37.133,37.4706,37.9799, 38.3244,38.6681,39.011,39.3605,39.7103, 40.0595,44.05,44.6155,44.9931,45.3762, 45.7595,46.1469,46.5363,46.9306,47.3255 ,47.7248,48.1245,48.5309,49.1391,49.755 ,50.3805,50.8006,51.2261,51.6537, 52.2468)
FOOTPRINT_POINT_LONGITUDE = (141.241,140.24,139.727,139.217,138.204 ,137.959,138.015,138.069,138.146, 138.218,138.287,138.33,138.372,138.431, 138.469,138.505,138.54,138.573,138.606, 138.637,138.667,138.71,138.737,138.981, 138.999,139.016,139.033,139.049,139.064 ,139.079,139.101,139.114,139.127, 139.146,139.158,139.17,139.181,139.192, 139.202,139.212,139.222,139.232,139.241 ,139.25,139.258,139.266,139.274,139.282 ,139.289,139.296,139.303,139.563, 140.276,140.858,140.864,140.87,140.877, 140.883,140.889,140.898,140.907,140.912 ,140.918,140.923,140.928,140.934,140.94 ,140.946,140.953,140.959,140.964,140.97 ,140.976,140.982,140.991,140.997, 141.004,141.01,141.016,141.023,141.03, 141.112,141.124,141.133,141.142,141.151 ,141.161,141.17,141.178,141.188,141.198 ,141.208,141.217,141.236,141.255, 141.272,141.285,141.298,141.311, 141.241)
ORBIT_NUMBER = 15684
ORBITAL_ECCENTRICITY = 0.576
ORBITAL_INCLINATION = 86.91
ORBITAL_SEMIMAJOR_AXIS = 8845.51
PERIAPSIS_ALTITUDE = 358.17
PERIAPSIS_ARGUMENT_ANGLE = 156.07
PERIAPSIS_TIME = 2016-05-17T04:55:35.000Z
SPACECRAFT_ORIENTATION = (0.0,-1.0,0.0)
^MEX_ORIENTATION_DESC = "MEX_ORIENTATION_DESC.TXT"
SPACECRAFT_POINTING_MODE = ACROSSTRACK
^MEX_POINTING_DESC = "MEX_POINTING_DESC.TXT"
RIGHT_ASCENSION = -1e+32
DECLINATION = -1e+32
OFFSET_ANGLE = 0.55
SPACECRAFT_SOLAR_DISTANCE = 2.28679e+08
TARGET_NAME = MARS
/* CAMERA DATA ELEMENTS */
DETECTOR_TEMPERATURE = 17.7588
FOCAL_PLANE_TEMPERATURE = 7.9716
INST_CMPRS_NAME = "DISCRETE COSINE TRANSFORMATION (DCT)"
INST_CMPRS_RATIO = 5.28064
INST_CMPRS_QUALITY = 0
INST_CMPRS_QUANTZ_TBL_ID = 0
INSTRUMENT_TEMPERATURE = 11.6418
LENS_TEMPERATURE = 8.1755
MACROPIXEL_SIZE = 2
MISSING_FRAMES = 906
PIXEL_SUBSAMPLING_FLAG = N
SIGNAL_CHAIN_ID = 1
/* RADIOMETRIC DATA ELEMENTS */
BANDWIDTH = 180.0
CENTER_FILTER_WAVELENGTH = 677.0
RADIANCE_OFFSET = 1.50883
RADIANCE_SCALING_FACTOR = 0.0192087
REFLECTANCE_SCALING_FACTOR = 0.000524082
MEX:REFLECTANCE_OFFSET = 0.0411662
/* IMAGE OBJECT DEFINITIONS */
OBJECT = IMAGE
  INTERCHANGE_FORMAT = BINARY
  LINES = 52337
  LINE_SAMPLES = 4696
  SAMPLE_TYPE = UNSIGNED_INTEGER
  SAMPLE_BITS = 8
  BANDS = 1
  BAND_STORAGE_TYPE = BAND_SEQUENTIAL
  MAXIMUM = 255
  MEAN = 94.7903
  MINIMUM = 1
  STANDARD_DEVIATION = 23.9305
END_OBJECT = IMAGE
/* MAP OBJECT DEFINITIONS */
OBJECT = IMAGE_MAP_PROJECTION
  ^DATA_SET_MAP_PROJECTION_CATALOG= "DSMAP.CAT"
  A_AXIS_RADIUS = 3396.0
  B_AXIS_RADIUS = 3396.0
  C_AXIS_RADIUS = 3396.0
  CENTER_LATITUDE = 0.0
  CENTER_LONGITUDE = 140.0
  COORDINATE_SYSTEM_NAME = PLANETOGRAPHIC
  COORDINATE_SYSTEM_TYPE = "BODY-FIXED ROTATING"
  EASTERNMOST_LONGITUDE = 141.311
  FIRST_STANDARD_PARALLEL = "N/A"
  LINE_FIRST_PIXEL = 1
  LINE_LAST_PIXEL = 52337
  LINE_PROJECTION_OFFSET = 123704.75
  MAP_PROJECTION_ROTATION = 0.0
  MAP_PROJECTION_TYPE = SINUSOIDAL
  MAP_RESOLUTION = 2370.85521546667
  MAP_SCALE = 0.025
  MAXIMUM_LATITUDE = 52.25
  MINIMUM_LATITUDE = 30.0933
  POSITIVE_LONGITUDE_DIRECTION = EAST
  REFERENCE_LATITUDE = "N/A"
  REFERENCE_LONGITUDE = "N/A"
  SAMPLE_FIRST_PIXEL = 1
  SAMPLE_LAST_PIXEL = 4696
  SAMPLE_PROJECTION_OFFSET = 2846.25
  SECOND_STANDARD_PARALLEL = "N/A"
  WESTERNMOST_LONGITUDE = 137.959
END_OBJECT = IMAGE_MAP_PROJECTION
/* The JPEG2000 image data file associated with this label. */
OBJECT = COMPRESSED_FILE
  FILE_NAME = "HF684_0000_S13.JP2"
  RECORD_TYPE = UNDEFINED
  FILE_RECORDS = UNK
  ENCODING_TYPE = "JP2"
  INTERCHANGE_FORMAT = BINARY
  UNCOMPRESSED_FILE_NAME = "HF684_0000_S13.IMG"
  REQUIRED_STORAGE_BYTES = "245798032"
  ^DESCRIPTION = "JP2INFO.TXT"
END_OBJECT = COMPRESSED_FILE
END
