PDS_VERSION_ID = PDS3
/* FILE DATA ELEMENTS */
RECORD_TYPE = STREAM
/* POINTERS TO DATA OBJECTS */
^COMPRESSED_FILE = "HF686_0000_IR3.JP2"
/* IDENTIFICATION DATA ELEMENTS */
DATA_SET_ID = "MEX-M-HRSC-5-REFDR-MAPPROJECTED-V3.0"
DATA_SET_NAME = "MARS EXPRESS HRSC MAP PROJECTED REFDR V3.0"
DETECTOR_ID = MEX_HRSC_IR
EVENT_TYPE = "MARS-REGIONAL-MAPPING-Vo-Te-Im"
INSTRUMENT_HOST_ID = MEX
INSTRUMENT_HOST_NAME = "MARS EXPRESS"
INSTRUMENT_ID = HRSC
INSTRUMENT_NAME = "HIGH RESOLUTION STEREO CAMERA"
MISSION_NAME = "MARS EXPRESS"
MISSION_PHASE_NAME = ME_Phase_34
PROCESSING_LEVEL_ID = 3
PRODUCT_CREATION_TIME = 2016-11-08T12:40:53.000Z
PRODUCT_ID = "HF686_0000_IR3.JP2"
RELEASE_ID = 0133
REVISION_ID = 0000
/* QUALITY DATA ELEMENTS */
DATA_QUALITY_ID = 1
DATA_QUALITY_DESC = "Data calculated based on original SPICE kernels"
/* TIME DATA ELEMENTS */
SPACECRAFT_CLOCK_START_COUNT = "1/0411591044.08307"
SPACECRAFT_CLOCK_STOP_COUNT = "1/0411591221.39773"
START_TIME = 2016-05-17T18:50:58.236Z
STOP_TIME = 2016-05-17T18:52:44.904Z
/* ORBITAL DATA ELEMENTS */
ASCENDING_NODE_LONGITUDE = 279.21
MAXIMUM_RESOLUTION = 63.6
FOOTPRINT_POINT_LATITUDE = (38.6007,38.5962,38.5906,38.5853, 38.5774,38.4632,38.3318,38.2002,38.0684 ,37.9366,37.8046,37.6724,37.5402, 37.4089,37.1508,37.0217,36.8928,36.7636 ,36.6341,36.5047,36.3105,36.181,36.0513 ,35.9215,35.7268,35.5968,35.4667, 35.3366,35.2065,35.0768,34.9456,34.7436 ,34.4884,34.3572,34.1602,33.9634, 33.8321,33.7007,33.5694,33.4379,33.3067 ,33.1751,32.9776,32.8456,32.714,32.5821 ,32.4504,32.3182,32.1862,32.0528, 31.9633,31.9683,31.9707,31.9722,31.9749 ,31.9765,32.1101,32.2417,32.4408, 32.6395,32.7719,32.9041,33.036,33.1681, 33.3659,33.4978,33.6954,33.8932,34.0874 ,34.3525,34.4834,34.6793,34.8101, 34.9406,35.0716,35.2678,35.4637,35.5942 ,35.7247,35.8548,36.0501,36.1803, 36.3103,36.44,36.5699,36.6993,36.829, 36.9586,37.0882,37.2176,37.3469,37.5422 ,37.6748,37.8071,37.9397,38.0721,38.204 ,38.4019,38.5339,38.6007)
FOOTPRINT_POINT_LONGITUDE = (295.297,294.886,294.526,294.252,293.91 ,293.702,293.709,293.716,293.723,293.73 ,293.737,293.743,293.75,293.756,293.768 ,293.774,293.781,293.787,293.793, 293.798,293.807,293.813,293.819,293.824 ,293.833,293.838,293.844,293.849, 293.854,293.86,293.865,293.87,293.883, 293.888,293.895,293.902,293.906,293.911 ,293.916,293.92,293.925,293.929,293.936 ,293.94,293.944,293.949,293.953,293.957 ,293.961,293.965,294.142,294.42,294.609 ,294.843,295.209,295.399,295.536, 295.537,295.538,295.539,295.54,295.541, 295.542,295.543,295.544,295.545,295.546 ,295.547,295.549,295.55,295.551,295.552 ,295.553,295.554,295.555,295.556, 295.557,295.558,295.559,295.559,295.561 ,295.561,295.562,295.563,295.564, 295.565,295.565,295.566,295.567,295.568 ,295.568,295.569,295.57,295.571,295.572 ,295.572,295.573,295.574,295.575, 295.297)
ORBIT_NUMBER = 15686
ORBITAL_ECCENTRICITY = 0.576
ORBITAL_INCLINATION = 86.92
ORBITAL_SEMIMAJOR_AXIS = 8845.4
PERIAPSIS_ALTITUDE = 358.05
PERIAPSIS_ARGUMENT_ANGLE = 155.73
PERIAPSIS_TIME = 2016-05-17T18:55:13.000Z
SPACECRAFT_ORIENTATION = (0.0,-1.0,0.0)
^MEX_ORIENTATION_DESC = "MEX_ORIENTATION_DESC.TXT"
SPACECRAFT_POINTING_MODE = NADIR
^MEX_POINTING_DESC = "MEX_POINTING_DESC.TXT"
RIGHT_ASCENSION = -1e+32
DECLINATION = -1e+32
OFFSET_ANGLE = -1e+32
SPACECRAFT_SOLAR_DISTANCE = 2.28566e+08
TARGET_NAME = MARS
/* CAMERA DATA ELEMENTS */
DETECTOR_TEMPERATURE = 17.9627
FOCAL_PLANE_TEMPERATURE = 7.7677
INST_CMPRS_NAME = "DISCRETE COSINE TRANSFORMATION (DCT)"
INST_CMPRS_RATIO = 4.45931
INST_CMPRS_QUALITY = 0
INST_CMPRS_QUANTZ_TBL_ID = 0
INSTRUMENT_TEMPERATURE = 11.4379
LENS_TEMPERATURE = 8.5833
MACROPIXEL_SIZE = 4
MISSING_FRAMES = 0
PIXEL_SUBSAMPLING_FLAG = N
SIGNAL_CHAIN_ID = 2
/* RADIOMETRIC DATA ELEMENTS */
BANDWIDTH = 81.0
CENTER_FILTER_WAVELENGTH = 955.5
RADIANCE_OFFSET = 0.301162
RADIANCE_SCALING_FACTOR = 0.00461163
REFLECTANCE_SCALING_FACTOR = 0.000519766
MEX:REFLECTANCE_OFFSET = 0.0339432
/* IMAGE OBJECT DEFINITIONS */
OBJECT = IMAGE
  INTERCHANGE_FORMAT = BINARY
  LINES = 7809
  LINE_SAMPLES = 1768
  SAMPLE_TYPE = UNSIGNED_INTEGER
  SAMPLE_BITS = 8
  BANDS = 1
  BAND_STORAGE_TYPE = BAND_SEQUENTIAL
  MAXIMUM = 255
  MEAN = 88.7928
  MINIMUM = 1
  STANDARD_DEVIATION = 20.0108
END_OBJECT = IMAGE
/* MAP OBJECT DEFINITIONS */
OBJECT = IMAGE_MAP_PROJECTION
  ^DATA_SET_MAP_PROJECTION_CATALOG= "DSMAP.CAT"
  A_AXIS_RADIUS = 3396.0
  B_AXIS_RADIUS = 3396.0
  C_AXIS_RADIUS = 3396.0
  CENTER_LATITUDE = 0.0
  CENTER_LONGITUDE = 295.0
  COORDINATE_SYSTEM_NAME = PLANETOGRAPHIC
  COORDINATE_SYSTEM_TYPE = "BODY-FIXED ROTATING"
  EASTERNMOST_LONGITUDE = 295.575
  FIRST_STANDARD_PARALLEL = "N/A"
  LINE_FIRST_PIXEL = 1
  LINE_LAST_PIXEL = 7809
  LINE_PROJECTION_OFFSET = 45695.125
  MAP_PROJECTION_ROTATION = 0.0
  MAP_PROJECTION_TYPE = SINUSOIDAL
  MAP_RESOLUTION = 1185.42760773333
  MAP_SCALE = 0.05
  MAXIMUM_LATITUDE = 38.6007
  MINIMUM_LATITUDE = 31.9633
  POSITIVE_LONGITUDE_DIRECTION = EAST
  REFERENCE_LATITUDE = "N/A"
  REFERENCE_LONGITUDE = "N/A"
  SAMPLE_FIRST_PIXEL = 1
  SAMPLE_LAST_PIXEL = 1768
  SAMPLE_PROJECTION_OFFSET = 1213.375
  SECOND_STANDARD_PARALLEL = "N/A"
  WESTERNMOST_LONGITUDE = 293.702
END_OBJECT = IMAGE_MAP_PROJECTION
/* The JPEG2000 image data file associated with this label. */
OBJECT = COMPRESSED_FILE
  FILE_NAME = "HF686_0000_IR3.JP2"
  RECORD_TYPE = UNDEFINED
  FILE_RECORDS = UNK
  ENCODING_TYPE = "JP2"
  INTERCHANGE_FORMAT = BINARY
  UNCOMPRESSED_FILE_NAME = "HF686_0000_IR3.IMG"
  REQUIRED_STORAGE_BYTES = "13825760"
  ^DESCRIPTION = "JP2INFO.TXT"
END_OBJECT = COMPRESSED_FILE
END
