PDS_VERSION_ID = PDS3
/* FILE DATA ELEMENTS */
RECORD_TYPE = STREAM
/* POINTERS TO DATA OBJECTS */
^COMPRESSED_FILE = "HF688_0000_ND3.JP2"
/* IDENTIFICATION DATA ELEMENTS */
DATA_SET_ID = "MEX-M-HRSC-5-REFDR-MAPPROJECTED-V3.0"
DATA_SET_NAME = "MARS EXPRESS HRSC MAP PROJECTED REFDR V3.0"
DETECTOR_ID = MEX_HRSC_NADIR
EVENT_TYPE = "MARS-REGIONAL-MAPPING-Vo-Pf-Eo"
INSTRUMENT_HOST_ID = MEX
INSTRUMENT_HOST_NAME = "MARS EXPRESS"
INSTRUMENT_ID = HRSC
INSTRUMENT_NAME = "HIGH RESOLUTION STEREO CAMERA"
MISSION_NAME = "MARS EXPRESS"
MISSION_PHASE_NAME = ME_Phase_34
PROCESSING_LEVEL_ID = 3
PRODUCT_CREATION_TIME = 2016-11-08T12:40:53.000Z
PRODUCT_ID = "HF688_0000_ND3.JP2"
RELEASE_ID = 0133
REVISION_ID = 0000
/* QUALITY DATA ELEMENTS */
DATA_QUALITY_ID = 1
DATA_QUALITY_DESC = "Data calculated based on original SPICE kernels"
/* TIME DATA ELEMENTS */
SPACECRAFT_CLOCK_START_COUNT = "1/0411641233.07295"
SPACECRAFT_CLOCK_STOP_COUNT = "1/0411641472.30158"
START_TIME = 2016-05-18T08:48:12.736Z
STOP_TIME = 2016-05-18T08:50:40.702Z
/* ORBITAL DATA ELEMENTS */
ASCENDING_NODE_LONGITUDE = 279.17
MAXIMUM_RESOLUTION = 16.7
FOOTPRINT_POINT_LATITUDE = (49.3507,49.3418,49.331,49.3227,49.3085 ,49.2906,49.0858,48.8885,48.6918, 48.4983,48.3046,48.1106,47.8198,47.6296 ,47.4393,47.2487,47.058,46.8676,46.6808 ,46.4938,46.3066,46.1193,45.8386, 45.6552,45.4716,45.2878,45.1039,44.8282 ,44.6482,44.4681,44.2878,44.1074, 43.9268,43.6569,43.4804,43.3037,43.1269 ,42.9499,42.7728,42.5956,42.3339, 42.1608,41.9875,41.8142,41.6407,41.467, 41.2069,40.8679,40.5284,40.1819,40.1907 ,40.196,40.2032,40.2089,40.2122,40.5551 ,40.8957,41.2358,41.4966,41.6708,41.845 ,42.019,42.1928,42.3666,42.5403,42.8069 ,42.9847,43.1624,43.3399,43.5173, 43.6945,43.9652,44.1466,44.3278,44.5089 ,44.6898,44.8705,45.1472,45.332,45.5167 ,45.7011,45.8855,46.1672,46.3554, 46.5436,46.7315,46.9193,47.1104,47.3022 ,47.4937,47.6851,47.8764,48.1686, 48.3636,48.5585,48.7531,48.9507,49.1493 ,49.3476,49.3507)
FOOTPRINT_POINT_LONGITUDE = (90.0274,89.6449,89.2358,88.9543, 88.5185,88.0293,87.8298,87.854,87.8776, 87.9006,87.9234,87.9458,87.9791,88.0005 ,88.0214,88.0422,88.063,88.0834,88.1033 ,88.1228,88.1417,88.1606,88.1884, 88.2063,88.2238,88.2413,88.2586,88.284, 88.3001,88.3161,88.332,88.3478,88.3632, 88.3857,88.4002,88.4146,88.429,88.4431, 88.4569,88.4706,88.4906,88.5036,88.5162 ,88.5287,88.541,88.5534,88.5717,88.5948 ,88.6174,88.83,89.1905,89.4362,89.8132, 90.1704,90.4139,90.5529,90.5517,90.5503 ,90.5492,90.5485,90.5477,90.5469, 90.5461,90.5452,90.5444,90.5431,90.5421 ,90.5411,90.5401,90.5392,90.5381, 90.5364,90.5352,90.5342,90.5331,90.5319 ,90.5307,90.5288,90.5275,90.5261, 90.5248,90.5234,90.5212,90.5197,90.5182 ,90.5168,90.5151,90.5134,90.5116, 90.5099,90.508,90.5061,90.5033,90.5012, 90.4992,90.497,90.4948,90.4925,90.4901, 90.0274)
ORBIT_NUMBER = 15688
ORBITAL_ECCENTRICITY = 0.576
ORBITAL_INCLINATION = 86.93
ORBITAL_SEMIMAJOR_AXIS = 8848.61
PERIAPSIS_ALTITUDE = 357.58
PERIAPSIS_ARGUMENT_ANGLE = 155.35
PERIAPSIS_TIME = 2016-05-18T08:54:43.000Z
SPACECRAFT_ORIENTATION = (0.0,-1.0,0.0)
^MEX_ORIENTATION_DESC = "MEX_ORIENTATION_DESC.TXT"
SPACECRAFT_POINTING_MODE = ACROSSTRACK
^MEX_POINTING_DESC = "MEX_POINTING_DESC.TXT"
RIGHT_ASCENSION = -1e+32
DECLINATION = -1e+32
OFFSET_ANGLE = -0.269
SPACECRAFT_SOLAR_DISTANCE = 2.28453e+08
TARGET_NAME = MARS
/* CAMERA DATA ELEMENTS */
DETECTOR_TEMPERATURE = 17.9627
FOCAL_PLANE_TEMPERATURE = 7.3599
INST_CMPRS_NAME = "DISCRETE COSINE TRANSFORMATION (DCT)"
INST_CMPRS_RATIO = 5.95203
INST_CMPRS_QUALITY = 0
INST_CMPRS_QUANTZ_TBL_ID = 0
INSTRUMENT_TEMPERATURE = 10.8262
LENS_TEMPERATURE = 8.1755
MACROPIXEL_SIZE = 1
MISSING_FRAMES = 0
PIXEL_SUBSAMPLING_FLAG = N
SIGNAL_CHAIN_ID = 0
/* RADIOMETRIC DATA ELEMENTS */
BANDWIDTH = 177.0
CENTER_FILTER_WAVELENGTH = 677.5
RADIANCE_OFFSET = 1.10262
RADIANCE_SCALING_FACTOR = 0.0116267
REFLECTANCE_SCALING_FACTOR = 0.000322358
MEX:REFLECTANCE_OFFSET = 0.0305707
/* IMAGE OBJECT DEFINITIONS */
OBJECT = IMAGE
  INTERCHANGE_FORMAT = BINARY
  LINES = 43540
  LINE_SAMPLES = 9355
  SAMPLE_TYPE = UNSIGNED_INTEGER
  SAMPLE_BITS = 8
  BANDS = 1
  BAND_STORAGE_TYPE = BAND_SEQUENTIAL
  MAXIMUM = 255
  MEAN = 69.5545
  MINIMUM = 1
  STANDARD_DEVIATION = 16.4263
END_OBJECT = IMAGE
/* MAP OBJECT DEFINITIONS */
OBJECT = IMAGE_MAP_PROJECTION
  ^DATA_SET_MAP_PROJECTION_CATALOG= "DSMAP.CAT"
  A_AXIS_RADIUS = 3396.0
  B_AXIS_RADIUS = 3396.0
  C_AXIS_RADIUS = 3396.0
  CENTER_LATITUDE = 0.0
  CENTER_LONGITUDE = 89.0
  COORDINATE_SYSTEM_NAME = PLANETOGRAPHIC
  COORDINATE_SYSTEM_TYPE = "BODY-FIXED ROTATING"
  EASTERNMOST_LONGITUDE = 90.55289999999999
  FIRST_STANDARD_PARALLEL = "N/A"
  LINE_FIRST_PIXEL = 1
  LINE_LAST_PIXEL = 43540
  LINE_PROJECTION_OFFSET = 234046.0
  MAP_PROJECTION_ROTATION = 0.0
  MAP_PROJECTION_TYPE = SINUSOIDAL
  MAP_RESOLUTION = 4741.71043093333
  MAP_SCALE = 0.0125
  MAXIMUM_LATITUDE = 49.3507
  MINIMUM_LATITUDE = 40.1819
  POSITIVE_LONGITUDE_DIRECTION = EAST
  REFERENCE_LATITUDE = "N/A"
  REFERENCE_LONGITUDE = "N/A"
  SAMPLE_FIRST_PIXEL = 1
  SAMPLE_LAST_PIXEL = 9355
  SAMPLE_PROJECTION_OFFSET = 3694.0
  SECOND_STANDARD_PARALLEL = "N/A"
  WESTERNMOST_LONGITUDE = 87.82980000000001
END_OBJECT = IMAGE_MAP_PROJECTION
/* The JPEG2000 image data file associated with this label. */
OBJECT = COMPRESSED_FILE
  FILE_NAME = "HF688_0000_ND3.JP2"
  RECORD_TYPE = UNDEFINED
  FILE_RECORDS = UNK
  ENCODING_TYPE = "JP2"
  INTERCHANGE_FORMAT = BINARY
  UNCOMPRESSED_FILE_NAME = "HF688_0000_ND3.IMG"
  REQUIRED_STORAGE_BYTES = "407344765"
  ^DESCRIPTION = "JP2INFO.TXT"
END_OBJECT = COMPRESSED_FILE
END
