PDS_VERSION_ID = PDS3
/* FILE DATA ELEMENTS */
RECORD_TYPE = STREAM
/* POINTERS TO DATA OBJECTS */
^COMPRESSED_FILE = "HF690_0000_S23.JP2"
/* IDENTIFICATION DATA ELEMENTS */
DATA_SET_ID = "MEX-M-HRSC-5-REFDR-MAPPROJECTED-V3.0"
DATA_SET_NAME = "MARS EXPRESS HRSC MAP PROJECTED REFDR V3.0"
DETECTOR_ID = MEX_HRSC_S2
EVENT_TYPE = "MARS-REGIONAL-MAPPING-Vo-Te"
INSTRUMENT_HOST_ID = MEX
INSTRUMENT_HOST_NAME = "MARS EXPRESS"
INSTRUMENT_ID = HRSC
INSTRUMENT_NAME = "HIGH RESOLUTION STEREO CAMERA"
MISSION_NAME = "MARS EXPRESS"
MISSION_PHASE_NAME = ME_Phase_34
PROCESSING_LEVEL_ID = 3
PRODUCT_CREATION_TIME = 2016-11-08T12:40:53.000Z
PRODUCT_ID = "HF690_0000_S23.JP2"
RELEASE_ID = 0133
REVISION_ID = 0000
/* QUALITY DATA ELEMENTS */
DATA_QUALITY_ID = 1
DATA_QUALITY_DESC = "Data calculated based on original SPICE kernels"
/* TIME DATA ELEMENTS */
SPACECRAFT_CLOCK_START_COUNT = "1/0411691512.08247"
SPACECRAFT_CLOCK_STOP_COUNT = "1/0411692036.00830"
START_TIME = 2016-05-18T22:47:13.913Z
STOP_TIME = 2016-05-18T22:54:01.337Z
/* ORBITAL DATA ELEMENTS */
ASCENDING_NODE_LONGITUDE = 279.14
MAXIMUM_RESOLUTION = 30.4
FOOTPRINT_POINT_LATITUDE = (54.7269,54.7088,54.6689,54.6245,54.187 ,53.6658,53.1439,52.6209,52.0969, 51.5726,51.0475,50.5215,49.9954,49.4675 ,48.9396,48.4102,47.8801,47.3486, 46.5497,46.016,45.4797,44.9441,44.4062, 43.8663,43.3283,42.7933,42.2599,41.7254 ,41.1907,40.389,39.5861,39.0515,38.2517 ,37.7183,37.187,36.656,36.1236,35.3252, 34.7935,34.2617,33.7299,32.9324,32.4002 ,31.8685,31.3361,30.8056,30.2744, 29.7439,29.2136,28.6843,28.1199,28.1376 ,28.1672,28.4431,29.2382,30.0358, 30.8329,31.6313,32.1634,32.6951,33.2276 ,33.7604,34.5592,35.092,35.625,36.1575, 36.6885,37.2194,37.7528,38.2871,38.8223 ,39.3566,40.1583,40.6943,41.2313,41.768 ,42.3039,42.8391,43.6407,44.1767,44.982 ,45.5226,46.0626,46.6004,47.1364,47.673 ,48.2038,48.7351,49.2656,49.7953, 50.3243,50.8523,51.3804,51.9071,52.433, 53.2219,53.7464,54.2698,54.7923, 54.7269)
FOOTPRINT_POINT_LONGITUDE = (247.421,246.925,245.949,244.992, 244.806,244.865,244.921,244.975,245.027 ,245.077,245.125,245.171,245.214, 245.256,245.296,245.335,245.372,245.407 ,245.456,245.487,245.517,245.545, 245.572,245.597,245.621,245.644,245.667 ,245.688,245.708,245.736,245.762, 245.778,245.801,245.815,245.829,245.842 ,245.854,245.871,245.881,245.89,245.899 ,245.91,245.917,245.923,245.928,245.933 ,245.937,245.941,245.944,245.946, 246.237,246.586,247.159,247.416,247.427 ,247.44,247.452,247.464,247.472,247.479 ,247.487,247.495,247.506,247.514, 247.521,247.529,247.535,247.54,247.549, 247.558,247.568,247.578,247.592,247.604 ,247.617,247.63,247.642,247.654,247.672 ,247.686,247.709,247.729,247.748, 247.767,247.784,247.802,247.815,247.829 ,247.843,247.857,247.872,247.885,247.9, 247.915,247.929,247.952,247.967,247.982 ,247.998,247.421)
ORBIT_NUMBER = 15690
ORBITAL_ECCENTRICITY = 0.576
ORBITAL_INCLINATION = 86.92
ORBITAL_SEMIMAJOR_AXIS = 8854.43
PERIAPSIS_ALTITUDE = 358.0
PERIAPSIS_ARGUMENT_ANGLE = 155.0
PERIAPSIS_TIME = 2016-05-18T22:54:17.000Z
SPACECRAFT_ORIENTATION = (0.0,-1.0,0.0)
^MEX_ORIENTATION_DESC = "MEX_ORIENTATION_DESC.TXT"
SPACECRAFT_POINTING_MODE = ACROSSTRACK
^MEX_POINTING_DESC = "MEX_POINTING_DESC.TXT"
RIGHT_ASCENSION = -1e+32
DECLINATION = -1e+32
OFFSET_ANGLE = 1.0
SPACECRAFT_SOLAR_DISTANCE = 2.28339e+08
TARGET_NAME = MARS
/* CAMERA DATA ELEMENTS */
DETECTOR_TEMPERATURE = 18.9822
FOCAL_PLANE_TEMPERATURE = 8.1755
INST_CMPRS_NAME = "DISCRETE COSINE TRANSFORMATION (DCT)"
INST_CMPRS_RATIO = 5.70226
INST_CMPRS_QUALITY = 0
INST_CMPRS_QUANTZ_TBL_ID = 0
INSTRUMENT_TEMPERATURE = 11.6418
LENS_TEMPERATURE = 8.5833
MACROPIXEL_SIZE = 2
MISSING_FRAMES = 0
PIXEL_SUBSAMPLING_FLAG = N
SIGNAL_CHAIN_ID = 1
/* RADIOMETRIC DATA ELEMENTS */
BANDWIDTH = 178.0
CENTER_FILTER_WAVELENGTH = 679.0
RADIANCE_OFFSET = 1.08722
RADIANCE_SCALING_FACTOR = 0.0300158
REFLECTANCE_SCALING_FACTOR = 0.000828794
MEX:REFLECTANCE_OFFSET = 0.0300202
/* IMAGE OBJECT DEFINITIONS */
OBJECT = IMAGE
  INTERCHANGE_FORMAT = BINARY
  LINES = 63198
  LINE_SAMPLES = 4789
  SAMPLE_TYPE = UNSIGNED_INTEGER
  SAMPLE_BITS = 8
  BANDS = 1
  BAND_STORAGE_TYPE = BAND_SEQUENTIAL
  MAXIMUM = 255
  MEAN = 81.1653
  MINIMUM = 1
  STANDARD_DEVIATION = 16.7679
END_OBJECT = IMAGE
/* MAP OBJECT DEFINITIONS */
OBJECT = IMAGE_MAP_PROJECTION
  ^DATA_SET_MAP_PROJECTION_CATALOG= "DSMAP.CAT"
  A_AXIS_RADIUS = 3396.0
  B_AXIS_RADIUS = 3396.0
  C_AXIS_RADIUS = 3396.0
  CENTER_LATITUDE = 0.0
  CENTER_LONGITUDE = 247.0
  COORDINATE_SYSTEM_NAME = PLANETOGRAPHIC
  COORDINATE_SYSTEM_TYPE = "BODY-FIXED ROTATING"
  EASTERNMOST_LONGITUDE = 247.998
  FIRST_STANDARD_PARALLEL = "N/A"
  LINE_FIRST_PIXEL = 1
  LINE_LAST_PIXEL = 63198
  LINE_PROJECTION_OFFSET = 129938.75
  MAP_PROJECTION_ROTATION = 0.0
  MAP_PROJECTION_TYPE = SINUSOIDAL
  MAP_RESOLUTION = 2370.85521546667
  MAP_SCALE = 0.025
  MAXIMUM_LATITUDE = 54.7923
  MINIMUM_LATITUDE = 28.1199
  POSITIVE_LONGITUDE_DIRECTION = EAST
  REFERENCE_LATITUDE = "N/A"
  REFERENCE_LONGITUDE = "N/A"
  SAMPLE_FIRST_PIXEL = 1
  SAMPLE_LAST_PIXEL = 4789
  SAMPLE_PROJECTION_OFFSET = 3272.25
  SECOND_STANDARD_PARALLEL = "N/A"
  WESTERNMOST_LONGITUDE = 244.806
END_OBJECT = IMAGE_MAP_PROJECTION
/* The JPEG2000 image data file associated with this label. */
OBJECT = COMPRESSED_FILE
  FILE_NAME = "HF690_0000_S23.JP2"
  RECORD_TYPE = UNDEFINED
  FILE_RECORDS = UNK
  ENCODING_TYPE = "JP2"
  INTERCHANGE_FORMAT = BINARY
  UNCOMPRESSED_FILE_NAME = "HF690_0000_S23.IMG"
  REQUIRED_STORAGE_BYTES = "302679167"
  ^DESCRIPTION = "JP2INFO.TXT"
END_OBJECT = COMPRESSED_FILE
END
