PDS_VERSION_ID = PDS3
/* FILE DATA ELEMENTS */
RECORD_TYPE = STREAM
/* POINTERS TO DATA OBJECTS */
^COMPRESSED_FILE = "HF692_0000_S13.JP2"
/* IDENTIFICATION DATA ELEMENTS */
DATA_SET_ID = "MEX-M-HRSC-5-REFDR-MAPPROJECTED-V3.0"
DATA_SET_NAME = "MARS EXPRESS HRSC MAP PROJECTED REFDR V3.0"
DETECTOR_ID = MEX_HRSC_S1
EVENT_TYPE = "MARS-REGIONAL-MAPPING-Im-Fl"
INSTRUMENT_HOST_ID = MEX
INSTRUMENT_HOST_NAME = "MARS EXPRESS"
INSTRUMENT_ID = HRSC
INSTRUMENT_NAME = "HIGH RESOLUTION STEREO CAMERA"
MISSION_NAME = "MARS EXPRESS"
MISSION_PHASE_NAME = ME_Phase_34
PROCESSING_LEVEL_ID = 3
PRODUCT_CREATION_TIME = 2016-11-08T12:40:53.000Z
PRODUCT_ID = "HF692_0000_S13.JP2"
RELEASE_ID = 0133
REVISION_ID = 0000
/* QUALITY DATA ELEMENTS */
DATA_QUALITY_ID = 1
DATA_QUALITY_DESC = "Data calculated based on original SPICE kernels"
/* TIME DATA ELEMENTS */
SPACECRAFT_CLOCK_START_COUNT = "1/0411742331.08466"
SPACECRAFT_CLOCK_STOP_COUNT = "1/0411742655.30870"
START_TIME = 2016-05-19T12:52:18.493Z
STOP_TIME = 2016-05-19T12:56:29.507Z
/* ORBITAL DATA ELEMENTS */
ASCENDING_NODE_LONGITUDE = 279.1
MAXIMUM_RESOLUTION = 30.4
FOOTPRINT_POINT_LATITUDE = (29.5016,29.4961,29.4918,29.4868, 29.4502,29.1378,28.67,28.3565,28.0419, 27.7282,27.4123,27.098,26.6263,26.3111, 25.9968,25.5231,25.2068,24.732,24.4064, 23.9355,23.6175,23.2988,22.9813,22.6632 ,22.1851,21.8664,21.547,21.2277,20.9077 ,20.4276,20.1073,19.6262,19.3046, 18.9839,18.6614,18.3421,18.0202,17.5389 ,17.2165,16.734,16.2508,15.9285,15.4456 ,14.9619,14.5839,14.1974,13.8119, 13.4282,13.2317,13.234,13.2351,13.2357, 13.2364,13.62,14.0061,14.5853,14.9614, 15.2854,15.7718,16.0933,16.4162,16.7382 ,17.2209,17.7071,18.1877,18.5086, 18.8301,19.1523,19.474,19.7959,20.1149, 20.4368,20.7596,21.0792,21.3994,21.7194 ,22.038,22.3571,22.6768,22.9948,23.3135 ,23.6319,23.9504,24.2675,24.744,25.066, 25.3752,25.6883,26.0052,26.3297,26.6441 ,26.9602,27.2742,27.5891,28.0607, 28.3746,28.8445,29.1587,29.4708, 29.5016)
FOOTPRINT_POINT_LONGITUDE = (41.0089,40.6547,40.4278,40.2002, 39.9266,39.9337,39.9444,39.9508,39.9566 ,39.9627,39.9678,39.9734,39.9815, 39.9865,39.9918,39.9985,40.0027,40.0087 ,40.0102,40.0173,40.0202,40.0228, 40.0257,40.0283,40.0315,40.0335,40.0352 ,40.0367,40.0378,40.0393,40.04,40.0406, 40.0405,40.0406,40.0399,40.0403,40.0395 ,40.0388,40.0375,40.0358,40.0334, 40.0316,40.0289,40.0255,40.0224,40.0186 ,40.015,40.0118,40.2994,40.5627,40.8384 ,41.0481,41.3666,41.3677,41.3683, 41.3692,41.3706,41.371,41.3715,41.3725, 41.3732,41.374,41.3754,41.3759,41.3777, 41.3787,41.3796,41.3803,41.381,41.3817, 41.3831,41.3838,41.3841,41.3852,41.3862 ,41.3871,41.3884,41.3894,41.3903, 41.3915,41.3925,41.3935,41.3945,41.3957 ,41.3981,41.3979,41.4009,41.4028, 41.4037,41.4025,41.4039,41.4047,41.406, 41.407,41.4085,41.4095,41.4111,41.4117, 41.4129,41.0089)
ORBIT_NUMBER = 15692
ORBITAL_ECCENTRICITY = 0.576
ORBITAL_INCLINATION = 86.92
ORBITAL_SEMIMAJOR_AXIS = 8846.81
PERIAPSIS_ALTITUDE = 358.66
PERIAPSIS_ARGUMENT_ANGLE = 154.69
PERIAPSIS_TIME = 2016-05-19T12:53:56.000Z
SPACECRAFT_ORIENTATION = (0.0,-1.0,0.0)
^MEX_ORIENTATION_DESC = "MEX_ORIENTATION_DESC.TXT"
SPACECRAFT_POINTING_MODE = ACROSSTRACK
^MEX_POINTING_DESC = "MEX_POINTING_DESC.TXT"
RIGHT_ASCENSION = -1e+32
DECLINATION = -1e+32
OFFSET_ANGLE = -0.15
SPACECRAFT_SOLAR_DISTANCE = 2.28226e+08
TARGET_NAME = MARS
/* CAMERA DATA ELEMENTS */
DETECTOR_TEMPERATURE = 17.5549
FOCAL_PLANE_TEMPERATURE = 7.9716
INST_CMPRS_NAME = "DISCRETE COSINE TRANSFORMATION (DCT)"
INST_CMPRS_RATIO = 7.14671
INST_CMPRS_QUALITY = 0
INST_CMPRS_QUANTZ_TBL_ID = 0
INSTRUMENT_TEMPERATURE = 11.234
LENS_TEMPERATURE = 8.3794
MACROPIXEL_SIZE = 2
MISSING_FRAMES = 1
PIXEL_SUBSAMPLING_FLAG = N
SIGNAL_CHAIN_ID = 1
/* RADIOMETRIC DATA ELEMENTS */
BANDWIDTH = 180.0
CENTER_FILTER_WAVELENGTH = 677.0
RADIANCE_OFFSET = 1.91658
RADIANCE_SCALING_FACTOR = 0.0191712
REFLECTANCE_SCALING_FACTOR = 0.000520983
MEX:REFLECTANCE_OFFSET = 0.0520835
/* IMAGE OBJECT DEFINITIONS */
OBJECT = IMAGE
  INTERCHANGE_FORMAT = BINARY
  LINES = 38498
  LINE_SAMPLES = 3385
  SAMPLE_TYPE = UNSIGNED_INTEGER
  SAMPLE_BITS = 8
  BANDS = 1
  BAND_STORAGE_TYPE = BAND_SEQUENTIAL
  MAXIMUM = 255
  MEAN = 99.5154
  MINIMUM = 1
  STANDARD_DEVIATION = 19.4667
END_OBJECT = IMAGE
/* MAP OBJECT DEFINITIONS */
OBJECT = IMAGE_MAP_PROJECTION
  ^DATA_SET_MAP_PROJECTION_CATALOG= "DSMAP.CAT"
  A_AXIS_RADIUS = 3396.0
  B_AXIS_RADIUS = 3396.0
  C_AXIS_RADIUS = 3396.0
  CENTER_LATITUDE = 0.0
  CENTER_LONGITUDE = 41.0
  COORDINATE_SYSTEM_NAME = PLANETOGRAPHIC
  COORDINATE_SYSTEM_TYPE = "BODY-FIXED ROTATING"
  EASTERNMOST_LONGITUDE = 41.4129
  FIRST_STANDARD_PARALLEL = "N/A"
  LINE_FIRST_PIXEL = 1
  LINE_LAST_PIXEL = 38498
  LINE_PROJECTION_OFFSET = 69858.25
  MAP_PROJECTION_ROTATION = 0.0
  MAP_PROJECTION_TYPE = SINUSOIDAL
  MAP_RESOLUTION = 2370.85521546667
  MAP_SCALE = 0.025
  MAXIMUM_LATITUDE = 29.5016
  MINIMUM_LATITUDE = 13.2317
  POSITIVE_LONGITUDE_DIRECTION = EAST
  REFERENCE_LATITUDE = "N/A"
  REFERENCE_LONGITUDE = "N/A"
  SAMPLE_FIRST_PIXEL = 1
  SAMPLE_LAST_PIXEL = 3385
  SAMPLE_PROJECTION_OFFSET = 2432.25
  SECOND_STANDARD_PARALLEL = "N/A"
  WESTERNMOST_LONGITUDE = 39.9266
END_OBJECT = IMAGE_MAP_PROJECTION
/* The JPEG2000 image data file associated with this label. */
OBJECT = COMPRESSED_FILE
  FILE_NAME = "HF692_0000_S13.JP2"
  RECORD_TYPE = UNDEFINED
  FILE_RECORDS = UNK
  ENCODING_TYPE = "JP2"
  INTERCHANGE_FORMAT = BINARY
  UNCOMPRESSED_FILE_NAME = "HF692_0000_S13.IMG"
  REQUIRED_STORAGE_BYTES = "130339425"
  ^DESCRIPTION = "JP2INFO.TXT"
END_OBJECT = COMPRESSED_FILE
END
