PDS_VERSION_ID = PDS3
/* FILE DATA ELEMENTS */
RECORD_TYPE = STREAM
/* POINTERS TO DATA OBJECTS */
^COMPRESSED_FILE = "HF694_0000_S23.JP2"
/* IDENTIFICATION DATA ELEMENTS */
DATA_SET_ID = "MEX-M-HRSC-5-REFDR-MAPPROJECTED-V3.0"
DATA_SET_NAME = "MARS EXPRESS HRSC MAP PROJECTED REFDR V3.0"
DETECTOR_ID = MEX_HRSC_S2
EVENT_TYPE = "MARS-REGIONAL-MAPPING-Vo"
INSTRUMENT_HOST_ID = MEX
INSTRUMENT_HOST_NAME = "MARS EXPRESS"
INSTRUMENT_ID = HRSC
INSTRUMENT_NAME = "HIGH RESOLUTION STEREO CAMERA"
MISSION_NAME = "MARS EXPRESS"
MISSION_PHASE_NAME = ME_Phase_34
PROCESSING_LEVEL_ID = 3
PRODUCT_CREATION_TIME = 2016-11-08T12:40:53.000Z
PRODUCT_ID = "HF694_0000_S23.JP2"
RELEASE_ID = 0133
REVISION_ID = 0000
/* QUALITY DATA ELEMENTS */
DATA_QUALITY_ID = 1
DATA_QUALITY_DESC = "Data calculated based on original SPICE kernels"
/* TIME DATA ELEMENTS */
SPACECRAFT_CLOCK_START_COUNT = "1/0411792604.08303"
SPACECRAFT_CLOCK_STOP_COUNT = "1/0411792914.00780"
START_TIME = 2016-05-20T02:51:22.364Z
STOP_TIME = 2016-05-20T02:55:19.348Z
/* ORBITAL DATA ELEMENTS */
ASCENDING_NODE_LONGITUDE = 279.06
MAXIMUM_RESOLUTION = 31.1
FOOTPRINT_POINT_LATITUDE = (36.0643,36.062,36.0576,36.0547,35.9393 ,35.5752,35.0291,34.6688,34.364,34.0594 ,33.6025,33.146,32.8416,32.5376,32.0816 ,31.7778,31.3223,31.0189,30.5639,30.261 ,29.8066,29.504,29.2015,28.8993,28.4462 ,28.1445,27.6924,27.3913,27.0903, 26.7897,26.339,26.0389,25.739,25.4394, 24.9905,24.6916,24.3931,24.0949,23.7969 ,23.4994,23.202,22.905,22.6082,22.3118, 22.0152,21.7193,21.4238,21.1293,20.8343 ,20.7941,20.7926,20.7925,20.7921, 20.7916,20.9393,21.2347,21.5302,21.8259 ,22.1221,22.5669,22.8637,23.1612, 23.6077,23.9058,24.2042,24.5029,24.8018 ,25.1012,25.4007,25.7006,26.0007, 26.4516,26.7523,27.0535,27.3546,27.8071 ,28.1089,28.4111,28.7134,29.1672,29.47, 29.9247,30.2279,30.6833,30.9869,31.4429 ,31.7469,32.2032,32.5075,32.9646, 33.2693,33.7268,34.0319,34.3372,34.6426 ,34.9958,35.3603,35.7249,36.0899, 36.0643)
FOOTPRINT_POINT_LONGITUDE = (196.57,196.32,195.884,195.635,195.297, 195.31,195.329,195.341,195.351,195.36, 195.374,195.387,195.396,195.404,195.415 ,195.422,195.433,195.44,195.449,195.455 ,195.464,195.469,195.475,195.479, 195.486,195.491,195.497,195.501,195.504 ,195.508,195.512,195.515,195.518,195.52 ,195.524,195.526,195.527,195.529,195.53 ,195.531,195.532,195.533,195.534, 195.534,195.534,195.535,195.535,195.534 ,195.534,195.751,196.037,196.241,196.54 ,196.785,196.94,196.94,196.94,196.941, 196.941,196.941,196.941,196.942,196.942 ,196.943,196.943,196.943,196.944, 196.944,196.944,196.945,196.945,196.946 ,196.946,196.946,196.947,196.947, 196.948,196.948,196.949,196.949,196.949 ,196.95,196.95,196.951,196.951,196.952, 196.952,196.952,196.952,196.953,196.953 ,196.953,196.953,196.954,196.954, 196.954,196.954,196.954,196.954,196.57)
ORBIT_NUMBER = 15694
ORBITAL_ECCENTRICITY = 0.576
ORBITAL_INCLINATION = 86.93
ORBITAL_SEMIMAJOR_AXIS = 8837.68
PERIAPSIS_ALTITUDE = 358.97
PERIAPSIS_ARGUMENT_ANGLE = 154.32
PERIAPSIS_TIME = 2016-05-20T02:53:30.000Z
SPACECRAFT_ORIENTATION = (0.0,-1.0,0.0)
^MEX_ORIENTATION_DESC = "MEX_ORIENTATION_DESC.TXT"
SPACECRAFT_POINTING_MODE = NADIR
^MEX_POINTING_DESC = "MEX_POINTING_DESC.TXT"
RIGHT_ASCENSION = -1e+32
DECLINATION = -1e+32
OFFSET_ANGLE = -1e+32
SPACECRAFT_SOLAR_DISTANCE = 2.28113e+08
TARGET_NAME = MARS
/* CAMERA DATA ELEMENTS */
DETECTOR_TEMPERATURE = 18.3705
FOCAL_PLANE_TEMPERATURE = 8.5833
INST_CMPRS_NAME = "DISCRETE COSINE TRANSFORMATION (DCT)"
INST_CMPRS_RATIO = 7.37209
INST_CMPRS_QUALITY = 0
INST_CMPRS_QUANTZ_TBL_ID = 0
INSTRUMENT_TEMPERATURE = 11.8457
LENS_TEMPERATURE = 8.7872
MACROPIXEL_SIZE = 2
MISSING_FRAMES = 0
PIXEL_SUBSAMPLING_FLAG = N
SIGNAL_CHAIN_ID = 1
/* RADIOMETRIC DATA ELEMENTS */
BANDWIDTH = 178.0
CENTER_FILTER_WAVELENGTH = 679.0
RADIANCE_OFFSET = 1.94615
RADIANCE_SCALING_FACTOR = 0.0153761
REFLECTANCE_SCALING_FACTOR = 0.000423718
MEX:REFLECTANCE_OFFSET = 0.0536297
/* IMAGE OBJECT DEFINITIONS */
OBJECT = IMAGE
  INTERCHANGE_FORMAT = BINARY
  LINES = 36381
  LINE_SAMPLES = 3543
  SAMPLE_TYPE = UNSIGNED_INTEGER
  SAMPLE_BITS = 8
  BANDS = 1
  BAND_STORAGE_TYPE = BAND_SEQUENTIAL
  MAXIMUM = 255
  MEAN = 94.2041
  MINIMUM = 1
  STANDARD_DEVIATION = 13.4555
END_OBJECT = IMAGE
/* MAP OBJECT DEFINITIONS */
OBJECT = IMAGE_MAP_PROJECTION
  ^DATA_SET_MAP_PROJECTION_CATALOG= "DSMAP.CAT"
  A_AXIS_RADIUS = 3396.0
  B_AXIS_RADIUS = 3396.0
  C_AXIS_RADIUS = 3396.0
  CENTER_LATITUDE = 0.0
  CENTER_LONGITUDE = 196.0
  COORDINATE_SYSTEM_NAME = PLANETOGRAPHIC
  COORDINATE_SYSTEM_TYPE = "BODY-FIXED ROTATING"
  EASTERNMOST_LONGITUDE = 196.954
  FIRST_STANDARD_PARALLEL = "N/A"
  LINE_FIRST_PIXEL = 1
  LINE_LAST_PIXEL = 36381
  LINE_PROJECTION_OFFSET = 85611.25
  MAP_PROJECTION_ROTATION = 0.0
  MAP_PROJECTION_TYPE = SINUSOIDAL
  MAP_RESOLUTION = 2370.85521546667
  MAP_SCALE = 0.025
  MAXIMUM_LATITUDE = 36.0899
  MINIMUM_LATITUDE = 20.7916
  POSITIVE_LONGITUDE_DIRECTION = EAST
  REFERENCE_LATITUDE = "N/A"
  REFERENCE_LONGITUDE = "N/A"
  SAMPLE_FIRST_PIXEL = 1
  SAMPLE_LAST_PIXEL = 3543
  SAMPLE_PROJECTION_OFFSET = 1429.75
  SECOND_STANDARD_PARALLEL = "N/A"
  WESTERNMOST_LONGITUDE = 195.297
END_OBJECT = IMAGE_MAP_PROJECTION
/* The JPEG2000 image data file associated with this label. */
OBJECT = COMPRESSED_FILE
  FILE_NAME = "HF694_0000_S23.JP2"
  RECORD_TYPE = UNDEFINED
  FILE_RECORDS = UNK
  ENCODING_TYPE = "JP2"
  INTERCHANGE_FORMAT = BINARY
  UNCOMPRESSED_FILE_NAME = "HF694_0000_S23.IMG"
  REQUIRED_STORAGE_BYTES = "128919141"
  ^DESCRIPTION = "JP2INFO.TXT"
END_OBJECT = COMPRESSED_FILE
END
