PDS_VERSION_ID = PDS3
/* FILE DATA ELEMENTS */
RECORD_TYPE = STREAM
/* POINTERS TO DATA OBJECTS */
^COMPRESSED_FILE = "HF698_0000_S13.JP2"
/* IDENTIFICATION DATA ELEMENTS */
DATA_SET_ID = "MEX-M-HRSC-5-REFDR-MAPPROJECTED-V3.0"
DATA_SET_NAME = "MARS EXPRESS HRSC MAP PROJECTED REFDR V3.0"
DETECTOR_ID = MEX_HRSC_S1
EVENT_TYPE = "MARS-REGIONAL-MAPPING-Vo-Pf"
INSTRUMENT_HOST_ID = MEX
INSTRUMENT_HOST_NAME = "MARS EXPRESS"
INSTRUMENT_ID = HRSC
INSTRUMENT_NAME = "HIGH RESOLUTION STEREO CAMERA"
MISSION_NAME = "MARS EXPRESS"
MISSION_PHASE_NAME = ME_Phase_34
PROCESSING_LEVEL_ID = 3
PRODUCT_CREATION_TIME = 2016-11-08T12:40:53.000Z
PRODUCT_ID = "HF698_0000_S13.JP2"
RELEASE_ID = 0133
REVISION_ID = 0000
/* QUALITY DATA ELEMENTS */
DATA_QUALITY_ID = 1
DATA_QUALITY_DESC = "Data calculated based on original SPICE kernels"
/* TIME DATA ELEMENTS */
SPACECRAFT_CLOCK_START_COUNT = "1/0411893059.08405"
SPACECRAFT_CLOCK_STOP_COUNT = "1/0411893397.46855"
START_TIME = 2016-05-21T06:44:26.574Z
STOP_TIME = 2016-05-21T06:48:49.362Z
/* ORBITAL DATA ELEMENTS */
ASCENDING_NODE_LONGITUDE = 278.98
MAXIMUM_RESOLUTION = 35.4
FOOTPRINT_POINT_LATITUDE = (54.1569,54.1523,54.1451,54.1349, 54.1219,54.0958,53.7981,53.4623,53.1252 ,52.7928,52.4603,52.132,51.8036,51.4792 ,51.1539,50.8336,50.3538,50.0372, 49.7209,49.2527,48.9402,48.4779,48.1692 ,47.8655,47.5609,47.2584,46.9591, 46.6588,46.2137,45.918,45.6217,45.3312, 44.8945,44.6035,44.3176,43.8872,43.5999 ,43.3184,43.0367,42.7534,42.472,42.0522 ,41.6353,41.3575,41.0853,40.8124, 40.5382,40.2646,39.8603,39.3235,39.0544 ,39.0466,39.0495,39.05,39.0477,39.3175, 39.5873,40.1249,40.3993,40.8107,41.0839 ,41.3568,41.7747,42.0538,42.475,42.7569 ,43.0406,43.3239,43.6064,44.0382, 44.3266,44.6136,45.0522,45.3446,45.6358 ,45.9334,46.2302,46.5265,46.8283, 47.1295,47.5838,47.8895,48.1949,48.5047 ,48.9694,49.2834,49.7546,50.0734, 50.5512,50.8747,51.1971,51.5241,51.851, 52.181,52.5124,52.8474,53.182,53.5213, 53.8603,54.1569)
FOOTPRINT_POINT_LONGITUDE = (148.133,147.57,147.043,146.516,145.992 ,145.175,144.742,144.796,144.848, 144.899,144.948,144.995,145.042,145.086 ,145.129,145.171,145.231,145.27,145.308 ,145.362,145.397,145.448,145.48,145.511 ,145.542,145.572,145.601,145.629, 145.669,145.695,145.721,145.746,145.781 ,145.805,145.827,145.859,145.88,145.901 ,145.921,145.94,145.959,145.986,146.012 ,146.029,146.046,146.062,146.077, 146.092,146.114,146.142,146.156,146.573 ,147.01,147.504,148.044,148.047,148.049 ,148.054,148.057,148.061,148.063, 148.066,148.07,148.073,148.077,148.08, 148.083,148.086,148.088,148.093,148.096 ,148.099,148.103,148.106,148.11,148.113 ,148.116,148.119,148.122,148.126, 148.131,148.135,148.138,148.142,148.147 ,148.151,148.156,148.16,148.166,148.17, 148.174,148.178,148.182,148.187,148.191 ,148.195,148.199,148.204,148.209, 148.133)
ORBIT_NUMBER = 15698
ORBITAL_ECCENTRICITY = 0.576
ORBITAL_INCLINATION = 86.91
ORBITAL_SEMIMAJOR_AXIS = 8841.46
PERIAPSIS_ALTITUDE = 359.83
PERIAPSIS_ARGUMENT_ANGLE = 153.66
PERIAPSIS_TIME = 2016-05-21T06:52:46.000Z
SPACECRAFT_ORIENTATION = (0.0,-1.0,0.0)
^MEX_ORIENTATION_DESC = "MEX_ORIENTATION_DESC.TXT"
SPACECRAFT_POINTING_MODE = ACROSSTRACK
^MEX_POINTING_DESC = "MEX_POINTING_DESC.TXT"
RIGHT_ASCENSION = -1e+32
DECLINATION = -1e+32
OFFSET_ANGLE = 0.269
SPACECRAFT_SOLAR_DISTANCE = 2.27885e+08
TARGET_NAME = MARS
/* CAMERA DATA ELEMENTS */
DETECTOR_TEMPERATURE = 17.5549
FOCAL_PLANE_TEMPERATURE = 7.9716
INST_CMPRS_NAME = "DISCRETE COSINE TRANSFORMATION (DCT)"
INST_CMPRS_RATIO = 7.11964
INST_CMPRS_QUALITY = 0
INST_CMPRS_QUANTZ_TBL_ID = 0
INSTRUMENT_TEMPERATURE = 10.8262
LENS_TEMPERATURE = 8.3794
MACROPIXEL_SIZE = 2
MISSING_FRAMES = 1
PIXEL_SUBSAMPLING_FLAG = N
SIGNAL_CHAIN_ID = 1
/* RADIOMETRIC DATA ELEMENTS */
BANDWIDTH = 180.0
CENTER_FILTER_WAVELENGTH = 677.0
RADIANCE_OFFSET = 1.72037
RADIANCE_SCALING_FACTOR = 0.0165597
REFLECTANCE_SCALING_FACTOR = 0.000448676
MEX:REFLECTANCE_OFFSET = 0.0466124
/* IMAGE OBJECT DEFINITIONS */
OBJECT = IMAGE
  INTERCHANGE_FORMAT = BINARY
  LINES = 35592
  LINE_SAMPLES = 4931
  SAMPLE_TYPE = UNSIGNED_INTEGER
  SAMPLE_BITS = 8
  BANDS = 1
  BAND_STORAGE_TYPE = BAND_SEQUENTIAL
  MAXIMUM = 255
  MEAN = 107.82
  MINIMUM = 1
  STANDARD_DEVIATION = 29.1404
END_OBJECT = IMAGE
/* MAP OBJECT DEFINITIONS */
OBJECT = IMAGE_MAP_PROJECTION
  ^DATA_SET_MAP_PROJECTION_CATALOG= "DSMAP.CAT"
  A_AXIS_RADIUS = 3396.0
  B_AXIS_RADIUS = 3396.0
  C_AXIS_RADIUS = 3396.0
  CENTER_LATITUDE = 0.0
  CENTER_LONGITUDE = 147.0
  COORDINATE_SYSTEM_NAME = PLANETOGRAPHIC
  COORDINATE_SYSTEM_TYPE = "BODY-FIXED ROTATING"
  EASTERNMOST_LONGITUDE = 148.209
  FIRST_STANDARD_PARALLEL = "N/A"
  LINE_FIRST_PIXEL = 1
  LINE_LAST_PIXEL = 35592
  LINE_PROJECTION_OFFSET = 128191.25
  MAP_PROJECTION_ROTATION = 0.0
  MAP_PROJECTION_TYPE = SINUSOIDAL
  MAP_RESOLUTION = 2370.85521546667
  MAP_SCALE = 0.025
  MAXIMUM_LATITUDE = 54.1569
  MINIMUM_LATITUDE = 39.0466
  POSITIVE_LONGITUDE_DIRECTION = EAST
  REFERENCE_LATITUDE = "N/A"
  REFERENCE_LONGITUDE = "N/A"
  SAMPLE_FIRST_PIXEL = 1
  SAMPLE_LAST_PIXEL = 4931
  SAMPLE_PROJECTION_OFFSET = 3028.75
  SECOND_STANDARD_PARALLEL = "N/A"
  WESTERNMOST_LONGITUDE = 144.742
END_OBJECT = IMAGE_MAP_PROJECTION
/* The JPEG2000 image data file associated with this label. */
OBJECT = COMPRESSED_FILE
  FILE_NAME = "HF698_0000_S13.JP2"
  RECORD_TYPE = UNDEFINED
  FILE_RECORDS = UNK
  ENCODING_TYPE = "JP2"
  INTERCHANGE_FORMAT = BINARY
  UNCOMPRESSED_FILE_NAME = "HF698_0000_S13.IMG"
  REQUIRED_STORAGE_BYTES = "175528807"
  ^DESCRIPTION = "JP2INFO.TXT"
END_OBJECT = COMPRESSED_FILE
END
