PDS_VERSION_ID = PDS3
/* FILE DATA ELEMENTS */
RECORD_TYPE = STREAM
/* POINTERS TO DATA OBJECTS */
^COMPRESSED_FILE = "HF700_0009_BL3.JP2"
/* IDENTIFICATION DATA ELEMENTS */
DATA_SET_ID = "MEX-M-HRSC-5-REFDR-MAPPROJECTED-V3.0"
DATA_SET_NAME = "MARS EXPRESS HRSC MAP PROJECTED REFDR V3.0"
DETECTOR_ID = MEX_HRSC_BLUE
EVENT_TYPE = "MARS-REGIONAL-MAPPING-Vo-Im-Fl"
INSTRUMENT_HOST_ID = MEX
INSTRUMENT_HOST_NAME = "MARS EXPRESS"
INSTRUMENT_ID = HRSC
INSTRUMENT_NAME = "HIGH RESOLUTION STEREO CAMERA"
MISSION_NAME = "MARS EXPRESS"
MISSION_PHASE_NAME = ME_Phase_34
PROCESSING_LEVEL_ID = 3
PRODUCT_CREATION_TIME = 2016-11-08T12:40:53.000Z
PRODUCT_ID = "HF700_0009_BL3.JP2"
RELEASE_ID = 0133
REVISION_ID = 0000
/* QUALITY DATA ELEMENTS */
DATA_QUALITY_ID = 1
DATA_QUALITY_DESC = "Data calculated based on original SPICE kernels"
/* TIME DATA ELEMENTS */
SPACECRAFT_CLOCK_START_COUNT = "1/0411943689.07288"
SPACECRAFT_CLOCK_STOP_COUNT = "1/0411943944.63768"
START_TIME = 2016-05-21T20:49:01.613Z
STOP_TIME = 2016-05-21T20:52:02.709Z
/* ORBITAL DATA ELEMENTS */
ASCENDING_NODE_LONGITUDE = 278.95
MAXIMUM_RESOLUTION = 58
FOOTPRINT_POINT_LATITUDE = (39.9545,39.9515,39.9439,39.9447, 39.7251,39.5051,39.1754,38.9553,38.7352 ,38.5149,38.2945,38.074,37.8533,37.6325 ,37.4118,37.1908,36.9692,36.7481, 36.5269,36.195,35.9737,35.7522,35.5307, 35.3091,35.0875,34.7547,34.5329,34.3111 ,33.6785,33.3452,33.123,32.9006,32.567, 32.2333,32.0108,31.6767,31.4567,31.2342 ,31.0117,30.789,30.5665,30.345,30.1213, 29.8992,29.6768,29.4535,29.2305,28.8963 ,28.5615,28.3377,28.2843,28.2875, 28.2896,28.6259,28.8489,29.0716,29.2948 ,29.5178,29.7406,30.0745,30.2972,30.52, 30.854,31.0747,31.2987,31.6321,31.8546, 32.0773,32.2999,32.5225,32.8562,33.1904 ,33.4126,33.635,34.2689,34.4912,34.7134 ,34.9356,35.1575,35.4903,35.7122,36.045 ,36.2667,36.4881,36.7107,36.9322, 37.1535,37.3735,37.5946,37.8158,38.0369 ,38.258,38.4789,38.6996,39.0304,39.2509 ,39.4712,39.6914,39.9115,39.9545)
FOOTPRINT_POINT_LONGITUDE = (303.646,303.373,302.837,302.328, 302.336,302.344,302.355,302.362,302.37, 302.376,302.383,302.39,302.396,302.403, 302.409,302.415,302.42,302.426,302.432, 302.44,302.445,302.45,302.455,302.46, 302.464,302.471,302.475,302.48,302.491, 302.496,302.5,302.503,302.508,302.513, 302.515,302.519,302.524,302.526,302.529 ,302.531,302.533,302.536,302.537,302.54 ,302.542,302.543,302.544,302.546, 302.548,302.548,303.056,303.373,303.833 ,304.028,304.031,304.034,304.038, 304.041,304.043,304.046,304.048,304.05, 304.053,304.046,304.055,304.056,304.058 ,304.061,304.064,304.067,304.07,304.077 ,304.079,304.082,304.094,304.098, 304.101,304.105,304.108,304.112,304.116 ,304.122,304.125,304.128,304.136,304.14 ,304.143,304.141,304.144,304.148, 304.152,304.156,304.161,304.164,304.17, 304.174,304.177,304.181,304.185, 303.646)
ORBIT_NUMBER = 15700
ORBITAL_ECCENTRICITY = 0.576
ORBITAL_INCLINATION = 86.92
ORBITAL_SEMIMAJOR_AXIS = 8840.03
PERIAPSIS_ALTITUDE = 359.63
PERIAPSIS_ARGUMENT_ANGLE = 153.31
PERIAPSIS_TIME = 2016-05-21T20:52:22.000Z
SPACECRAFT_ORIENTATION = (0.0,-1.0,0.0)
^MEX_ORIENTATION_DESC = "MEX_ORIENTATION_DESC.TXT"
SPACECRAFT_POINTING_MODE = ACROSSTRACK
^MEX_POINTING_DESC = "MEX_POINTING_DESC.TXT"
RIGHT_ASCENSION = -1e+32
DECLINATION = -1e+32
OFFSET_ANGLE = 0.87
SPACECRAFT_SOLAR_DISTANCE = 2.27772e+08
TARGET_NAME = MARS
/* CAMERA DATA ELEMENTS */
DETECTOR_TEMPERATURE = 18.3705
FOCAL_PLANE_TEMPERATURE = 8.5833
INST_CMPRS_NAME = "DISCRETE COSINE TRANSFORMATION (DCT)"
INST_CMPRS_RATIO = 3.68805
INST_CMPRS_QUALITY = 0
INST_CMPRS_QUANTZ_TBL_ID = 0
INSTRUMENT_TEMPERATURE = 11.8457
LENS_TEMPERATURE = 8.7872
MACROPIXEL_SIZE = 4
MISSING_FRAMES = 64
PIXEL_SUBSAMPLING_FLAG = N
SIGNAL_CHAIN_ID = 2
/* RADIOMETRIC DATA ELEMENTS */
BANDWIDTH = 76.0
CENTER_FILTER_WAVELENGTH = 444.0
RADIANCE_OFFSET = 0.22779
RADIANCE_SCALING_FACTOR = 0.00163257
REFLECTANCE_SCALING_FACTOR = 8.70223e-05
MEX:REFLECTANCE_OFFSET = 0.0121421
/* IMAGE OBJECT DEFINITIONS */
OBJECT = IMAGE
  INTERCHANGE_FORMAT = BINARY
  LINES = 13864
  LINE_SAMPLES = 1788
  SAMPLE_TYPE = UNSIGNED_INTEGER
  SAMPLE_BITS = 8
  BANDS = 1
  BAND_STORAGE_TYPE = BAND_SEQUENTIAL
  MAXIMUM = 255
  MEAN = 110.941
  MINIMUM = 1
  STANDARD_DEVIATION = 22.6434
END_OBJECT = IMAGE
/* MAP OBJECT DEFINITIONS */
OBJECT = IMAGE_MAP_PROJECTION
  ^DATA_SET_MAP_PROJECTION_CATALOG= "DSMAP.CAT"
  A_AXIS_RADIUS = 3396.0
  B_AXIS_RADIUS = 3396.0
  C_AXIS_RADIUS = 3396.0
  CENTER_LATITUDE = 0.0
  CENTER_LONGITUDE = 303.0
  COORDINATE_SYSTEM_NAME = PLANETOGRAPHIC
  COORDINATE_SYSTEM_TYPE = "BODY-FIXED ROTATING"
  EASTERNMOST_LONGITUDE = 304.185
  FIRST_STANDARD_PARALLEL = "N/A"
  LINE_FIRST_PIXEL = 1
  LINE_LAST_PIXEL = 13864
  LINE_PROJECTION_OFFSET = 47380.625
  MAP_PROJECTION_ROTATION = 0.0
  MAP_PROJECTION_TYPE = SINUSOIDAL
  MAP_RESOLUTION = 1185.42760773333
  MAP_SCALE = 0.05
  MAXIMUM_LATITUDE = 39.9545
  MINIMUM_LATITUDE = 28.2843
  POSITIVE_LONGITUDE_DIRECTION = EAST
  REFERENCE_LATITUDE = "N/A"
  REFERENCE_LONGITUDE = "N/A"
  SAMPLE_FIRST_PIXEL = 1
  SAMPLE_LAST_PIXEL = 1788
  SAMPLE_PROJECTION_OFFSET = 631.125
  SECOND_STANDARD_PARALLEL = "N/A"
  WESTERNMOST_LONGITUDE = 302.328
END_OBJECT = IMAGE_MAP_PROJECTION
/* The JPEG2000 image data file associated with this label. */
OBJECT = COMPRESSED_FILE
  FILE_NAME = "HF700_0009_BL3.JP2"
  RECORD_TYPE = UNDEFINED
  FILE_RECORDS = UNK
  ENCODING_TYPE = "JP2"
  INTERCHANGE_FORMAT = BINARY
  UNCOMPRESSED_FILE_NAME = "HF700_0009_BL3.IMG"
  REQUIRED_STORAGE_BYTES = "24808500"
  ^DESCRIPTION = "JP2INFO.TXT"
END_OBJECT = COMPRESSED_FILE
END
