PDS_VERSION_ID = PDS3
/* FILE DATA ELEMENTS */
RECORD_TYPE = STREAM
/* POINTERS TO DATA OBJECTS */
^COMPRESSED_FILE = "HF703_0000_S23.JP2"
/* IDENTIFICATION DATA ELEMENTS */
DATA_SET_ID = "MEX-M-HRSC-5-REFDR-MAPPROJECTED-V3.0"
DATA_SET_NAME = "MARS EXPRESS HRSC MAP PROJECTED REFDR V3.0"
DETECTOR_ID = MEX_HRSC_S2
EVENT_TYPE = "MARS-LOCAL-STEREO-Im-La-Tc"
INSTRUMENT_HOST_ID = MEX
INSTRUMENT_HOST_NAME = "MARS EXPRESS"
INSTRUMENT_ID = HRSC
INSTRUMENT_NAME = "HIGH RESOLUTION STEREO CAMERA"
MISSION_NAME = "MARS EXPRESS"
MISSION_PHASE_NAME = ME_Phase_34
PROCESSING_LEVEL_ID = 3
PRODUCT_CREATION_TIME = 2016-11-08T12:40:53.000Z
PRODUCT_ID = "HF703_0000_S23.JP2"
RELEASE_ID = 0133
REVISION_ID = 0000
/* QUALITY DATA ELEMENTS */
DATA_QUALITY_ID = 1
DATA_QUALITY_DESC = "Data calculated based on original SPICE kernels"
/* TIME DATA ELEMENTS */
SPACECRAFT_CLOCK_START_COUNT = "1/0412019777.07320"
SPACECRAFT_CLOCK_STOP_COUNT = "1/0412020050.62937"
START_TIME = 2016-05-22T17:57:50.010Z
STOP_TIME = 2016-05-22T18:00:56.361Z
/* ORBITAL DATA ELEMENTS */
ASCENDING_NODE_LONGITUDE = 278.9
MAXIMUM_RESOLUTION = 20.3
FOOTPRINT_POINT_LATITUDE = (6.59341,6.58876,6.58451,6.58071, 6.57732,6.57425,6.30774,5.93692,5.65422 ,5.46568,5.2767,4.99275,4.80145,4.61012 ,4.23452,4.04151,3.83823,3.64616, 3.45293,3.25468,3.05807,2.86184,2.66471 ,2.4654,2.26661,2.06814,1.76668,1.56502 ,1.26254,1.05831,0.751987,0.44279, 0.236091,0.02999,-0.178182,-0.387599, -0.596616,-0.807704,-1.01953,-1.23077, -1.44492,-1.76597,-1.9819,-2.19828, -2.4139,-2.63238,-2.96021,-3.18101, -3.40157,-3.53235,-3.53267,-3.53027, -3.52567,-3.52619,-3.52352,-3.52009, -3.51584,-3.29497,-3.07368,-2.74485, -2.52565,-2.20035,-1.98348,-1.76784, -1.44676,-1.23178,-1.02005,-0.808314, -0.595476,-0.387258,-0.177207,0.0318909 ,0.238362,0.444522,0.656488,0.958191, 1.1626,1.36596,1.56787,1.76933,2.07167, 2.27017,2.56874,2.76782,2.96368,3.16023 ,3.35746,3.6516,3.94219,4.13625,4.32972 ,4.52122,4.80789,5.00207,5.19541, 5.38388,5.75629,6.13248,6.50355, 6.59341)
FOOTPRINT_POINT_LONGITUDE = (356.408,356.138,355.87,355.604,355.339 ,355.075,354.942,354.931,354.922, 354.916,354.91,354.901,354.895,354.889, 354.876,354.869,354.863,354.856,354.85, 354.843,354.836,354.829,354.822,354.815 ,354.808,354.8,354.789,354.781,354.77, 354.762,354.75,354.738,354.73,354.722, 354.713,354.704,354.696,354.687,354.678 ,354.669,354.66,354.646,354.637,354.627 ,354.618,354.608,354.593,354.583, 354.573,354.823,355.166,355.509,355.747 ,355.942,356.137,356.442,356.759, 356.755,356.752,356.746,356.743,356.738 ,356.734,356.731,356.726,356.724, 356.721,356.718,356.716,356.713,356.711 ,356.708,356.705,356.703,356.702, 356.697,356.695,356.692,356.69,356.688, 356.685,356.683,356.68,356.678,356.676, 356.675,356.673,356.671,356.669,356.667 ,356.666,356.665,356.663,356.663, 356.663,356.662,356.657,356.656,356.653 ,356.408)
ORBIT_NUMBER = 15703
ORBITAL_ECCENTRICITY = 0.575
ORBITAL_INCLINATION = 86.92
ORBITAL_SEMIMAJOR_AXIS = 8837.91
PERIAPSIS_ALTITUDE = 360.21
PERIAPSIS_ARGUMENT_ANGLE = 152.75
PERIAPSIS_TIME = 2016-05-22T17:51:40.000Z
SPACECRAFT_ORIENTATION = (0.0,-1.0,0.0)
^MEX_ORIENTATION_DESC = "MEX_ORIENTATION_DESC.TXT"
SPACECRAFT_POINTING_MODE = ACROSSTRACK
^MEX_POINTING_DESC = "MEX_POINTING_DESC.TXT"
RIGHT_ASCENSION = -1e+32
DECLINATION = -1e+32
OFFSET_ANGLE = 0.55
SPACECRAFT_SOLAR_DISTANCE = 2.27601e+08
TARGET_NAME = MARS
/* CAMERA DATA ELEMENTS */
DETECTOR_TEMPERATURE = 18.5744
FOCAL_PLANE_TEMPERATURE = 8.1755
INST_CMPRS_NAME = "DISCRETE COSINE TRANSFORMATION (DCT)"
INST_CMPRS_RATIO = 6.69901
INST_CMPRS_QUALITY = 0
INST_CMPRS_QUANTZ_TBL_ID = 0
INSTRUMENT_TEMPERATURE = 11.6418
LENS_TEMPERATURE = 8.9911
MACROPIXEL_SIZE = 1
MISSING_FRAMES = 0
PIXEL_SUBSAMPLING_FLAG = N
SIGNAL_CHAIN_ID = 1
/* RADIOMETRIC DATA ELEMENTS */
BANDWIDTH = 178.0
CENTER_FILTER_WAVELENGTH = 679.0
RADIANCE_OFFSET = 1.43382
RADIANCE_SCALING_FACTOR = 0.0121972
REFLECTANCE_SCALING_FACTOR = 0.00033461
MEX:REFLECTANCE_OFFSET = 0.0393344
/* IMAGE OBJECT DEFINITIONS */
OBJECT = IMAGE
  INTERCHANGE_FORMAT = BINARY
  LINES = 48142
  LINE_SAMPLES = 9745
  SAMPLE_TYPE = UNSIGNED_INTEGER
  SAMPLE_BITS = 8
  BANDS = 1
  BAND_STORAGE_TYPE = BAND_SEQUENTIAL
  MAXIMUM = 255
  MEAN = 68.5334
  MINIMUM = 1
  STANDARD_DEVIATION = 31.5564
END_OBJECT = IMAGE
/* MAP OBJECT DEFINITIONS */
OBJECT = IMAGE_MAP_PROJECTION
  ^DATA_SET_MAP_PROJECTION_CATALOG= "DSMAP.CAT"
  A_AXIS_RADIUS = 3396.0
  B_AXIS_RADIUS = 3396.0
  C_AXIS_RADIUS = 3396.0
  CENTER_LATITUDE = 0.0
  CENTER_LONGITUDE = 356.0
  COORDINATE_SYSTEM_NAME = PLANETOGRAPHIC
  COORDINATE_SYSTEM_TYPE = "BODY-FIXED ROTATING"
  EASTERNMOST_LONGITUDE = 356.759
  FIRST_STANDARD_PARALLEL = "N/A"
  LINE_FIRST_PIXEL = 1
  LINE_LAST_PIXEL = 48142
  LINE_PROJECTION_OFFSET = 31274.0
  MAP_PROJECTION_ROTATION = 0.0
  MAP_PROJECTION_TYPE = SINUSOIDAL
  MAP_RESOLUTION = 4741.71043093333
  MAP_SCALE = 0.0125
  MAXIMUM_LATITUDE = 6.59341
  MINIMUM_LATITUDE = -3.53267
  POSITIVE_LONGITUDE_DIRECTION = EAST
  REFERENCE_LATITUDE = "N/A"
  REFERENCE_LONGITUDE = "N/A"
  SAMPLE_FIRST_PIXEL = 1
  SAMPLE_LAST_PIXEL = 9745
  SAMPLE_PROJECTION_OFFSET = 6382.0
  SECOND_STANDARD_PARALLEL = "N/A"
  WESTERNMOST_LONGITUDE = 354.573
END_OBJECT = IMAGE_MAP_PROJECTION
/* The JPEG2000 image data file associated with this label. */
OBJECT = COMPRESSED_FILE
  FILE_NAME = "HF703_0000_S23.JP2"
  RECORD_TYPE = UNDEFINED
  FILE_RECORDS = UNK
  ENCODING_TYPE = "JP2"
  INTERCHANGE_FORMAT = BINARY
  UNCOMPRESSED_FILE_NAME = "HF703_0000_S23.IMG"
  REQUIRED_STORAGE_BYTES = "469173025"
  ^DESCRIPTION = "JP2INFO.TXT"
END_OBJECT = COMPRESSED_FILE
END
