PDS_VERSION_ID = PDS3
/* FILE DATA ELEMENTS */
RECORD_TYPE = STREAM
/* POINTERS TO DATA OBJECTS */
^COMPRESSED_FILE = "HF705_0000_IR3.JP2"
/* IDENTIFICATION DATA ELEMENTS */
DATA_SET_ID = "MEX-M-HRSC-5-REFDR-MAPPROJECTED-V3.0"
DATA_SET_NAME = "MARS EXPRESS HRSC MAP PROJECTED REFDR V3.0"
DETECTOR_ID = MEX_HRSC_IR
EVENT_TYPE = "MARS-REGIONAL-MAPPING-Vo-Te-Fl"
INSTRUMENT_HOST_ID = MEX
INSTRUMENT_HOST_NAME = "MARS EXPRESS"
INSTRUMENT_ID = HRSC
INSTRUMENT_NAME = "HIGH RESOLUTION STEREO CAMERA"
MISSION_NAME = "MARS EXPRESS"
MISSION_PHASE_NAME = ME_Phase_34
PROCESSING_LEVEL_ID = 3
PRODUCT_CREATION_TIME = 2016-11-08T12:40:53.000Z
PRODUCT_ID = "HF705_0000_IR3.JP2"
RELEASE_ID = 0133
REVISION_ID = 0000
/* QUALITY DATA ELEMENTS */
DATA_QUALITY_ID = 1
DATA_QUALITY_DESC = "Data calculated based on original SPICE kernels"
/* TIME DATA ELEMENTS */
SPACECRAFT_CLOCK_START_COUNT = "1/0412069774.09052"
SPACECRAFT_CLOCK_STOP_COUNT = "1/0412070040.40815"
START_TIME = 2016-05-23T07:49:47.401Z
STOP_TIME = 2016-05-23T07:53:03.260Z
/* ORBITAL DATA ELEMENTS */
ASCENDING_NODE_LONGITUDE = 278.85
MAXIMUM_RESOLUTION = 59.9
FOOTPRINT_POINT_LATITUDE = (31.8294,31.8275,31.8248,31.8221,31.809 ,31.5608,31.3068,31.051,30.6679,30.4107 ,30.1608,29.9123,29.5388,29.2895, 29.0411,28.6674,28.2927,27.9178,27.6678 ,27.2924,27.0422,26.7914,26.54,26.2886, 26.0379,25.7855,25.5333,25.1549,24.7752 ,24.3941,24.014,23.7603,23.5071,23.2531 ,22.8708,22.6161,22.3609,22.1062, 21.8509,21.4686,21.086,20.8306,20.5754, 20.3199,20.065,19.8125,19.5657,19.3159, 19.1792,19.1722,19.1856,19.1795,19.1766 ,19.1688,19.4223,19.6744,19.9294, 20.1843,20.44,20.6956,20.9508,21.3336, 21.5884,21.844,22.0988,22.3533,22.6078, 22.8625,23.117,23.4983,23.7524,24.0063, 24.3867,24.6402,25.0192,25.272,25.5244, 25.7774,26.0298,26.4072,26.7846,27.0364 ,27.4132,27.6648,28.0413,28.2924, 28.5433,28.7935,29.1686,29.4192,29.6692 ,29.919,30.169,30.4186,30.7929,31.045, 31.2987,31.5503,31.7986,31.8294)
FOOTPRINT_POINT_LONGITUDE = (151.138,150.803,150.51,150.287,149.849 ,149.855,149.859,149.862,149.867, 149.869,149.875,149.88,149.888,149.894, 149.899,149.907,149.914,149.92,149.924, 149.931,149.935,149.938,149.942,149.945 ,149.948,149.951,149.954,149.957,149.96 ,149.963,149.965,149.966,149.968, 149.969,149.97,149.971,149.971,149.971, 149.971,149.971,149.971,149.971,149.971 ,149.97,149.969,149.97,149.972,149.973, 150.122,150.284,150.526,150.853,151.043 ,151.327,151.328,151.33,151.331,151.331 ,151.331,151.332,151.332,151.333, 151.333,151.333,151.334,151.335,151.335 ,151.336,151.336,151.337,151.337, 151.338,151.339,151.34,151.341,151.342, 151.343,151.343,151.344,151.346,151.347 ,151.348,151.35,151.35,151.352,151.353, 151.354,151.355,151.356,151.357,151.358 ,151.358,151.359,151.36,151.361,151.36, 151.359,151.359,151.359,151.138)
ORBIT_NUMBER = 15705
ORBITAL_ECCENTRICITY = 0.575
ORBITAL_INCLINATION = 86.92
ORBITAL_SEMIMAJOR_AXIS = 8838.85
PERIAPSIS_ALTITUDE = 360.66
PERIAPSIS_ARGUMENT_ANGLE = 152.45
PERIAPSIS_TIME = 2016-05-23T07:51:21.000Z
SPACECRAFT_ORIENTATION = (0.0,-1.0,0.0)
^MEX_ORIENTATION_DESC = "MEX_ORIENTATION_DESC.TXT"
SPACECRAFT_POINTING_MODE = NADIR
^MEX_POINTING_DESC = "MEX_POINTING_DESC.TXT"
RIGHT_ASCENSION = -1e+32
DECLINATION = -1e+32
OFFSET_ANGLE = -1e+32
SPACECRAFT_SOLAR_DISTANCE = 2.27488e+08
TARGET_NAME = MARS
/* CAMERA DATA ELEMENTS */
DETECTOR_TEMPERATURE = 18.1666
FOCAL_PLANE_TEMPERATURE = 7.7677
INST_CMPRS_NAME = "DISCRETE COSINE TRANSFORMATION (DCT)"
INST_CMPRS_RATIO = 6.06851
INST_CMPRS_QUALITY = 0
INST_CMPRS_QUANTZ_TBL_ID = 0
INSTRUMENT_TEMPERATURE = 11.8457
LENS_TEMPERATURE = 8.7872
MACROPIXEL_SIZE = 4
MISSING_FRAMES = 0
PIXEL_SUBSAMPLING_FLAG = N
SIGNAL_CHAIN_ID = 2
/* RADIOMETRIC DATA ELEMENTS */
BANDWIDTH = 81.0
CENTER_FILTER_WAVELENGTH = 955.5
RADIANCE_OFFSET = 0.413105
RADIANCE_SCALING_FACTOR = 0.0063422
REFLECTANCE_SCALING_FACTOR = 0.000708083
MEX:REFLECTANCE_OFFSET = 0.0461216
/* IMAGE OBJECT DEFINITIONS */
OBJECT = IMAGE
  INTERCHANGE_FORMAT = BINARY
  LINES = 14995
  LINE_SAMPLES = 1633
  SAMPLE_TYPE = UNSIGNED_INTEGER
  SAMPLE_BITS = 8
  BANDS = 1
  BAND_STORAGE_TYPE = BAND_SEQUENTIAL
  MAXIMUM = 255
  MEAN = 84.2881
  MINIMUM = 1
  STANDARD_DEVIATION = 17.5055
END_OBJECT = IMAGE
/* MAP OBJECT DEFINITIONS */
OBJECT = IMAGE_MAP_PROJECTION
  ^DATA_SET_MAP_PROJECTION_CATALOG= "DSMAP.CAT"
  A_AXIS_RADIUS = 3396.0
  B_AXIS_RADIUS = 3396.0
  C_AXIS_RADIUS = 3396.0
  CENTER_LATITUDE = 0.0
  CENTER_LONGITUDE = 151.0
  COORDINATE_SYSTEM_NAME = PLANETOGRAPHIC
  COORDINATE_SYSTEM_TYPE = "BODY-FIXED ROTATING"
  EASTERNMOST_LONGITUDE = 151.361
  FIRST_STANDARD_PARALLEL = "N/A"
  LINE_FIRST_PIXEL = 1
  LINE_LAST_PIXEL = 14995
  LINE_PROJECTION_OFFSET = 37705.125
  MAP_PROJECTION_ROTATION = 0.0
  MAP_PROJECTION_TYPE = SINUSOIDAL
  MAP_RESOLUTION = 1185.42760773333
  MAP_SCALE = 0.05
  MAXIMUM_LATITUDE = 31.8294
  MINIMUM_LATITUDE = 19.1688
  POSITIVE_LONGITUDE_DIRECTION = EAST
  REFERENCE_LATITUDE = "N/A"
  REFERENCE_LONGITUDE = "N/A"
  SAMPLE_FIRST_PIXEL = 1
  SAMPLE_LAST_PIXEL = 1633
  SAMPLE_PROJECTION_OFFSET = 1212.375
  SECOND_STANDARD_PARALLEL = "N/A"
  WESTERNMOST_LONGITUDE = 149.849
END_OBJECT = IMAGE_MAP_PROJECTION
/* The JPEG2000 image data file associated with this label. */
OBJECT = COMPRESSED_FILE
  FILE_NAME = "HF705_0000_IR3.JP2"
  RECORD_TYPE = UNDEFINED
  FILE_RECORDS = UNK
  ENCODING_TYPE = "JP2"
  INTERCHANGE_FORMAT = BINARY
  UNCOMPRESSED_FILE_NAME = "HF705_0000_IR3.IMG"
  REQUIRED_STORAGE_BYTES = "24506431"
  ^DESCRIPTION = "JP2INFO.TXT"
END_OBJECT = COMPRESSED_FILE
END
