PDS_VERSION_ID = PDS3
/* FILE DATA ELEMENTS */
RECORD_TYPE = STREAM
/* POINTERS TO DATA OBJECTS */
^COMPRESSED_FILE = "HF705_0000_S13.JP2"
/* IDENTIFICATION DATA ELEMENTS */
DATA_SET_ID = "MEX-M-HRSC-5-REFDR-MAPPROJECTED-V3.0"
DATA_SET_NAME = "MARS EXPRESS HRSC MAP PROJECTED REFDR V3.0"
DETECTOR_ID = MEX_HRSC_S1
EVENT_TYPE = "MARS-REGIONAL-MAPPING-Vo-Te-Fl"
INSTRUMENT_HOST_ID = MEX
INSTRUMENT_HOST_NAME = "MARS EXPRESS"
INSTRUMENT_ID = HRSC
INSTRUMENT_NAME = "HIGH RESOLUTION STEREO CAMERA"
MISSION_NAME = "MARS EXPRESS"
MISSION_PHASE_NAME = ME_Phase_34
PROCESSING_LEVEL_ID = 3
PRODUCT_CREATION_TIME = 2016-11-08T12:40:53.000Z
PRODUCT_ID = "HF705_0000_S13.JP2"
RELEASE_ID = 0133
REVISION_ID = 0000
/* QUALITY DATA ELEMENTS */
DATA_QUALITY_ID = 1
DATA_QUALITY_DESC = "Data calculated based on original SPICE kernels"
/* TIME DATA ELEMENTS */
SPACECRAFT_CLOCK_START_COUNT = "1/0412069774.09052"
SPACECRAFT_CLOCK_STOP_COUNT = "1/0412070040.40815"
START_TIME = 2016-05-23T07:49:41.567Z
STOP_TIME = 2016-05-23T07:52:57.661Z
/* ORBITAL DATA ELEMENTS */
ASCENDING_NODE_LONGITUDE = 278.85
MAXIMUM_RESOLUTION = 30.5
FOOTPRINT_POINT_LATITUDE = (31.8386,31.8366,31.8337,31.8308, 31.8272,31.6859,31.4365,31.1809,30.9219 ,30.6643,30.4092,30.161,29.9135,29.666, 29.4175,29.1704,28.9225,28.6738,28.4253 ,28.1763,27.926,27.6768,27.3032,27.0538 ,26.8036,26.5529,26.302,25.9256,25.6736 ,25.4218,25.1698,24.7908,24.5375, 24.2829,24.0296,23.7759,23.5227,23.2687 ,23.0137,22.6312,22.3756,22.1204,21.865 ,21.6094,21.3505,20.9671,20.7115, 20.4556,20.0719,19.8197,19.5742,19.3246 ,19.1819,19.1889,19.1814,19.1699, 19.4235,19.6754,19.9312,20.1866,20.443, 20.6991,20.9548,21.2104,21.5966,21.8528 ,22.235,22.4897,22.8718,23.1266,23.508, 23.7622,24.0161,24.2694,24.523,24.7755, 25.1543,25.6593,25.9117,26.1622,26.4138 ,26.7905,27.0419,27.2922,27.5431, 27.9186,28.2946,28.5448,28.7945,29.0432 ,29.4179,29.7915,30.1649,30.4138, 30.6624,30.9108,31.1632,31.4158,31.6662 ,31.8386)
FOOTPRINT_POINT_LONGITUDE = (151.235,150.827,150.52,150.287,150.054 ,149.846,149.852,149.855,149.858,149.86 ,149.864,149.869,149.875,149.881, 149.886,149.892,149.897,149.902,149.907 ,149.911,149.915,149.92,149.926,149.93, 149.934,149.937,149.941,149.945,149.948 ,149.951,149.953,149.957,149.959,149.96 ,149.962,149.963,149.965,149.966, 149.967,149.968,149.968,149.968,149.969 ,149.969,149.969,149.969,149.968, 149.968,149.967,149.968,149.97,149.971, 150.178,150.507,150.873,151.327,151.328 ,151.33,151.331,151.331,151.332,151.332 ,151.332,151.333,151.334,151.334, 151.335,151.336,151.337,151.337,151.338 ,151.339,151.339,151.34,151.341,151.342 ,151.343,151.345,151.346,151.347, 151.348,151.35,151.35,151.352,151.353, 151.354,151.355,151.356,151.357,151.359 ,151.36,151.361,151.363,151.363,151.364 ,151.365,151.364,151.363,151.363, 151.235)
ORBIT_NUMBER = 15705
ORBITAL_ECCENTRICITY = 0.575
ORBITAL_INCLINATION = 86.92
ORBITAL_SEMIMAJOR_AXIS = 8838.85
PERIAPSIS_ALTITUDE = 360.66
PERIAPSIS_ARGUMENT_ANGLE = 152.45
PERIAPSIS_TIME = 2016-05-23T07:51:21.000Z
SPACECRAFT_ORIENTATION = (0.0,-1.0,0.0)
^MEX_ORIENTATION_DESC = "MEX_ORIENTATION_DESC.TXT"
SPACECRAFT_POINTING_MODE = NADIR
^MEX_POINTING_DESC = "MEX_POINTING_DESC.TXT"
RIGHT_ASCENSION = -1e+32
DECLINATION = -1e+32
OFFSET_ANGLE = -1e+32
SPACECRAFT_SOLAR_DISTANCE = 2.27488e+08
TARGET_NAME = MARS
/* CAMERA DATA ELEMENTS */
DETECTOR_TEMPERATURE = 18.1666
FOCAL_PLANE_TEMPERATURE = 7.7677
INST_CMPRS_NAME = "DISCRETE COSINE TRANSFORMATION (DCT)"
INST_CMPRS_RATIO = 7.22184
INST_CMPRS_QUALITY = 0
INST_CMPRS_QUANTZ_TBL_ID = 0
INSTRUMENT_TEMPERATURE = 11.8457
LENS_TEMPERATURE = 8.7872
MACROPIXEL_SIZE = 2
MISSING_FRAMES = 1
PIXEL_SUBSAMPLING_FLAG = N
SIGNAL_CHAIN_ID = 1
/* RADIOMETRIC DATA ELEMENTS */
BANDWIDTH = 180.0
CENTER_FILTER_WAVELENGTH = 677.0
RADIANCE_OFFSET = 1.86103
RADIANCE_SCALING_FACTOR = 0.0242908
REFLECTANCE_SCALING_FACTOR = 0.000655845
MEX:REFLECTANCE_OFFSET = 0.0502471
/* IMAGE OBJECT DEFINITIONS */
OBJECT = IMAGE
  INTERCHANGE_FORMAT = BINARY
  LINES = 29989
  LINE_SAMPLES = 3265
  SAMPLE_TYPE = UNSIGNED_INTEGER
  SAMPLE_BITS = 8
  BANDS = 1
  BAND_STORAGE_TYPE = BAND_SEQUENTIAL
  MAXIMUM = 255
  MEAN = 88.996
  MINIMUM = 1
  STANDARD_DEVIATION = 17.5541
END_OBJECT = IMAGE
/* MAP OBJECT DEFINITIONS */
OBJECT = IMAGE_MAP_PROJECTION
  ^DATA_SET_MAP_PROJECTION_CATALOG= "DSMAP.CAT"
  A_AXIS_RADIUS = 3396.0
  B_AXIS_RADIUS = 3396.0
  C_AXIS_RADIUS = 3396.0
  CENTER_LATITUDE = 0.0
  CENTER_LONGITUDE = 151.0
  COORDINATE_SYSTEM_NAME = PLANETOGRAPHIC
  COORDINATE_SYSTEM_TYPE = "BODY-FIXED ROTATING"
  EASTERNMOST_LONGITUDE = 151.365
  FIRST_STANDARD_PARALLEL = "N/A"
  LINE_FIRST_PIXEL = 1
  LINE_LAST_PIXEL = 29989
  LINE_PROJECTION_OFFSET = 75410.75
  MAP_PROJECTION_ROTATION = 0.0
  MAP_PROJECTION_TYPE = SINUSOIDAL
  MAP_RESOLUTION = 2370.85521546667
  MAP_SCALE = 0.025
  MAXIMUM_LATITUDE = 31.8386
  MINIMUM_LATITUDE = 19.1699
  POSITIVE_LONGITUDE_DIRECTION = EAST
  REFERENCE_LATITUDE = "N/A"
  REFERENCE_LONGITUDE = "N/A"
  SAMPLE_FIRST_PIXEL = 1
  SAMPLE_LAST_PIXEL = 3265
  SAMPLE_PROJECTION_OFFSET = 2425.25
  SECOND_STANDARD_PARALLEL = "N/A"
  WESTERNMOST_LONGITUDE = 149.846
END_OBJECT = IMAGE_MAP_PROJECTION
/* The JPEG2000 image data file associated with this label. */
OBJECT = COMPRESSED_FILE
  FILE_NAME = "HF705_0000_S13.JP2"
  RECORD_TYPE = UNDEFINED
  FILE_RECORDS = UNK
  ENCODING_TYPE = "JP2"
  INTERCHANGE_FORMAT = BINARY
  UNCOMPRESSED_FILE_NAME = "HF705_0000_S13.IMG"
  REQUIRED_STORAGE_BYTES = "97936940"
  ^DESCRIPTION = "JP2INFO.TXT"
END_OBJECT = COMPRESSED_FILE
END
