PDS_VERSION_ID = PDS3
/* FILE DATA ELEMENTS */
RECORD_TYPE = STREAM
/* POINTERS TO DATA OBJECTS */
^COMPRESSED_FILE = "HF711_0000_S23.JP2"
/* IDENTIFICATION DATA ELEMENTS */
DATA_SET_ID = "MEX-M-HRSC-5-REFDR-MAPPROJECTED-V3.0"
DATA_SET_NAME = "MARS EXPRESS HRSC MAP PROJECTED REFDR V3.0"
DETECTOR_ID = MEX_HRSC_S2
EVENT_TYPE = "MARS-REGIONAL-MAPPING-Vo-Te"
INSTRUMENT_HOST_ID = MEX
INSTRUMENT_HOST_NAME = "MARS EXPRESS"
INSTRUMENT_ID = HRSC
INSTRUMENT_NAME = "HIGH RESOLUTION STEREO CAMERA"
MISSION_NAME = "MARS EXPRESS"
MISSION_PHASE_NAME = ME_Phase_34
PROCESSING_LEVEL_ID = 3
PRODUCT_CREATION_TIME = 2016-11-08T12:40:53.000Z
PRODUCT_ID = "HF711_0000_S23.JP2"
RELEASE_ID = 0133
REVISION_ID = 0000
/* QUALITY DATA ELEMENTS */
DATA_QUALITY_ID = 1
DATA_QUALITY_DESC = "Data calculated based on original SPICE kernels"
/* TIME DATA ELEMENTS */
SPACECRAFT_CLOCK_START_COUNT = "1/0412221037.07353"
SPACECRAFT_CLOCK_STOP_COUNT = "1/0412221225.13585"
START_TIME = 2016-05-25T01:51:51.125Z
STOP_TIME = 2016-05-25T01:53:50.631Z
/* ORBITAL DATA ELEMENTS */
ASCENDING_NODE_LONGITUDE = 278.74
MAXIMUM_RESOLUTION = 31.3
FOOTPRINT_POINT_LATITUDE = (23.7608,23.7677,23.7747,23.7817, 23.7887,23.7958,23.673,23.4546,23.3032, 23.1519,23.0005,22.8492,22.6983,22.5471 ,22.3963,22.2457,22.0952,21.9446, 21.7941,21.6438,21.4187,21.2684,21.1185 ,20.9687,20.819,20.6695,20.4453,20.2962 ,20.0725,19.9232,19.7745,19.6257, 19.4772,19.3286,19.18,19.0317,18.8836, 18.7353,18.5872,18.4391,18.2915,18.1437 ,17.996,17.7009,17.4063,17.1118,16.8181 ,16.5984,16.3687,16.3591,16.3511, 16.3372,16.3267,16.3198,16.3119,16.6062 ,16.7539,16.975,17.123,17.3449,17.4923, 17.6403,17.7886,17.9367,18.1586,18.3068 ,18.455,18.6773,18.8258,18.9743,19.1231 ,19.3464,19.4954,19.7193,19.8687, 20.0178,20.1671,20.3168,20.4666,20.6162 ,20.7661,20.9161,21.0663,21.2166, 21.4419,21.5923,21.7443,21.8936,22.0443 ,22.1952,22.3463,22.4975,22.6486,22.8, 22.9514,23.103,23.2547,23.4064,23.6256, 23.7608)
FOOTPRINT_POINT_LONGITUDE = (256.57,256.352,256.132,255.912,255.689 ,255.464,255.347,255.349,255.349,255.35 ,255.351,255.352,255.353,255.354, 255.355,255.355,255.356,255.356,255.357 ,255.357,255.357,255.358,255.358, 255.358,255.358,255.358,255.358,255.358 ,255.358,255.358,255.358,255.357, 255.357,255.356,255.356,255.356,255.355 ,255.354,255.354,255.353,255.353, 255.352,255.351,255.35,255.348,255.347, 255.345,255.343,255.488,255.691,255.865 ,256.179,256.434,256.603,256.818, 256.816,256.815,256.814,256.813,256.812 ,256.811,256.81,256.81,256.809,256.807, 256.807,256.806,256.804,256.804,256.803 ,256.802,256.8,256.8,256.798,256.797, 256.796,256.795,256.795,256.794,256.793 ,256.792,256.791,256.79,256.789,256.788 ,256.787,256.786,256.785,256.784, 256.783,256.782,256.781,256.78,256.779, 256.778,256.777,256.776,256.775,256.773 ,256.57)
ORBIT_NUMBER = 15711
ORBITAL_ECCENTRICITY = 0.576
ORBITAL_INCLINATION = 86.92
ORBITAL_SEMIMAJOR_AXIS = 8848.71
PERIAPSIS_ALTITUDE = 360.41
PERIAPSIS_ARGUMENT_ANGLE = 151.38
PERIAPSIS_TIME = 2016-05-25T01:50:03.000Z
SPACECRAFT_ORIENTATION = (0.0,-1.0,0.0)
^MEX_ORIENTATION_DESC = "MEX_ORIENTATION_DESC.TXT"
SPACECRAFT_POINTING_MODE = ACROSSTRACK
^MEX_POINTING_DESC = "MEX_POINTING_DESC.TXT"
RIGHT_ASCENSION = -1e+32
DECLINATION = -1e+32
OFFSET_ANGLE = -0.6
SPACECRAFT_SOLAR_DISTANCE = 2.27146e+08
TARGET_NAME = MARS
/* CAMERA DATA ELEMENTS */
DETECTOR_TEMPERATURE = 18.9822
FOCAL_PLANE_TEMPERATURE = 8.5833
INST_CMPRS_NAME = "DISCRETE COSINE TRANSFORMATION (DCT)"
INST_CMPRS_RATIO = 7.33375
INST_CMPRS_QUALITY = 0
INST_CMPRS_QUANTZ_TBL_ID = 0
INSTRUMENT_TEMPERATURE = 11.234
LENS_TEMPERATURE = 9.3989
MACROPIXEL_SIZE = 2
MISSING_FRAMES = 0
PIXEL_SUBSAMPLING_FLAG = N
SIGNAL_CHAIN_ID = 1
/* RADIOMETRIC DATA ELEMENTS */
BANDWIDTH = 178.0
CENTER_FILTER_WAVELENGTH = 679.0
RADIANCE_OFFSET = 2.48992
RADIANCE_SCALING_FACTOR = 0.0160495
REFLECTANCE_SCALING_FACTOR = 0.000438533
MEX:REFLECTANCE_OFFSET = 0.0680339
/* IMAGE OBJECT DEFINITIONS */
OBJECT = IMAGE
  INTERCHANGE_FORMAT = BINARY
  LINES = 17630
  LINE_SAMPLES = 3442
  SAMPLE_TYPE = UNSIGNED_INTEGER
  SAMPLE_BITS = 8
  BANDS = 1
  BAND_STORAGE_TYPE = BAND_SEQUENTIAL
  MAXIMUM = 255
  MEAN = 115.863
  MINIMUM = 1
  STANDARD_DEVIATION = 23.6395
END_OBJECT = IMAGE
/* MAP OBJECT DEFINITIONS */
OBJECT = IMAGE_MAP_PROJECTION
  ^DATA_SET_MAP_PROJECTION_CATALOG= "DSMAP.CAT"
  A_AXIS_RADIUS = 3396.0
  B_AXIS_RADIUS = 3396.0
  C_AXIS_RADIUS = 3396.0
  CENTER_LATITUDE = 0.0
  CENTER_LONGITUDE = 256.0
  COORDINATE_SYSTEM_NAME = PLANETOGRAPHIC
  COORDINATE_SYSTEM_TYPE = "BODY-FIXED ROTATING"
  EASTERNMOST_LONGITUDE = 256.818
  FIRST_STANDARD_PARALLEL = "N/A"
  LINE_FIRST_PIXEL = 1
  LINE_LAST_PIXEL = 17630
  LINE_PROJECTION_OFFSET = 56428.25
  MAP_PROJECTION_ROTATION = 0.0
  MAP_PROJECTION_TYPE = SINUSOIDAL
  MAP_RESOLUTION = 2370.85521546667
  MAP_SCALE = 0.025
  MAXIMUM_LATITUDE = 23.7958
  MINIMUM_LATITUDE = 16.3119
  POSITIVE_LONGITUDE_DIRECTION = EAST
  REFERENCE_LATITUDE = "N/A"
  REFERENCE_LONGITUDE = "N/A"
  SAMPLE_FIRST_PIXEL = 1
  SAMPLE_LAST_PIXEL = 3442
  SAMPLE_PROJECTION_OFFSET = 1628.75
  SECOND_STANDARD_PARALLEL = "N/A"
  WESTERNMOST_LONGITUDE = 255.343
END_OBJECT = IMAGE_MAP_PROJECTION
/* The JPEG2000 image data file associated with this label. */
OBJECT = COMPRESSED_FILE
  FILE_NAME = "HF711_0000_S23.JP2"
  RECORD_TYPE = UNDEFINED
  FILE_RECORDS = UNK
  ENCODING_TYPE = "JP2"
  INTERCHANGE_FORMAT = BINARY
  UNCOMPRESSED_FILE_NAME = "HF711_0000_S23.IMG"
  REQUIRED_STORAGE_BYTES = "60706554"
  ^DESCRIPTION = "JP2INFO.TXT"
END_OBJECT = COMPRESSED_FILE
END
