PDS_VERSION_ID = PDS3
/* FILE DATA ELEMENTS */
RECORD_TYPE = STREAM
/* POINTERS TO DATA OBJECTS */
^COMPRESSED_FILE = "HF721_0000_P23.JP2"
/* IDENTIFICATION DATA ELEMENTS */
DATA_SET_ID = "MEX-M-HRSC-5-REFDR-MAPPROJECTED-V3.0"
DATA_SET_NAME = "MARS EXPRESS HRSC MAP PROJECTED REFDR V3.0"
DETECTOR_ID = MEX_HRSC_P2
EVENT_TYPE = "MARS-REGIONAL-MAPPING-Fl-Gl-Mw"
INSTRUMENT_HOST_ID = MEX
INSTRUMENT_HOST_NAME = "MARS EXPRESS"
INSTRUMENT_ID = HRSC
INSTRUMENT_NAME = "HIGH RESOLUTION STEREO CAMERA"
MISSION_NAME = "MARS EXPRESS"
MISSION_PHASE_NAME = ME_Phase_34
PROCESSING_LEVEL_ID = 3
PRODUCT_CREATION_TIME = 2016-11-08T12:40:53.000Z
PRODUCT_ID = "HF721_0000_P23.JP2"
RELEASE_ID = 0133
REVISION_ID = 0000
/* QUALITY DATA ELEMENTS */
DATA_QUALITY_ID = 1
DATA_QUALITY_DESC = "Data calculated based on original SPICE kernels"
/* TIME DATA ELEMENTS */
SPACECRAFT_CLOCK_START_COUNT = "1/0412472810.09035"
SPACECRAFT_CLOCK_STOP_COUNT = "1/0412473073.64236"
START_TIME = 2016-05-27T23:47:52.034Z
STOP_TIME = 2016-05-27T23:51:06.399Z
/* ORBITAL DATA ELEMENTS */
ASCENDING_NODE_LONGITUDE = 278.55
MAXIMUM_RESOLUTION = 60.4
FOOTPRINT_POINT_LATITUDE = (31.2616,31.2622,31.2626,31.2629, 31.2629,31.2627,30.9542,30.7238,30.4936 ,30.2639,30.0341,29.6894,29.4589, 29.2293,29.0001,28.7708,28.5414,28.3123 ,28.0834,27.7399,27.5113,27.2827, 27.0546,26.8264,26.5982,26.3702,26.1423 ,25.8007,25.4594,25.2321,25.0049, 24.7779,24.3876,24.1172,23.712,23.4428, 23.0383,22.6347,22.3661,22.0979,21.6955 ,21.428,21.0269,20.76,20.4935,20.0939, 19.8282,19.5629,19.165,18.9588,18.9546, 18.9501,18.9464,18.9434,18.941,19.2062, 19.4716,19.7372,20.1368,20.4035,20.6703 ,20.9375,21.2051,21.4731,21.7412, 22.0096,22.2782,22.6818,22.9511,23.2207 ,23.4901,23.7602,24.0306,24.3013, 24.7044,24.9318,25.2729,25.5003,25.7281 ,25.9563,26.1843,26.5268,26.8695, 27.2126,27.5561,27.8996,28.1287,28.4727 ,28.7022,28.9319,29.1621,29.5072, 29.7373,29.9674,30.1978,30.4283,30.6588 ,30.8894,31.1203,31.2616)
FOOTPRINT_POINT_LONGITUDE = (313.573,313.356,313.138,312.919, 312.699,312.437,312.411,312.416,312.421 ,312.425,312.429,312.436,312.441, 312.445,312.448,312.452,312.455,312.459 ,312.462,312.467,312.47,312.472,312.475 ,312.477,312.48,312.482,312.484,312.487 ,312.49,312.491,312.493,312.494,312.496 ,312.498,312.499,312.5,312.501,312.502, 312.502,312.502,312.502,312.501,312.501 ,312.5,312.499,312.497,312.496,312.494, 312.492,312.587,312.879,313.237,313.498 ,313.717,313.968,313.967,313.966, 313.965,313.963,313.962,313.961,313.96, 313.959,313.958,313.957,313.956,313.955 ,313.953,313.952,313.951,313.949, 313.948,313.947,313.946,313.944,313.943 ,313.942,313.941,313.939,313.938, 313.937,313.936,313.934,313.932,313.93, 313.929,313.927,313.925,313.924,313.923 ,313.922,313.92,313.918,313.917,313.915 ,313.914,313.912,313.911,313.909, 313.573)
ORBIT_NUMBER = 15721
ORBITAL_ECCENTRICITY = 0.575
ORBITAL_INCLINATION = 86.94
ORBITAL_SEMIMAJOR_AXIS = 8831.99
PERIAPSIS_ALTITUDE = 362.0
PERIAPSIS_ARGUMENT_ANGLE = 149.67
PERIAPSIS_TIME = 2016-05-27T23:47:46.000Z
SPACECRAFT_ORIENTATION = (0.0,-1.0,0.0)
^MEX_ORIENTATION_DESC = "MEX_ORIENTATION_DESC.TXT"
SPACECRAFT_POINTING_MODE = ACROSSTRACK
^MEX_POINTING_DESC = "MEX_POINTING_DESC.TXT"
RIGHT_ASCENSION = -1e+32
DECLINATION = -1e+32
OFFSET_ANGLE = -0.3
SPACECRAFT_SOLAR_DISTANCE = 2.26576e+08
TARGET_NAME = MARS
/* CAMERA DATA ELEMENTS */
DETECTOR_TEMPERATURE = 18.9822
FOCAL_PLANE_TEMPERATURE = 8.1755
INST_CMPRS_NAME = "DISCRETE COSINE TRANSFORMATION (DCT)"
INST_CMPRS_RATIO = 7.69625
INST_CMPRS_QUALITY = 0
INST_CMPRS_QUANTZ_TBL_ID = 0
INSTRUMENT_TEMPERATURE = 11.4379
LENS_TEMPERATURE = 8.7872
MACROPIXEL_SIZE = 4
MISSING_FRAMES = 0
PIXEL_SUBSAMPLING_FLAG = N
SIGNAL_CHAIN_ID = 3
/* RADIOMETRIC DATA ELEMENTS */
BANDWIDTH = 177.0
CENTER_FILTER_WAVELENGTH = 676.5
RADIANCE_OFFSET = 1.73676
RADIANCE_SCALING_FACTOR = 0.010916
REFLECTANCE_SCALING_FACTOR = 0.000297131
MEX:REFLECTANCE_OFFSET = 0.0472744
/* IMAGE OBJECT DEFINITIONS */
OBJECT = IMAGE
  INTERCHANGE_FORMAT = BINARY
  LINES = 14643
  LINE_SAMPLES = 1733
  SAMPLE_TYPE = UNSIGNED_INTEGER
  SAMPLE_BITS = 8
  BANDS = 1
  BAND_STORAGE_TYPE = BAND_SEQUENTIAL
  MAXIMUM = 255
  MEAN = 104.799
  MINIMUM = 1
  STANDARD_DEVIATION = 19.577
END_OBJECT = IMAGE
/* MAP OBJECT DEFINITIONS */
OBJECT = IMAGE_MAP_PROJECTION
  ^DATA_SET_MAP_PROJECTION_CATALOG= "DSMAP.CAT"
  A_AXIS_RADIUS = 3396.0
  B_AXIS_RADIUS = 3396.0
  C_AXIS_RADIUS = 3396.0
  CENTER_LATITUDE = 0.0
  CENTER_LONGITUDE = 313.0
  COORDINATE_SYSTEM_NAME = PLANETOGRAPHIC
  COORDINATE_SYSTEM_TYPE = "BODY-FIXED ROTATING"
  EASTERNMOST_LONGITUDE = 313.968
  FIRST_STANDARD_PARALLEL = "N/A"
  LINE_FIRST_PIXEL = 1
  LINE_LAST_PIXEL = 14643
  LINE_PROJECTION_OFFSET = 37084.625
  MAP_PROJECTION_ROTATION = 0.0
  MAP_PROJECTION_TYPE = SINUSOIDAL
  MAP_RESOLUTION = 1185.42760773333
  MAP_SCALE = 0.05
  MAXIMUM_LATITUDE = 31.2629
  MINIMUM_LATITUDE = 18.941
  POSITIVE_LONGITUDE_DIRECTION = EAST
  REFERENCE_LATITUDE = "N/A"
  REFERENCE_LONGITUDE = "N/A"
  SAMPLE_FIRST_PIXEL = 1
  SAMPLE_LAST_PIXEL = 1733
  SAMPLE_PROJECTION_OFFSET = 644.375
  SECOND_STANDARD_PARALLEL = "N/A"
  WESTERNMOST_LONGITUDE = 312.411
END_OBJECT = IMAGE_MAP_PROJECTION
/* The JPEG2000 image data file associated with this label. */
OBJECT = COMPRESSED_FILE
  FILE_NAME = "HF721_0000_P23.JP2"
  RECORD_TYPE = UNDEFINED
  FILE_RECORDS = UNK
  ENCODING_TYPE = "JP2"
  INTERCHANGE_FORMAT = BINARY
  UNCOMPRESSED_FILE_NAME = "HF721_0000_P23.IMG"
  REQUIRED_STORAGE_BYTES = "25397115"
  ^DESCRIPTION = "JP2INFO.TXT"
END_OBJECT = COMPRESSED_FILE
END
