PDS_VERSION_ID = PDS3
/* FILE DATA ELEMENTS */
RECORD_TYPE = STREAM
/* POINTERS TO DATA OBJECTS */
^COMPRESSED_FILE = "HF722_0000_P13.JP2"
/* IDENTIFICATION DATA ELEMENTS */
DATA_SET_ID = "MEX-M-HRSC-5-REFDR-MAPPROJECTED-V3.0"
DATA_SET_NAME = "MARS EXPRESS HRSC MAP PROJECTED REFDR V3.0"
DETECTOR_ID = MEX_HRSC_P1
EVENT_TYPE = "MARS-REGIONAL-MAPPING-Te-Mw-Ls"
INSTRUMENT_HOST_ID = MEX
INSTRUMENT_HOST_NAME = "MARS EXPRESS"
INSTRUMENT_ID = HRSC
INSTRUMENT_NAME = "HIGH RESOLUTION STEREO CAMERA"
MISSION_NAME = "MARS EXPRESS"
MISSION_PHASE_NAME = ME_Phase_34
PROCESSING_LEVEL_ID = 3
PRODUCT_CREATION_TIME = 2016-11-08T12:40:53.000Z
PRODUCT_ID = "HF722_0000_P13.JP2"
RELEASE_ID = 0133
REVISION_ID = 0000
/* QUALITY DATA ELEMENTS */
DATA_QUALITY_ID = 1
DATA_QUALITY_DESC = "Data calculated based on original SPICE kernels"
/* TIME DATA ELEMENTS */
SPACECRAFT_CLOCK_START_COUNT = "1/0412497946.09055"
SPACECRAFT_CLOCK_STOP_COUNT = "1/0412498143.25286"
START_TIME = 2016-05-28T06:46:05.119Z
STOP_TIME = 2016-05-28T06:48:13.465Z
/* ORBITAL DATA ELEMENTS */
ASCENDING_NODE_LONGITUDE = 278.54
MAXIMUM_RESOLUTION = 59.9
FOOTPRINT_POINT_LATITUDE = (34.32,34.3238,34.3258,34.3272,34.328, 34.3283,34.328,34.0405,33.7128,33.3029, 33.0568,32.7285,32.5642,32.4,32.2354, 32.0709,31.9063,31.7416,31.5769,31.4121 ,31.2472,31.0823,30.9173,30.7523, 30.5873,30.4221,30.257,30.0917,29.9265, 29.7611,29.5957,29.4303,29.2648,29.0993 ,28.9337,28.7681,28.6024,28.4367,28.271 ,28.1052,27.9393,27.6915,27.5257, 27.2776,27.1114,26.9455,26.7792,26.5299 ,26.3641,26.198,26.0296,26.0278,26.0242 ,26.0211,26.0176,26.1815,26.3476, 26.5965,26.7631,26.9293,27.178,27.3437, 27.5089,27.6748,27.8407,28.0898,28.2561 ,28.422,28.5883,28.7541,28.9197,29.1679 ,29.3338,29.4994,29.6649,29.8302, 29.9953,30.1606,30.3254,30.4905,30.6556 ,30.9024,31.0689,31.3164,31.4814, 31.6464,31.8113,31.9761,32.2234,32.3879 ,32.5525,32.7171,32.8816,33.046,33.2103 ,33.3746,33.5388,33.7032,34.0313,34.32)
FOOTPRINT_POINT_LONGITUDE = (212.446,212.112,211.881,211.651, 211.423,211.195,210.968,210.906,210.913 ,210.922,210.928,210.934,210.937, 210.941,210.944,210.946,210.949,210.952 ,210.955,210.958,210.96,210.963,210.965 ,210.968,210.97,210.972,210.974,210.977 ,210.979,210.981,210.982,210.984, 210.986,210.988,210.99,210.991,210.993, 210.994,210.996,210.997,210.998,211.0, 211.001,211.003,211.004,211.005,211.006 ,211.007,211.008,211.008,211.1,211.311, 211.642,211.895,212.256,212.436,212.437 ,212.439,212.439,212.44,212.442,212.443 ,212.445,212.446,212.447,212.448, 212.449,212.45,212.45,212.451,212.452, 212.454,212.455,212.456,212.457,212.458 ,212.459,212.46,212.462,212.463,212.464 ,212.466,212.466,212.467,212.468, 212.469,212.47,212.471,212.472,212.473, 212.474,212.475,212.476,212.477,212.478 ,212.479,212.48,212.48,212.482,212.446)
ORBIT_NUMBER = 15722
ORBITAL_ECCENTRICITY = 0.575
ORBITAL_INCLINATION = 86.94
ORBITAL_SEMIMAJOR_AXIS = 8834.38
PERIAPSIS_ALTITUDE = 361.79
PERIAPSIS_ARGUMENT_ANGLE = 149.47
PERIAPSIS_TIME = 2016-05-28T06:47:26.000Z
SPACECRAFT_ORIENTATION = (0.0,-1.0,0.0)
^MEX_ORIENTATION_DESC = "MEX_ORIENTATION_DESC.TXT"
SPACECRAFT_POINTING_MODE = ACROSSTRACK
^MEX_POINTING_DESC = "MEX_POINTING_DESC.TXT"
RIGHT_ASCENSION = -1e+32
DECLINATION = -1e+32
OFFSET_ANGLE = 0.39
SPACECRAFT_SOLAR_DISTANCE = 2.26519e+08
TARGET_NAME = MARS
/* CAMERA DATA ELEMENTS */
DETECTOR_TEMPERATURE = 18.1666
FOCAL_PLANE_TEMPERATURE = 8.3794
INST_CMPRS_NAME = "DISCRETE COSINE TRANSFORMATION (DCT)"
INST_CMPRS_RATIO = 5.20011
INST_CMPRS_QUALITY = 0
INST_CMPRS_QUANTZ_TBL_ID = 0
INSTRUMENT_TEMPERATURE = 11.8457
LENS_TEMPERATURE = 9.3989
MACROPIXEL_SIZE = 4
MISSING_FRAMES = 0
PIXEL_SUBSAMPLING_FLAG = N
SIGNAL_CHAIN_ID = 3
/* RADIOMETRIC DATA ELEMENTS */
BANDWIDTH = 174.0
CENTER_FILTER_WAVELENGTH = 675.0
RADIANCE_OFFSET = 2.05881
RADIANCE_SCALING_FACTOR = 0.0211533
REFLECTANCE_SCALING_FACTOR = 0.000583813
MEX:REFLECTANCE_OFFSET = 0.0568215
/* IMAGE OBJECT DEFINITIONS */
OBJECT = IMAGE
  INTERCHANGE_FORMAT = BINARY
  LINES = 9806
  LINE_SAMPLES = 1611
  SAMPLE_TYPE = UNSIGNED_INTEGER
  SAMPLE_BITS = 8
  BANDS = 1
  BAND_STORAGE_TYPE = BAND_SEQUENTIAL
  MAXIMUM = 255
  MEAN = 97.2325
  MINIMUM = 1
  STANDARD_DEVIATION = 30.2965
END_OBJECT = IMAGE
/* MAP OBJECT DEFINITIONS */
OBJECT = IMAGE_MAP_PROJECTION
  ^DATA_SET_MAP_PROJECTION_CATALOG= "DSMAP.CAT"
  A_AXIS_RADIUS = 3396.0
  B_AXIS_RADIUS = 3396.0
  C_AXIS_RADIUS = 3396.0
  CENTER_LATITUDE = 0.0
  CENTER_LONGITUDE = 212.0
  COORDINATE_SYSTEM_NAME = PLANETOGRAPHIC
  COORDINATE_SYSTEM_TYPE = "BODY-FIXED ROTATING"
  EASTERNMOST_LONGITUDE = 212.482
  FIRST_STANDARD_PARALLEL = "N/A"
  LINE_FIRST_PIXEL = 1
  LINE_LAST_PIXEL = 9806
  LINE_PROJECTION_OFFSET = 40665.875
  MAP_PROJECTION_ROTATION = 0.0
  MAP_PROJECTION_TYPE = SINUSOIDAL
  MAP_RESOLUTION = 1185.42760773333
  MAP_SCALE = 0.05
  MAXIMUM_LATITUDE = 34.3283
  MINIMUM_LATITUDE = 26.0176
  POSITIVE_LONGITUDE_DIRECTION = EAST
  REFERENCE_LATITUDE = "N/A"
  REFERENCE_LONGITUDE = "N/A"
  SAMPLE_FIRST_PIXEL = 1
  SAMPLE_LAST_PIXEL = 1611
  SAMPLE_PROJECTION_OFFSET = 1087.375
  SECOND_STANDARD_PARALLEL = "N/A"
  WESTERNMOST_LONGITUDE = 210.906
END_OBJECT = IMAGE_MAP_PROJECTION
/* The JPEG2000 image data file associated with this label. */
OBJECT = COMPRESSED_FILE
  FILE_NAME = "HF722_0000_P13.JP2"
  RECORD_TYPE = UNDEFINED
  FILE_RECORDS = UNK
  ENCODING_TYPE = "JP2"
  INTERCHANGE_FORMAT = BINARY
  UNCOMPRESSED_FILE_NAME = "HF722_0000_P13.IMG"
  REQUIRED_STORAGE_BYTES = "15816798"
  ^DESCRIPTION = "JP2INFO.TXT"
END_OBJECT = COMPRESSED_FILE
END
