PDS_VERSION_ID = PDS3
/* FILE DATA ELEMENTS */
RECORD_TYPE = STREAM
/* POINTERS TO DATA OBJECTS */
^COMPRESSED_FILE = "HF727_0000_P23.JP2"
/* IDENTIFICATION DATA ELEMENTS */
DATA_SET_ID = "MEX-M-HRSC-5-REFDR-MAPPROJECTED-V3.0"
DATA_SET_NAME = "MARS EXPRESS HRSC MAP PROJECTED REFDR V3.0"
DETECTOR_ID = MEX_HRSC_P2
EVENT_TYPE = "MARS-REGIONAL-MAPPING-Te-Gl-Mw"
INSTRUMENT_HOST_ID = MEX
INSTRUMENT_HOST_NAME = "MARS EXPRESS"
INSTRUMENT_ID = HRSC
INSTRUMENT_NAME = "HIGH RESOLUTION STEREO CAMERA"
MISSION_NAME = "MARS EXPRESS"
MISSION_PHASE_NAME = ME_Phase_34
PROCESSING_LEVEL_ID = 3
PRODUCT_CREATION_TIME = 2016-11-08T12:40:53.000Z
PRODUCT_ID = "HF727_0000_P23.JP2"
RELEASE_ID = 0133
REVISION_ID = 0000
/* QUALITY DATA ELEMENTS */
DATA_QUALITY_ID = 1
DATA_QUALITY_DESC = "Data calculated based on original SPICE kernels"
/* TIME DATA ELEMENTS */
SPACECRAFT_CLOCK_START_COUNT = "1/0412623712.08262"
SPACECRAFT_CLOCK_STOP_COUNT = "1/0412623965.55644"
START_TIME = 2016-05-29T17:43:03.808Z
STOP_TIME = 2016-05-29T17:45:59.915Z
/* ORBITAL DATA ELEMENTS */
ASCENDING_NODE_LONGITUDE = 278.44
MAXIMUM_RESOLUTION = 30
FOOTPRINT_POINT_LATITUDE = (45.4577,45.4496,45.441,45.4319,45.4222 ,45.4547,45.212,44.8477,44.6051,44.24, 43.8769,43.634,43.3903,43.1469,42.783, 42.5398,42.2967,42.0533,41.8103,41.5669 ,41.3219,41.0793,40.8358,40.4713, 40.2278,39.8629,39.6194,39.3762,39.1328 ,38.768,38.5247,38.2812,38.038,37.8005, 37.5967,37.2911,37.087,36.8838,36.68, 36.4752,36.2701,35.9636,35.7596,35.5563 ,35.2507,35.0454,34.742,34.5369,34.2341 ,34.0318,34.0222,34.0285,34.034,34.0385 ,34.0458,34.152,34.3552,34.5593,34.864, 35.0668,35.3712,35.5741,35.7775,35.9812 ,36.288,36.4927,36.6982,36.9032,37.2099 ,37.4145,37.722,37.9349,38.1791,38.4232 ,38.667,38.9101,39.1539,39.3979,39.6418 ,39.886,40.2518,40.4949,40.7387,41.1043 ,41.4698,41.7141,42.0798,42.323,42.5684 ,42.8123,43.1777,43.4215,43.665,43.9077 ,44.152,44.5175,44.8823,45.1256,45.4905 ,45.4577)
FOOTPRINT_POINT_LONGITUDE = (60.9163,60.607,60.2999,59.9951,59.6926 ,59.1557,59.1702,59.1913,59.2051, 59.2252,59.2445,59.2571,59.2694,59.2815 ,59.299,59.3104,59.3215,59.3324,59.343, 59.3533,59.3636,59.3734,59.3831,59.3971 ,59.4061,59.4193,59.4278,59.4361, 59.4442,59.4559,59.4634,59.4708,59.4779 ,59.4847,59.4903,59.4986,59.5039, 59.5091,59.5141,59.5191,59.524,59.531, 59.5355,59.5398,59.5461,59.5503,59.556, 59.5599,59.5652,59.5686,59.9253,60.1502 ,60.3616,60.5741,60.9108,61.1329, 61.1337,61.1354,61.1362,61.1363,61.1367 ,61.1369,61.1375,61.1384,61.141,61.1429 ,61.1456,61.1477,61.1501,61.1517, 61.1548,61.1546,61.1563,61.1581,61.1594 ,61.1599,61.1613,61.1628,61.1641, 61.1657,61.1677,61.1681,61.1693,61.1711 ,61.1726,61.1744,61.1763,61.1767, 61.1799,61.1812,61.1829,61.1843,61.1852 ,61.1854,61.1874,61.1895,61.1907, 61.1918,61.1934,60.9163)
ORBIT_NUMBER = 15727
ORBITAL_ECCENTRICITY = 0.575
ORBITAL_INCLINATION = 86.94
ORBITAL_SEMIMAJOR_AXIS = 8838.08
PERIAPSIS_ALTITUDE = 362.09
PERIAPSIS_ARGUMENT_ANGLE = 148.63
PERIAPSIS_TIME = 2016-05-29T17:46:20.000Z
SPACECRAFT_ORIENTATION = (0.0,-1.0,0.0)
^MEX_ORIENTATION_DESC = "MEX_ORIENTATION_DESC.TXT"
SPACECRAFT_POINTING_MODE = ACROSSTRACK
^MEX_POINTING_DESC = "MEX_POINTING_DESC.TXT"
RIGHT_ASCENSION = -1e+32
DECLINATION = -1e+32
OFFSET_ANGLE = 0.6
SPACECRAFT_SOLAR_DISTANCE = 2.26234e+08
TARGET_NAME = MARS
/* CAMERA DATA ELEMENTS */
DETECTOR_TEMPERATURE = 18.7783
FOCAL_PLANE_TEMPERATURE = 8.3794
INST_CMPRS_NAME = "DISCRETE COSINE TRANSFORMATION (DCT)"
INST_CMPRS_RATIO = 5.72897
INST_CMPRS_QUALITY = 0
INST_CMPRS_QUANTZ_TBL_ID = 0
INSTRUMENT_TEMPERATURE = 11.6418
LENS_TEMPERATURE = 8.7872
MACROPIXEL_SIZE = 2
MISSING_FRAMES = 0
PIXEL_SUBSAMPLING_FLAG = N
SIGNAL_CHAIN_ID = 3
/* RADIOMETRIC DATA ELEMENTS */
BANDWIDTH = 177.0
CENTER_FILTER_WAVELENGTH = 676.5
RADIANCE_OFFSET = 1.43788
RADIANCE_SCALING_FACTOR = 0.0184877
REFLECTANCE_SCALING_FACTOR = 0.000501716
MEX:REFLECTANCE_OFFSET = 0.039021
/* IMAGE OBJECT DEFINITIONS */
OBJECT = IMAGE
  INTERCHANGE_FORMAT = BINARY
  LINES = 27223
  LINE_SAMPLES = 3781
  SAMPLE_TYPE = UNSIGNED_INTEGER
  SAMPLE_BITS = 8
  BANDS = 1
  BAND_STORAGE_TYPE = BAND_SEQUENTIAL
  MAXIMUM = 255
  MEAN = 103.883
  MINIMUM = 1
  STANDARD_DEVIATION = 29.5847
END_OBJECT = IMAGE
/* MAP OBJECT DEFINITIONS */
OBJECT = IMAGE_MAP_PROJECTION
  ^DATA_SET_MAP_PROJECTION_CATALOG= "DSMAP.CAT"
  A_AXIS_RADIUS = 3396.0
  B_AXIS_RADIUS = 3396.0
  C_AXIS_RADIUS = 3396.0
  CENTER_LATITUDE = 0.0
  CENTER_LONGITUDE = 60.0
  COORDINATE_SYSTEM_NAME = PLANETOGRAPHIC
  COORDINATE_SYSTEM_TYPE = "BODY-FIXED ROTATING"
  EASTERNMOST_LONGITUDE = 61.1934
  FIRST_STANDARD_PARALLEL = "N/A"
  LINE_FIRST_PIXEL = 1
  LINE_LAST_PIXEL = 27223
  LINE_PROJECTION_OFFSET = 107889.75
  MAP_PROJECTION_ROTATION = 0.0
  MAP_PROJECTION_TYPE = SINUSOIDAL
  MAP_RESOLUTION = 2370.85521546667
  MAP_SCALE = 0.025
  MAXIMUM_LATITUDE = 45.4905
  MINIMUM_LATITUDE = 34.0222
  POSITIVE_LONGITUDE_DIRECTION = EAST
  REFERENCE_LATITUDE = "N/A"
  REFERENCE_LONGITUDE = "N/A"
  SAMPLE_FIRST_PIXEL = 1
  SAMPLE_LAST_PIXEL = 3781
  SAMPLE_PROJECTION_OFFSET = 1447.75
  SECOND_STANDARD_PARALLEL = "N/A"
  WESTERNMOST_LONGITUDE = 59.1557
END_OBJECT = IMAGE_MAP_PROJECTION
/* The JPEG2000 image data file associated with this label. */
OBJECT = COMPRESSED_FILE
  FILE_NAME = "HF727_0000_P23.JP2"
  RECORD_TYPE = UNDEFINED
  FILE_RECORDS = UNK
  ENCODING_TYPE = "JP2"
  INTERCHANGE_FORMAT = BINARY
  UNCOMPRESSED_FILE_NAME = "HF727_0000_P23.IMG"
  REQUIRED_STORAGE_BYTES = "102952849"
  ^DESCRIPTION = "JP2INFO.TXT"
END_OBJECT = COMPRESSED_FILE
END
