PDS_VERSION_ID = PDS3
/* FILE DATA ELEMENTS */
RECORD_TYPE = STREAM
/* POINTERS TO DATA OBJECTS */
^COMPRESSED_FILE = "HF727_0000_RE3.JP2"
/* IDENTIFICATION DATA ELEMENTS */
DATA_SET_ID = "MEX-M-HRSC-5-REFDR-MAPPROJECTED-V3.0"
DATA_SET_NAME = "MARS EXPRESS HRSC MAP PROJECTED REFDR V3.0"
DETECTOR_ID = MEX_HRSC_RED
EVENT_TYPE = "MARS-REGIONAL-MAPPING-Te-Gl-Mw"
INSTRUMENT_HOST_ID = MEX
INSTRUMENT_HOST_NAME = "MARS EXPRESS"
INSTRUMENT_ID = HRSC
INSTRUMENT_NAME = "HIGH RESOLUTION STEREO CAMERA"
MISSION_NAME = "MARS EXPRESS"
MISSION_PHASE_NAME = ME_Phase_34
PROCESSING_LEVEL_ID = 3
PRODUCT_CREATION_TIME = 2016-11-08T12:40:53.000Z
PRODUCT_ID = "HF727_0000_RE3.JP2"
RELEASE_ID = 0133
REVISION_ID = 0000
/* QUALITY DATA ELEMENTS */
DATA_QUALITY_ID = 1
DATA_QUALITY_DESC = "Data calculated based on original SPICE kernels"
/* TIME DATA ELEMENTS */
SPACECRAFT_CLOCK_START_COUNT = "1/0412623712.08262"
SPACECRAFT_CLOCK_STOP_COUNT = "1/0412623965.55644"
START_TIME = 2016-05-29T17:43:09.867Z
STOP_TIME = 2016-05-29T17:46:05.567Z
/* ORBITAL DATA ELEMENTS */
ASCENDING_NODE_LONGITUDE = 278.44
MAXIMUM_RESOLUTION = 60.8
FOOTPRINT_POINT_LATITUDE = (45.4644,45.4541,45.445,45.4353,45.4253 ,45.4149,45.404,45.0935,44.8485,44.4807 ,44.2353,43.8687,43.6235,43.3775, 43.1319,42.7644,42.5193,42.1511,41.9057 ,41.6605,41.4152,41.1679,40.9237, 40.6772,40.4333,40.1877,39.8201,39.5748 ,39.3299,38.9626,38.7175,38.4725, 38.1205,37.9156,37.7104,37.5057,37.3005 ,36.9933,36.7883,36.5823,36.3764, 36.1699,35.9644,35.7592,35.555,35.3516, 35.1428,34.941,34.6317,34.4252,34.2261, 34.016,34.0253,34.0316,34.0376,34.0447, 34.0565,34.362,34.5672,34.8731,35.0767, 35.3824,35.5861,35.7904,35.9952,36.3039 ,36.51,36.717,36.9234,37.2322,37.4382, 37.7479,37.9518,38.1575,38.5081,38.7528 ,39.121,39.3668,39.6123,39.8583,40.1042 ,40.3497,40.5942,40.8404,41.2086, 41.5773,41.824,42.0696,42.3147,42.5626, 42.8086,43.1774,43.4235,43.6692,43.914, 44.1608,44.5299,44.7756,45.1441, 45.4644)
FOOTPRINT_POINT_LONGITUDE = (61.1285,60.775,60.48,60.1869,59.8962, 59.6076,59.3204,59.1882,59.2021,59.2226 ,59.2358,59.255,59.2675,59.2798,59.2918 ,59.3092,59.3205,59.337,59.3476,59.358, 59.3682,59.3782,59.3878,59.3973,59.4064 ,59.4154,59.4284,59.4368,59.445,59.4568 ,59.4645,59.4719,59.4822,59.488,59.4937 ,59.4992,59.5046,59.5125,59.5175, 59.5225,59.5273,59.5321,59.5366,59.5411 ,59.5453,59.5495,59.5536,59.5575, 59.5632,59.5669,59.5703,59.7725,60.031, 60.2332,60.4369,60.7294,61.1346,61.1353 ,61.1369,61.1376,61.1377,61.138,61.1381 ,61.1386,61.1395,61.142,61.1439,61.1466 ,61.1486,61.1509,61.1525,61.1555, 61.1552,61.1563,61.1589,61.1595,61.1613 ,61.1628,61.1639,61.1655,61.1669, 61.1679,61.168,61.1696,61.1709,61.1726, 61.1745,61.1755,61.1759,61.1789,61.1801 ,61.1818,61.183,61.1839,61.184,61.186, 61.1878,61.1888,61.1901,61.1285)
ORBIT_NUMBER = 15727
ORBITAL_ECCENTRICITY = 0.575
ORBITAL_INCLINATION = 86.94
ORBITAL_SEMIMAJOR_AXIS = 8838.08
PERIAPSIS_ALTITUDE = 362.09
PERIAPSIS_ARGUMENT_ANGLE = 148.63
PERIAPSIS_TIME = 2016-05-29T17:46:20.000Z
SPACECRAFT_ORIENTATION = (0.0,-1.0,0.0)
^MEX_ORIENTATION_DESC = "MEX_ORIENTATION_DESC.TXT"
SPACECRAFT_POINTING_MODE = ACROSSTRACK
^MEX_POINTING_DESC = "MEX_POINTING_DESC.TXT"
RIGHT_ASCENSION = -1e+32
DECLINATION = -1e+32
OFFSET_ANGLE = 0.6
SPACECRAFT_SOLAR_DISTANCE = 2.26234e+08
TARGET_NAME = MARS
/* CAMERA DATA ELEMENTS */
DETECTOR_TEMPERATURE = 18.7783
FOCAL_PLANE_TEMPERATURE = 8.3794
INST_CMPRS_NAME = "DISCRETE COSINE TRANSFORMATION (DCT)"
INST_CMPRS_RATIO = 9.64273
INST_CMPRS_QUALITY = 0
INST_CMPRS_QUANTZ_TBL_ID = 0
INSTRUMENT_TEMPERATURE = 11.6418
LENS_TEMPERATURE = 8.7872
MACROPIXEL_SIZE = 4
MISSING_FRAMES = 0
PIXEL_SUBSAMPLING_FLAG = N
SIGNAL_CHAIN_ID = 2
/* RADIOMETRIC DATA ELEMENTS */
BANDWIDTH = 48.0
CENTER_FILTER_WAVELENGTH = 748.0
RADIANCE_OFFSET = 0.367316
RADIANCE_SCALING_FACTOR = 0.00554261
REFLECTANCE_SCALING_FACTOR = 0.000647381
MEX:REFLECTANCE_OFFSET = 0.0429027
/* IMAGE OBJECT DEFINITIONS */
OBJECT = IMAGE
  INTERCHANGE_FORMAT = BINARY
  LINES = 13612
  LINE_SAMPLES = 1891
  SAMPLE_TYPE = UNSIGNED_INTEGER
  SAMPLE_BITS = 8
  BANDS = 1
  BAND_STORAGE_TYPE = BAND_SEQUENTIAL
  MAXIMUM = 255
  MEAN = 103.465
  MINIMUM = 1
  STANDARD_DEVIATION = 31.0765
END_OBJECT = IMAGE
/* MAP OBJECT DEFINITIONS */
OBJECT = IMAGE_MAP_PROJECTION
  ^DATA_SET_MAP_PROJECTION_CATALOG= "DSMAP.CAT"
  A_AXIS_RADIUS = 3396.0
  B_AXIS_RADIUS = 3396.0
  C_AXIS_RADIUS = 3396.0
  CENTER_LATITUDE = 0.0
  CENTER_LONGITUDE = 60.0
  COORDINATE_SYSTEM_NAME = PLANETOGRAPHIC
  COORDINATE_SYSTEM_TYPE = "BODY-FIXED ROTATING"
  EASTERNMOST_LONGITUDE = 61.1901
  FIRST_STANDARD_PARALLEL = "N/A"
  LINE_FIRST_PIXEL = 1
  LINE_LAST_PIXEL = 13612
  LINE_PROJECTION_OFFSET = 53944.625
  MAP_PROJECTION_ROTATION = 0.0
  MAP_PROJECTION_TYPE = SINUSOIDAL
  MAP_RESOLUTION = 1185.42760773333
  MAP_SCALE = 0.05
  MAXIMUM_LATITUDE = 45.4644
  MINIMUM_LATITUDE = 34.016
  POSITIVE_LONGITUDE_DIRECTION = EAST
  REFERENCE_LATITUDE = "N/A"
  REFERENCE_LONGITUDE = "N/A"
  SAMPLE_FIRST_PIXEL = 1
  SAMPLE_LAST_PIXEL = 1891
  SAMPLE_PROJECTION_OFFSET = 723.625
  SECOND_STANDARD_PARALLEL = "N/A"
  WESTERNMOST_LONGITUDE = 59.1882
END_OBJECT = IMAGE_MAP_PROJECTION
/* The JPEG2000 image data file associated with this label. */
OBJECT = COMPRESSED_FILE
  FILE_NAME = "HF727_0000_RE3.JP2"
  RECORD_TYPE = UNDEFINED
  FILE_RECORDS = UNK
  ENCODING_TYPE = "JP2"
  INTERCHANGE_FORMAT = BINARY
  UNCOMPRESSED_FILE_NAME = "HF727_0000_RE3.IMG"
  REQUIRED_STORAGE_BYTES = "25759202"
  ^DESCRIPTION = "JP2INFO.TXT"
END_OBJECT = COMPRESSED_FILE
END
