PDS_VERSION_ID = PDS3
/* FILE DATA ELEMENTS */
RECORD_TYPE = STREAM
/* POINTERS TO DATA OBJECTS */
^COMPRESSED_FILE = "HF733_0009_BL3.JP2"
/* IDENTIFICATION DATA ELEMENTS */
DATA_SET_ID = "MEX-M-HRSC-5-REFDR-MAPPROJECTED-V3.0"
DATA_SET_NAME = "MARS EXPRESS HRSC MAP PROJECTED REFDR V3.0"
DETECTOR_ID = MEX_HRSC_BLUE
EVENT_TYPE = "MARS-REGIONAL-MAPPING-Te-Gl-Pf"
INSTRUMENT_HOST_ID = MEX
INSTRUMENT_HOST_NAME = "MARS EXPRESS"
INSTRUMENT_ID = HRSC
INSTRUMENT_NAME = "HIGH RESOLUTION STEREO CAMERA"
MISSION_NAME = "MARS EXPRESS"
MISSION_PHASE_NAME = ME_Phase_34
PROCESSING_LEVEL_ID = 3
PRODUCT_CREATION_TIME = 2016-11-08T12:40:53.000Z
PRODUCT_ID = "HF733_0009_BL3.JP2"
RELEASE_ID = 0133
REVISION_ID = 0000
/* QUALITY DATA ELEMENTS */
DATA_QUALITY_ID = 1
DATA_QUALITY_DESC = "Data calculated based on original SPICE kernels"
/* TIME DATA ELEMENTS */
SPACECRAFT_CLOCK_START_COUNT = "1/0412774976.08250"
SPACECRAFT_CLOCK_STOP_COUNT = "1/0412775195.08867"
START_TIME = 2016-05-31T11:43:43.501Z
STOP_TIME = 2016-05-31T11:46:12.588Z
/* ORBITAL DATA ELEMENTS */
ASCENDING_NODE_LONGITUDE = 278.32
MAXIMUM_RESOLUTION = 58.8
FOOTPRINT_POINT_LATITUDE = (37.3503,37.3481,37.3439,37.3402,37.333 ,37.2441,37.0532,36.8618,36.5752, 36.3841,36.1932,35.907,35.7158,35.5246, 35.2375,34.8551,34.5681,34.2817,34.0905 ,33.8993,33.7081,33.5169,33.23,33.0388, 32.8476,32.6564,32.4652,32.274,31.9873, 31.7962,31.6051,31.414,31.2231,31.0318, 30.8408,30.6498,30.4588,30.2678,30.077, 29.8861,29.6952,29.5045,29.3137,29.123, 28.9323,28.7417,28.5512,28.1702,27.7894 ,27.732,27.7342,27.735,27.7358,27.8319, 28.0226,28.2133,28.4041,28.5949,28.8813 ,29.0721,29.2631,29.4541,29.6452, 29.8362,30.0274,30.3141,30.5047,30.6966 ,30.8879,31.0791,31.2706,31.462,31.6534 ,31.8449,32.132,32.3235,32.5149,32.7065 ,32.898,33.0896,33.2811,33.5684,33.76, 33.9515,34.143,34.3346,34.5262,34.7178, 34.9094,35.1011,35.2926,35.58,35.7715, 36.0589,36.2504,36.4419,36.6334,36.8249 ,37.0163,37.3503)
FOOTPRINT_POINT_LONGITUDE = (166.428,166.162,165.779,165.498, 165.056,164.824,164.831,164.839,164.849 ,164.855,164.861,164.87,164.876,164.882 ,164.891,164.903,164.911,164.918, 164.923,164.928,164.933,164.938,164.945 ,164.95,164.954,164.958,164.962,164.967 ,164.972,164.976,164.98,164.984,164.987 ,164.991,164.994,164.997,165.0,165.004, 165.006,165.009,165.012,165.015,165.017 ,165.02,165.022,165.024,165.026,165.03, 165.034,165.292,165.672,165.889,166.297 ,166.491,166.491,166.491,166.49,166.49, 166.489,166.489,166.488,166.488,166.487 ,166.486,166.486,166.485,166.483, 166.484,166.483,166.483,166.482,166.482 ,166.481,166.481,166.48,166.479,166.478 ,166.477,166.477,166.476,166.475, 166.474,166.473,166.472,166.471,166.47, 166.47,166.469,166.468,166.467,166.466, 166.465,166.464,166.462,166.461,166.46, 166.459,166.458,166.457,166.428)
ORBIT_NUMBER = 15733
ORBITAL_ECCENTRICITY = 0.575
ORBITAL_INCLINATION = 86.93
ORBITAL_SEMIMAJOR_AXIS = 8827.93
PERIAPSIS_ALTITUDE = 363.55
PERIAPSIS_ARGUMENT_ANGLE = 147.58
PERIAPSIS_TIME = 2016-05-31T11:44:55.000Z
SPACECRAFT_ORIENTATION = (0.0,-1.0,0.0)
^MEX_ORIENTATION_DESC = "MEX_ORIENTATION_DESC.TXT"
SPACECRAFT_POINTING_MODE = NADIR
^MEX_POINTING_DESC = "MEX_POINTING_DESC.TXT"
RIGHT_ASCENSION = -1e+32
DECLINATION = -1e+32
OFFSET_ANGLE = -1e+32
SPACECRAFT_SOLAR_DISTANCE = 2.25892e+08
TARGET_NAME = MARS
/* CAMERA DATA ELEMENTS */
DETECTOR_TEMPERATURE = 18.7783
FOCAL_PLANE_TEMPERATURE = 8.7872
INST_CMPRS_NAME = "DISCRETE COSINE TRANSFORMATION (DCT)"
INST_CMPRS_RATIO = 5.50576
INST_CMPRS_QUALITY = 0
INST_CMPRS_QUANTZ_TBL_ID = 0
INSTRUMENT_TEMPERATURE = 12.0496
LENS_TEMPERATURE = 9.3989
MACROPIXEL_SIZE = 4
MISSING_FRAMES = 0
PIXEL_SUBSAMPLING_FLAG = N
SIGNAL_CHAIN_ID = 2
/* RADIOMETRIC DATA ELEMENTS */
BANDWIDTH = 76.0
CENTER_FILTER_WAVELENGTH = 444.0
RADIANCE_OFFSET = 0.278726
RADIANCE_SCALING_FACTOR = 0.00179571
REFLECTANCE_SCALING_FACTOR = 9.41447e-05
MEX:REFLECTANCE_OFFSET = 0.0146129
/* IMAGE OBJECT DEFINITIONS */
OBJECT = IMAGE
  INTERCHANGE_FORMAT = BINARY
  LINES = 11411
  LINE_SAMPLES = 1687
  SAMPLE_TYPE = UNSIGNED_INTEGER
  SAMPLE_BITS = 8
  BANDS = 1
  BAND_STORAGE_TYPE = BAND_SEQUENTIAL
  MAXIMUM = 255
  MEAN = 112.532
  MINIMUM = 1
  STANDARD_DEVIATION = 15.4059
END_OBJECT = IMAGE
/* MAP OBJECT DEFINITIONS */
OBJECT = IMAGE_MAP_PROJECTION
  ^DATA_SET_MAP_PROJECTION_CATALOG= "DSMAP.CAT"
  A_AXIS_RADIUS = 3396.0
  B_AXIS_RADIUS = 3396.0
  C_AXIS_RADIUS = 3396.0
  CENTER_LATITUDE = 0.0
  CENTER_LONGITUDE = 166.0
  COORDINATE_SYSTEM_NAME = PLANETOGRAPHIC
  COORDINATE_SYSTEM_TYPE = "BODY-FIXED ROTATING"
  EASTERNMOST_LONGITUDE = 166.491
  FIRST_STANDARD_PARALLEL = "N/A"
  LINE_FIRST_PIXEL = 1
  LINE_LAST_PIXEL = 11411
  LINE_PROJECTION_OFFSET = 44288.375
  MAP_PROJECTION_ROTATION = 0.0
  MAP_PROJECTION_TYPE = SINUSOIDAL
  MAP_RESOLUTION = 1185.42760773333
  MAP_SCALE = 0.05
  MAXIMUM_LATITUDE = 37.3503
  MINIMUM_LATITUDE = 27.732
  POSITIVE_LONGITUDE_DIRECTION = EAST
  REFERENCE_LATITUDE = "N/A"
  REFERENCE_LONGITUDE = "N/A"
  SAMPLE_FIRST_PIXEL = 1
  SAMPLE_LAST_PIXEL = 1687
  SAMPLE_PROJECTION_OFFSET = 1142.125
  SECOND_STANDARD_PARALLEL = "N/A"
  WESTERNMOST_LONGITUDE = 164.824
END_OBJECT = IMAGE_MAP_PROJECTION
/* The JPEG2000 image data file associated with this label. */
OBJECT = COMPRESSED_FILE
  FILE_NAME = "HF733_0009_BL3.JP2"
  RECORD_TYPE = UNDEFINED
  FILE_RECORDS = UNK
  ENCODING_TYPE = "JP2"
  INTERCHANGE_FORMAT = BINARY
  UNCOMPRESSED_FILE_NAME = "HF733_0009_BL3.IMG"
  REQUIRED_STORAGE_BYTES = "19270601"
  ^DESCRIPTION = "JP2INFO.TXT"
END_OBJECT = COMPRESSED_FILE
END
