PDS_VERSION_ID = PDS3
/* FILE DATA ELEMENTS */
RECORD_TYPE = STREAM
/* POINTERS TO DATA OBJECTS */
^COMPRESSED_FILE = "HF741_0000_S13.JP2"
/* IDENTIFICATION DATA ELEMENTS */
DATA_SET_ID = "MEX-M-HRSC-5-REFDR-MAPPROJECTED-V3.0"
DATA_SET_NAME = "MARS EXPRESS HRSC MAP PROJECTED REFDR V3.0"
DETECTOR_ID = MEX_HRSC_S1
EVENT_TYPE = "MARS-REGIONAL-MAPPING-Te-Im-Fl"
INSTRUMENT_HOST_ID = MEX
INSTRUMENT_HOST_NAME = "MARS EXPRESS"
INSTRUMENT_ID = HRSC
INSTRUMENT_NAME = "HIGH RESOLUTION STEREO CAMERA"
MISSION_NAME = "MARS EXPRESS"
MISSION_PHASE_NAME = ME_Phase_34
PROCESSING_LEVEL_ID = 3
PRODUCT_CREATION_TIME = 2016-11-08T12:40:53.000Z
PRODUCT_ID = "HF741_0000_S13.JP2"
RELEASE_ID = 0133
REVISION_ID = 0000
/* QUALITY DATA ELEMENTS */
DATA_QUALITY_ID = 1
DATA_QUALITY_DESC = "Data calculated based on original SPICE kernels"
/* TIME DATA ELEMENTS */
SPACECRAFT_CLOCK_START_COUNT = "1/0412976544.08286"
SPACECRAFT_CLOCK_STOP_COUNT = "1/0412976769.33565"
START_TIME = 2016-06-02T19:42:31.582Z
STOP_TIME = 2016-06-02T19:45:04.319Z
/* ORBITAL DATA ELEMENTS */
ASCENDING_NODE_LONGITUDE = 278.17
MAXIMUM_RESOLUTION = 30.7
FOOTPRINT_POINT_LATITUDE = (33.3184,33.326,33.3318,33.3368,33.3411 ,33.3447,33.3477,33.1249,32.9351, 32.7444,32.5537,32.3631,32.1718,31.9811 ,31.7912,31.6007,31.4097,31.1253, 30.9331,30.6479,30.4572,30.2613,30.0716 ,29.8794,29.686,29.3984,29.1106,28.9189 ,28.7272,28.5365,28.3446,28.1509, 27.9598,27.7633,27.473,27.2831,27.0904, 26.8977,26.7043,26.4145,26.2212,26.028, 25.7381,25.5462,25.3535,25.1604,24.9365 ,24.5918,24.359,24.1293,23.8979,23.6673 ,23.4091,23.3996,23.3932,23.3796, 23.3696,23.6009,23.8329,24.0638,24.2948 ,24.5251,24.7569,25.1024,25.2968, 25.5872,25.7807,26.071,26.2637,26.458, 26.6447,26.9341,27.1278,27.326,27.5191, 27.7071,27.8987,28.0905,28.2834,28.4767 ,28.6754,29.0509,29.339,29.5317,29.7289 ,30.0195,30.2114,30.5853,30.8728, 31.0647,31.353,31.5484,31.7351,31.9228, 32.115,32.3094,32.6017,32.7887,32.9782, 33.3184)
FOOTPRINT_POINT_LONGITUDE = (68.5793,68.2961,68.0592,67.8238, 67.5901,67.3576,67.1264,67.0657,67.0688 ,67.0718,67.0748,67.0776,67.0803,67.083 ,67.0856,67.088,67.0904,67.0939,67.096, 67.0991,67.1011,67.1027,67.1045,67.1062 ,67.1077,67.1098,67.1119,67.1131, 67.1143,67.1154,67.1164,67.1173,67.1181 ,67.1187,67.1195,67.1202,67.1207, 67.1211,67.1213,67.1216,67.1217,67.1217 ,67.1216,67.1215,67.1213,67.121,67.1207 ,67.1199,67.1191,67.1184,67.1174, 67.1164,67.2929,67.679,67.929,68.308, 68.5546,68.5554,68.5559,68.557,68.558, 68.5593,68.5598,68.5609,68.5611,68.5622 ,68.5629,68.564,68.5651,68.5653,68.57, 68.5714,68.5718,68.5695,68.5702,68.574, 68.5756,68.5771,68.5778,68.5782,68.5753 ,68.5828,68.5844,68.585,68.5827,68.5824 ,68.5834,68.5914,68.5927,68.5934, 68.5941,68.5924,68.5963,68.5994,68.5997 ,68.5983,68.5958,68.5992,68.6008, 68.5793)
ORBIT_NUMBER = 15741
ORBITAL_ECCENTRICITY = 0.575
ORBITAL_INCLINATION = 86.94
ORBITAL_SEMIMAJOR_AXIS = 8834.51
PERIAPSIS_ALTITUDE = 363.2
PERIAPSIS_ARGUMENT_ANGLE = 146.19
PERIAPSIS_TIME = 2016-06-02T19:42:57.000Z
SPACECRAFT_ORIENTATION = (0.0,-1.0,0.0)
^MEX_ORIENTATION_DESC = "MEX_ORIENTATION_DESC.TXT"
SPACECRAFT_POINTING_MODE = ACROSSTRACK
^MEX_POINTING_DESC = "MEX_POINTING_DESC.TXT"
RIGHT_ASCENSION = -1e+32
DECLINATION = -1e+32
OFFSET_ANGLE = 0.5
SPACECRAFT_SOLAR_DISTANCE = 2.25436e+08
TARGET_NAME = MARS
/* CAMERA DATA ELEMENTS */
DETECTOR_TEMPERATURE = 18.3705
FOCAL_PLANE_TEMPERATURE = 8.9911
INST_CMPRS_NAME = "DISCRETE COSINE TRANSFORMATION (DCT)"
INST_CMPRS_RATIO = 4.80277
INST_CMPRS_QUALITY = 0
INST_CMPRS_QUANTZ_TBL_ID = 0
INSTRUMENT_TEMPERATURE = 12.2535
LENS_TEMPERATURE = 9.8067
MACROPIXEL_SIZE = 2
MISSING_FRAMES = 0
PIXEL_SUBSAMPLING_FLAG = N
SIGNAL_CHAIN_ID = 1
/* RADIOMETRIC DATA ELEMENTS */
BANDWIDTH = 180.0
CENTER_FILTER_WAVELENGTH = 677.0
RADIANCE_OFFSET = 2.11101
RADIANCE_SCALING_FACTOR = 0.0200426
REFLECTANCE_SCALING_FACTOR = 0.000531426
MEX:REFLECTANCE_OFFSET = 0.0559731
/* IMAGE OBJECT DEFINITIONS */
OBJECT = IMAGE
  INTERCHANGE_FORMAT = BINARY
  LINES = 23512
  LINE_SAMPLES = 3360
  SAMPLE_TYPE = UNSIGNED_INTEGER
  SAMPLE_BITS = 8
  BANDS = 1
  BAND_STORAGE_TYPE = BAND_SEQUENTIAL
  MAXIMUM = 255
  MEAN = 115.864
  MINIMUM = 1
  STANDARD_DEVIATION = 31.735
END_OBJECT = IMAGE
/* MAP OBJECT DEFINITIONS */
OBJECT = IMAGE_MAP_PROJECTION
  ^DATA_SET_MAP_PROJECTION_CATALOG= "DSMAP.CAT"
  A_AXIS_RADIUS = 3396.0
  B_AXIS_RADIUS = 3396.0
  C_AXIS_RADIUS = 3396.0
  CENTER_LATITUDE = 0.0
  CENTER_LONGITUDE = 68.0
  COORDINATE_SYSTEM_NAME = PLANETOGRAPHIC
  COORDINATE_SYSTEM_TYPE = "BODY-FIXED ROTATING"
  EASTERNMOST_LONGITUDE = 68.60080000000001
  FIRST_STANDARD_PARALLEL = "N/A"
  LINE_FIRST_PIXEL = 1
  LINE_LAST_PIXEL = 23512
  LINE_PROJECTION_OFFSET = 78924.25
  MAP_PROJECTION_ROTATION = 0.0
  MAP_PROJECTION_TYPE = SINUSOIDAL
  MAP_RESOLUTION = 2370.85521546667
  MAP_SCALE = 0.025
  MAXIMUM_LATITUDE = 33.3477
  MINIMUM_LATITUDE = 23.3696
  POSITIVE_LONGITUDE_DIRECTION = EAST
  REFERENCE_LATITUDE = "N/A"
  REFERENCE_LONGITUDE = "N/A"
  SAMPLE_FIRST_PIXEL = 1
  SAMPLE_LAST_PIXEL = 3360
  SAMPLE_PROJECTION_OFFSET = 1988.25
  SECOND_STANDARD_PARALLEL = "N/A"
  WESTERNMOST_LONGITUDE = 67.06570000000001
END_OBJECT = IMAGE_MAP_PROJECTION
/* The JPEG2000 image data file associated with this label. */
OBJECT = COMPRESSED_FILE
  FILE_NAME = "HF741_0000_S13.JP2"
  RECORD_TYPE = UNDEFINED
  FILE_RECORDS = UNK
  ENCODING_TYPE = "JP2"
  INTERCHANGE_FORMAT = BINARY
  UNCOMPRESSED_FILE_NAME = "HF741_0000_S13.IMG"
  REQUIRED_STORAGE_BYTES = "79023840"
  ^DESCRIPTION = "JP2INFO.TXT"
END_OBJECT = COMPRESSED_FILE
END
